BEGIN:VCALENDAR
VERSION:2.0
PRODID:-//Sudbury &amp; District Dental Society - ECPv6.15.20//NONSGML v1.0//EN
CALSCALE:GREGORIAN
METHOD:PUBLISH
X-WR-CALNAME:Sudbury &amp; District Dental Society
X-ORIGINAL-URL:https://sudburydistrictdentalsociety.ca
X-WR-CALDESC:Events for Sudbury &amp; District Dental Society
REFRESH-INTERVAL;VALUE=DURATION:PT1H
X-Robots-Tag:noindex
X-PUBLISHED-TTL:PT1H
BEGIN:VTIMEZONE
TZID:UTC
BEGIN:STANDARD
TZOFFSETFROM:+0000
TZOFFSETTO:+0000
TZNAME:UTC
DTSTART:20250101T000000
END:STANDARD
END:VTIMEZONE
BEGIN:VEVENT
DTSTART;VALUE=DATE:20260101
DTEND;VALUE=DATE:20260103
DTSTAMP:20260422T133420
CREATED:20260114T174514Z
LAST-MODIFIED:20260114T174514Z
UID:5326-1767229200-1767315599@sudburydistrictdentalsociety.ca
SUMMARY:NO ONE
DESCRIPTION:
URL:https://sudburydistrictdentalsociety.ca/oncall/no-one-3/
END:VEVENT
BEGIN:VEVENT
DTSTART;VALUE=DATE:20260101
DTEND;VALUE=DATE:20260103
DTSTAMP:20260422T133420
CREATED:20260114T201857Z
LAST-MODIFIED:20260114T201857Z
UID:5691-1767229200-1767315599@sudburydistrictdentalsociety.ca
SUMMARY:New Year's Day
DESCRIPTION:
URL:https://sudburydistrictdentalsociety.ca/oncall/new-years-day-4/
END:VEVENT
END:VCALENDAR