BEGIN:VCALENDAR
VERSION:2.0
PRODID:-//Sudbury &amp; District Dental Society - ECPv6.15.20//NONSGML v1.0//EN
CALSCALE:GREGORIAN
METHOD:PUBLISH
X-WR-CALNAME:Sudbury &amp; District Dental Society
X-ORIGINAL-URL:https://sudburydistrictdentalsociety.ca
X-WR-CALDESC:Events for Sudbury &amp; District Dental Society
REFRESH-INTERVAL;VALUE=DURATION:PT1H
X-Robots-Tag:noindex
X-PUBLISHED-TTL:PT1H
BEGIN:VTIMEZONE
TZID:UTC
BEGIN:STANDARD
TZOFFSETFROM:+0000
TZOFFSETTO:+0000
TZNAME:UTC
DTSTART:20250101T000000
END:STANDARD
END:VTIMEZONE
BEGIN:VEVENT
DTSTART;VALUE=DATE:20260518
DTEND;VALUE=DATE:20260520
DTSTAMP:20260422T104249
CREATED:20260114T203755Z
LAST-MODIFIED:20260114T203755Z
UID:5697-1779066000-1779152399@sudburydistrictdentalsociety.ca
SUMMARY:Victoria Day
DESCRIPTION:
URL:https://sudburydistrictdentalsociety.ca/oncall/victoria-day-5/
END:VEVENT
BEGIN:VEVENT
DTSTART;TZID=UTC:20260518T090000
DTEND;TZID=UTC:20260518T090000
DTSTAMP:20260422T104249
CREATED:20260114T182945Z
LAST-MODIFIED:20260114T182945Z
UID:5463-1779094800-1779094800@sudburydistrictdentalsociety.ca
SUMMARY:Dr. Nguyen
DESCRIPTION:
URL:https://sudburydistrictdentalsociety.ca/oncall/dr-nguyen-141/
END:VEVENT
END:VCALENDAR