BEGIN:VCALENDAR
VERSION:2.0
PRODID:-//Sudbury &amp; District Dental Society - ECPv6.15.20//NONSGML v1.0//EN
CALSCALE:GREGORIAN
METHOD:PUBLISH
X-WR-CALNAME:Sudbury &amp; District Dental Society
X-ORIGINAL-URL:https://sudburydistrictdentalsociety.ca
X-WR-CALDESC:Events for Sudbury &amp; District Dental Society
REFRESH-INTERVAL;VALUE=DURATION:PT1H
X-Robots-Tag:noindex
X-PUBLISHED-TTL:PT1H
BEGIN:VTIMEZONE
TZID:UTC
BEGIN:STANDARD
TZOFFSETFROM:+0000
TZOFFSETTO:+0000
TZNAME:UTC
DTSTART:20250101T000000
END:STANDARD
END:VTIMEZONE
BEGIN:VEVENT
DTSTART;VALUE=DATE:20260701
DTEND;VALUE=DATE:20260703
DTSTAMP:20260422T120950
CREATED:20260114T203754Z
LAST-MODIFIED:20260114T203754Z
UID:5696-1782867600-1782953999@sudburydistrictdentalsociety.ca
SUMMARY:Canada Day
DESCRIPTION:
URL:https://sudburydistrictdentalsociety.ca/oncall/canada-day-5/
END:VEVENT
BEGIN:VEVENT
DTSTART;TZID=UTC:20260701T090000
DTEND;TZID=UTC:20260701T090000
DTSTAMP:20260422T120950
CREATED:20260114T190554Z
LAST-MODIFIED:20260114T190554Z
UID:5507-1782896400-1782896400@sudburydistrictdentalsociety.ca
SUMMARY:Dr. Reich
DESCRIPTION:
URL:https://sudburydistrictdentalsociety.ca/oncall/dr-reich-55/
END:VEVENT
END:VCALENDAR