BEGIN:VCALENDAR
VERSION:2.0
PRODID:-//Sudbury &amp; District Dental Society - ECPv6.15.20//NONSGML v1.0//EN
CALSCALE:GREGORIAN
METHOD:PUBLISH
X-WR-CALNAME:Sudbury &amp; District Dental Society
X-ORIGINAL-URL:https://sudburydistrictdentalsociety.ca
X-WR-CALDESC:Events for Sudbury &amp; District Dental Society
REFRESH-INTERVAL;VALUE=DURATION:PT1H
X-Robots-Tag:noindex
X-PUBLISHED-TTL:PT1H
BEGIN:VTIMEZONE
TZID:UTC
BEGIN:STANDARD
TZOFFSETFROM:+0000
TZOFFSETTO:+0000
TZNAME:UTC
DTSTART:20250101T000000
END:STANDARD
END:VTIMEZONE
BEGIN:VEVENT
DTSTART;VALUE=DATE:20260901
DTEND;VALUE=DATE:20260903
DTSTAMP:20260422T150422
CREATED:20260114T201858Z
LAST-MODIFIED:20260114T201858Z
UID:5694-1788224400-1788310799@sudburydistrictdentalsociety.ca
SUMMARY:Labour Day
DESCRIPTION:
URL:https://sudburydistrictdentalsociety.ca/oncall/labour-day-5/
END:VEVENT
BEGIN:VEVENT
DTSTART;TZID=UTC:20260901T080000
DTEND;TZID=UTC:20260901T080000
DTSTAMP:20260422T150422
CREATED:20260114T193531Z
LAST-MODIFIED:20260114T193531Z
UID:5569-1788249600-1788249600@sudburydistrictdentalsociety.ca
SUMMARY:Dr. Montpellier
DESCRIPTION:
URL:https://sudburydistrictdentalsociety.ca/oncall/dr-montpellier-56/
END:VEVENT
END:VCALENDAR