BEGIN:VCALENDAR
VERSION:2.0
PRODID:-//Sudbury &amp; District Dental Society - ECPv6.15.20//NONSGML v1.0//EN
CALSCALE:GREGORIAN
METHOD:PUBLISH
X-WR-CALNAME:Sudbury &amp; District Dental Society
X-ORIGINAL-URL:https://sudburydistrictdentalsociety.ca
X-WR-CALDESC:Events for Sudbury &amp; District Dental Society
REFRESH-INTERVAL;VALUE=DURATION:PT1H
X-Robots-Tag:noindex
X-PUBLISHED-TTL:PT1H
BEGIN:VTIMEZONE
TZID:UTC
BEGIN:STANDARD
TZOFFSETFROM:+0000
TZOFFSETTO:+0000
TZNAME:UTC
DTSTART:20230101T000000
END:STANDARD
END:VTIMEZONE
BEGIN:VEVENT
DTSTART;TZID=UTC:20240719T090000
DTEND;TZID=UTC:20240719T090000
DTSTAMP:20260423T193526
CREATED:20240121T222109Z
LAST-MODIFIED:20240121T222109Z
UID:4738-1721379600-1721379600@sudburydistrictdentalsociety.ca
SUMMARY:Dr. Keenan
DESCRIPTION:
URL:https://sudburydistrictdentalsociety.ca/oncall/dr-keenan-48/
END:VEVENT
BEGIN:VEVENT
DTSTART;TZID=UTC:20240718T080000
DTEND;TZID=UTC:20240718T080000
DTSTAMP:20260423T193526
CREATED:20240121T222109Z
LAST-MODIFIED:20240121T222109Z
UID:4737-1721289600-1721289600@sudburydistrictdentalsociety.ca
SUMMARY:Dr. Keenan
DESCRIPTION:
URL:https://sudburydistrictdentalsociety.ca/oncall/dr-keenan-47/
END:VEVENT
BEGIN:VEVENT
DTSTART;TZID=UTC:20240717T080000
DTEND;TZID=UTC:20240717T080000
DTSTAMP:20260423T193526
CREATED:20240121T222109Z
LAST-MODIFIED:20240121T222109Z
UID:4736-1721203200-1721203200@sudburydistrictdentalsociety.ca
SUMMARY:Dr. Amos
DESCRIPTION:
URL:https://sudburydistrictdentalsociety.ca/oncall/dr-amos-16/
END:VEVENT
BEGIN:VEVENT
DTSTART;TZID=UTC:20240716T080000
DTEND;TZID=UTC:20240716T080000
DTSTAMP:20260423T193526
CREATED:20240121T222109Z
LAST-MODIFIED:20240121T222109Z
UID:4735-1721116800-1721116800@sudburydistrictdentalsociety.ca
SUMMARY:Dr. Gareau
DESCRIPTION:
URL:https://sudburydistrictdentalsociety.ca/oncall/dr-gareau-44/
END:VEVENT
BEGIN:VEVENT
DTSTART;TZID=UTC:20240715T080000
DTEND;TZID=UTC:20240715T080000
DTSTAMP:20260423T193526
CREATED:20240121T222109Z
LAST-MODIFIED:20240121T222109Z
UID:4734-1721030400-1721030400@sudburydistrictdentalsociety.ca
SUMMARY:Dr. Karthikeyan
DESCRIPTION:
URL:https://sudburydistrictdentalsociety.ca/oncall/dr-karthikeyan-11/
END:VEVENT
BEGIN:VEVENT
DTSTART;TZID=UTC:20240714T090000
DTEND;TZID=UTC:20240714T090000
DTSTAMP:20260423T193526
CREATED:20240121T222053Z
LAST-MODIFIED:20240121T222053Z
UID:4733-1720947600-1720947600@sudburydistrictdentalsociety.ca
SUMMARY:Dr. Chintan
DESCRIPTION:
URL:https://sudburydistrictdentalsociety.ca/oncall/dr-chintan-12/
END:VEVENT
BEGIN:VEVENT
DTSTART;TZID=UTC:20240713T090000
DTEND;TZID=UTC:20240713T090000
DTSTAMP:20260423T193526
CREATED:20240121T222053Z
LAST-MODIFIED:20240121T222053Z
UID:4732-1720861200-1720861200@sudburydistrictdentalsociety.ca
SUMMARY:Dr. Chintan
DESCRIPTION:
URL:https://sudburydistrictdentalsociety.ca/oncall/dr-chintan-11/
END:VEVENT
BEGIN:VEVENT
DTSTART;TZID=UTC:20240712T090000
DTEND;TZID=UTC:20240712T090000
DTSTAMP:20260423T193526
CREATED:20240121T222053Z
LAST-MODIFIED:20240121T222053Z
UID:4731-1720774800-1720774800@sudburydistrictdentalsociety.ca
SUMMARY:Dr. Chintan
DESCRIPTION:
URL:https://sudburydistrictdentalsociety.ca/oncall/dr-chintan-10/
END:VEVENT
BEGIN:VEVENT
DTSTART;TZID=UTC:20240711T080000
DTEND;TZID=UTC:20240711T080000
DTSTAMP:20260423T193526
CREATED:20240121T222053Z
LAST-MODIFIED:20240121T222053Z
UID:4730-1720684800-1720684800@sudburydistrictdentalsociety.ca
SUMMARY:Dr. Conaty
DESCRIPTION:
URL:https://sudburydistrictdentalsociety.ca/oncall/dr-conaty-43/
END:VEVENT
BEGIN:VEVENT
DTSTART;TZID=UTC:20240710T080000
DTEND;TZID=UTC:20240710T080000
DTSTAMP:20260423T193526
CREATED:20240121T222053Z
LAST-MODIFIED:20240121T222053Z
UID:4729-1720598400-1720598400@sudburydistrictdentalsociety.ca
SUMMARY:Dr. Richards
DESCRIPTION:
URL:https://sudburydistrictdentalsociety.ca/oncall/dr-richards-41/
END:VEVENT
BEGIN:VEVENT
DTSTART;TZID=UTC:20240709T080000
DTEND;TZID=UTC:20240709T080000
DTSTAMP:20260423T193526
CREATED:20240121T222039Z
LAST-MODIFIED:20240121T222039Z
UID:4728-1720512000-1720512000@sudburydistrictdentalsociety.ca
SUMMARY:Dr. Wilson
DESCRIPTION:
URL:https://sudburydistrictdentalsociety.ca/oncall/dr-wilson-46/
END:VEVENT
BEGIN:VEVENT
DTSTART;TZID=UTC:20240708T080000
DTEND;TZID=UTC:20240708T080000
DTSTAMP:20260423T193526
CREATED:20240121T222038Z
LAST-MODIFIED:20240121T222038Z
UID:4727-1720425600-1720425600@sudburydistrictdentalsociety.ca
SUMMARY:Dr. Grebe
DESCRIPTION:
URL:https://sudburydistrictdentalsociety.ca/oncall/dr-grebe-133/
END:VEVENT
BEGIN:VEVENT
DTSTART;TZID=UTC:20240707T090000
DTEND;TZID=UTC:20240707T090000
DTSTAMP:20260423T193526
CREATED:20240121T222038Z
LAST-MODIFIED:20240121T222038Z
UID:4726-1720342800-1720342800@sudburydistrictdentalsociety.ca
SUMMARY:Dr. Carpentier
DESCRIPTION:
URL:https://sudburydistrictdentalsociety.ca/oncall/dr-carpentier-47/
END:VEVENT
BEGIN:VEVENT
DTSTART;TZID=UTC:20240706T090000
DTEND;TZID=UTC:20240706T090000
DTSTAMP:20260423T193526
CREATED:20240121T222038Z
LAST-MODIFIED:20240121T222038Z
UID:4725-1720256400-1720256400@sudburydistrictdentalsociety.ca
SUMMARY:Dr. Carpentier
DESCRIPTION:
URL:https://sudburydistrictdentalsociety.ca/oncall/dr-carpentier-46/
END:VEVENT
BEGIN:VEVENT
DTSTART;TZID=UTC:20240705T090000
DTEND;TZID=UTC:20240705T090000
DTSTAMP:20260423T193526
CREATED:20240121T222038Z
LAST-MODIFIED:20240121T222038Z
UID:4724-1720170000-1720170000@sudburydistrictdentalsociety.ca
SUMMARY:Dr. Carpentier
DESCRIPTION:
URL:https://sudburydistrictdentalsociety.ca/oncall/dr-carpentier-45/
END:VEVENT
BEGIN:VEVENT
DTSTART;TZID=UTC:20240704T080000
DTEND;TZID=UTC:20240704T080000
DTSTAMP:20260423T193526
CREATED:20240121T222024Z
LAST-MODIFIED:20240121T222024Z
UID:4723-1720080000-1720080000@sudburydistrictdentalsociety.ca
SUMMARY:Dr. Huffman
DESCRIPTION:
URL:https://sudburydistrictdentalsociety.ca/oncall/dr-huffman-11/
END:VEVENT
BEGIN:VEVENT
DTSTART;TZID=UTC:20240703T080000
DTEND;TZID=UTC:20240703T080000
DTSTAMP:20260423T193526
CREATED:20240121T222023Z
LAST-MODIFIED:20240121T222023Z
UID:4722-1719993600-1719993600@sudburydistrictdentalsociety.ca
SUMMARY:Dr. McNicholl
DESCRIPTION:
URL:https://sudburydistrictdentalsociety.ca/oncall/dr-mcnicholl-49/
END:VEVENT
BEGIN:VEVENT
DTSTART;TZID=UTC:20240702T080000
DTEND;TZID=UTC:20240702T080000
DTSTAMP:20260423T193526
CREATED:20240121T222023Z
LAST-MODIFIED:20240121T222023Z
UID:4721-1719907200-1719907200@sudburydistrictdentalsociety.ca
SUMMARY:Dr. Tassone
DESCRIPTION:
URL:https://sudburydistrictdentalsociety.ca/oncall/dr-tassone-48/
END:VEVENT
BEGIN:VEVENT
DTSTART;TZID=UTC:20240701T080000
DTEND;TZID=UTC:20240701T080000
DTSTAMP:20260423T193526
CREATED:20240121T222023Z
LAST-MODIFIED:20240121T222023Z
UID:4720-1719820800-1719820800@sudburydistrictdentalsociety.ca
SUMMARY:Dr. Waszczylo
DESCRIPTION:
URL:https://sudburydistrictdentalsociety.ca/oncall/dr-waszczylo-37/
END:VEVENT
BEGIN:VEVENT
DTSTART;VALUE=DATE:20240701
DTEND;VALUE=DATE:20240703
DTSTAMP:20260423T193526
CREATED:20240121T220712Z
LAST-MODIFIED:20240121T222938Z
UID:4531-1719795600-1719881999@sudburydistrictdentalsociety.ca
SUMMARY:CANADA DAY
DESCRIPTION:
URL:https://sudburydistrictdentalsociety.ca/oncall/canada-day-3/
END:VEVENT
BEGIN:VEVENT
DTSTART;TZID=UTC:20240630T090000
DTEND;TZID=UTC:20240630T090000
DTSTAMP:20260423T193526
CREATED:20240121T222023Z
LAST-MODIFIED:20240121T222023Z
UID:4719-1719738000-1719738000@sudburydistrictdentalsociety.ca
SUMMARY:Dr. Montpellier
DESCRIPTION:
URL:https://sudburydistrictdentalsociety.ca/oncall/dr-montpellier-43/
END:VEVENT
BEGIN:VEVENT
DTSTART;TZID=UTC:20240629T090000
DTEND;TZID=UTC:20240629T090000
DTSTAMP:20260423T193526
CREATED:20240121T222009Z
LAST-MODIFIED:20240121T222009Z
UID:4718-1719651600-1719651600@sudburydistrictdentalsociety.ca
SUMMARY:Dr. Montpellier
DESCRIPTION:
URL:https://sudburydistrictdentalsociety.ca/oncall/dr-montpellier-42/
END:VEVENT
BEGIN:VEVENT
DTSTART;TZID=UTC:20240628T090000
DTEND;TZID=UTC:20240628T090000
DTSTAMP:20260423T193526
CREATED:20240121T222008Z
LAST-MODIFIED:20240121T222008Z
UID:4717-1719565200-1719565200@sudburydistrictdentalsociety.ca
SUMMARY:Dr. Montpellier
DESCRIPTION:
URL:https://sudburydistrictdentalsociety.ca/oncall/dr-montpellier-41/
END:VEVENT
BEGIN:VEVENT
DTSTART;TZID=UTC:20240627T080000
DTEND;TZID=UTC:20240627T080000
DTSTAMP:20260423T193526
CREATED:20240121T222008Z
LAST-MODIFIED:20240121T222008Z
UID:4716-1719475200-1719475200@sudburydistrictdentalsociety.ca
SUMMARY:Dr. Montpellier
DESCRIPTION:
URL:https://sudburydistrictdentalsociety.ca/oncall/dr-montpellier-40/
END:VEVENT
BEGIN:VEVENT
DTSTART;TZID=UTC:20240626T080000
DTEND;TZID=UTC:20240626T080000
DTSTAMP:20260423T193526
CREATED:20240121T222008Z
LAST-MODIFIED:20240121T222008Z
UID:4715-1719388800-1719388800@sudburydistrictdentalsociety.ca
SUMMARY:Dr. Montpellier
DESCRIPTION:
URL:https://sudburydistrictdentalsociety.ca/oncall/dr-montpellier-39/
END:VEVENT
BEGIN:VEVENT
DTSTART;TZID=UTC:20240625T080000
DTEND;TZID=UTC:20240625T080000
DTSTAMP:20260423T193526
CREATED:20240121T222008Z
LAST-MODIFIED:20240121T222008Z
UID:4714-1719302400-1719302400@sudburydistrictdentalsociety.ca
SUMMARY:Dr. Montpellier
DESCRIPTION:
URL:https://sudburydistrictdentalsociety.ca/oncall/dr-montpellier-38/
END:VEVENT
BEGIN:VEVENT
DTSTART;TZID=UTC:20240624T080000
DTEND;TZID=UTC:20240624T080000
DTSTAMP:20260423T193526
CREATED:20240121T221954Z
LAST-MODIFIED:20240121T221954Z
UID:4713-1719216000-1719216000@sudburydistrictdentalsociety.ca
SUMMARY:Dr. Montpellier
DESCRIPTION:
URL:https://sudburydistrictdentalsociety.ca/oncall/dr-montpellier-37/
END:VEVENT
BEGIN:VEVENT
DTSTART;TZID=UTC:20240623T090000
DTEND;TZID=UTC:20240623T090000
DTSTAMP:20260423T193526
CREATED:20240121T221953Z
LAST-MODIFIED:20240121T221953Z
UID:4712-1719133200-1719133200@sudburydistrictdentalsociety.ca
SUMMARY:Dr. Paige
DESCRIPTION:
URL:https://sudburydistrictdentalsociety.ca/oncall/dr-paige-24/
END:VEVENT
BEGIN:VEVENT
DTSTART;TZID=UTC:20240622T090000
DTEND;TZID=UTC:20240622T090000
DTSTAMP:20260423T193526
CREATED:20240121T221953Z
LAST-MODIFIED:20240121T221953Z
UID:4711-1719046800-1719046800@sudburydistrictdentalsociety.ca
SUMMARY:Dr. Paige
DESCRIPTION:
URL:https://sudburydistrictdentalsociety.ca/oncall/dr-paige-23/
END:VEVENT
BEGIN:VEVENT
DTSTART;TZID=UTC:20240621T090000
DTEND;TZID=UTC:20240621T090000
DTSTAMP:20260423T193526
CREATED:20240121T221953Z
LAST-MODIFIED:20240121T221953Z
UID:4710-1718960400-1718960400@sudburydistrictdentalsociety.ca
SUMMARY:Dr. Paige
DESCRIPTION:
URL:https://sudburydistrictdentalsociety.ca/oncall/dr-paige-22/
END:VEVENT
END:VCALENDAR