BEGIN:VCALENDAR
VERSION:2.0
PRODID:-//Sudbury &amp; District Dental Society - ECPv6.15.20//NONSGML v1.0//EN
CALSCALE:GREGORIAN
METHOD:PUBLISH
X-WR-CALNAME:Sudbury &amp; District Dental Society
X-ORIGINAL-URL:https://sudburydistrictdentalsociety.ca
X-WR-CALDESC:Events for Sudbury &amp; District Dental Society
REFRESH-INTERVAL;VALUE=DURATION:PT1H
X-Robots-Tag:noindex
X-PUBLISHED-TTL:PT1H
BEGIN:VTIMEZONE
TZID:UTC
BEGIN:STANDARD
TZOFFSETFROM:+0000
TZOFFSETTO:+0000
TZNAME:UTC
DTSTART:20240101T000000
END:STANDARD
END:VTIMEZONE
BEGIN:VEVENT
DTSTART;TZID=UTC:20250212T080000
DTEND;TZID=UTC:20250212T080000
DTSTAMP:20260423T093454
CREATED:20241231T235407Z
LAST-MODIFIED:20241231T235407Z
UID:4968-1739347200-1739347200@sudburydistrictdentalsociety.ca
SUMMARY:Dr. Nguyen
DESCRIPTION:
URL:https://sudburydistrictdentalsociety.ca/oncall/dr-nguyen-127/
END:VEVENT
BEGIN:VEVENT
DTSTART;TZID=UTC:20250211T080000
DTEND;TZID=UTC:20250211T080000
DTSTAMP:20260423T093454
CREATED:20241231T235406Z
LAST-MODIFIED:20241231T235406Z
UID:4967-1739260800-1739260800@sudburydistrictdentalsociety.ca
SUMMARY:Dr. Nguyen
DESCRIPTION:
URL:https://sudburydistrictdentalsociety.ca/oncall/dr-nguyen-126/
END:VEVENT
BEGIN:VEVENT
DTSTART;TZID=UTC:20250210T080000
DTEND;TZID=UTC:20250210T080000
DTSTAMP:20260423T093454
CREATED:20241231T235406Z
LAST-MODIFIED:20241231T235406Z
UID:4966-1739174400-1739174400@sudburydistrictdentalsociety.ca
SUMMARY:Dr. Nguyen
DESCRIPTION:
URL:https://sudburydistrictdentalsociety.ca/oncall/dr-nguyen-125/
END:VEVENT
BEGIN:VEVENT
DTSTART;TZID=UTC:20250209T090000
DTEND;TZID=UTC:20250209T090000
DTSTAMP:20260423T093454
CREATED:20241231T235352Z
LAST-MODIFIED:20241231T235352Z
UID:4965-1739091600-1739091600@sudburydistrictdentalsociety.ca
SUMMARY:Dr. Grebe
DESCRIPTION:
URL:https://sudburydistrictdentalsociety.ca/oncall/dr-grebe-140/
END:VEVENT
BEGIN:VEVENT
DTSTART;TZID=UTC:20250208T090000
DTEND;TZID=UTC:20250208T090000
DTSTAMP:20260423T093454
CREATED:20241231T235352Z
LAST-MODIFIED:20241231T235352Z
UID:4964-1739005200-1739005200@sudburydistrictdentalsociety.ca
SUMMARY:Dr. Grebe
DESCRIPTION:
URL:https://sudburydistrictdentalsociety.ca/oncall/dr-grebe-139/
END:VEVENT
BEGIN:VEVENT
DTSTART;TZID=UTC:20250207T090000
DTEND;TZID=UTC:20250207T090000
DTSTAMP:20260423T093454
CREATED:20241231T235352Z
LAST-MODIFIED:20241231T235352Z
UID:4963-1738918800-1738918800@sudburydistrictdentalsociety.ca
SUMMARY:Dr. Grebe
DESCRIPTION:
URL:https://sudburydistrictdentalsociety.ca/oncall/dr-grebe-138/
END:VEVENT
BEGIN:VEVENT
DTSTART;TZID=UTC:20250206T080000
DTEND;TZID=UTC:20250206T080000
DTSTAMP:20260423T093454
CREATED:20241231T235351Z
LAST-MODIFIED:20241231T235351Z
UID:4962-1738828800-1738828800@sudburydistrictdentalsociety.ca
SUMMARY:Dr. Grebe
DESCRIPTION:
URL:https://sudburydistrictdentalsociety.ca/oncall/dr-grebe-137/
END:VEVENT
BEGIN:VEVENT
DTSTART;TZID=UTC:20250205T080000
DTEND;TZID=UTC:20250205T080000
DTSTAMP:20260423T093454
CREATED:20241231T235351Z
LAST-MODIFIED:20241231T235351Z
UID:4961-1738742400-1738742400@sudburydistrictdentalsociety.ca
SUMMARY:Dr. Grebe
DESCRIPTION:
URL:https://sudburydistrictdentalsociety.ca/oncall/dr-grebe-136/
END:VEVENT
BEGIN:VEVENT
DTSTART;TZID=UTC:20250204T080000
DTEND;TZID=UTC:20250204T080000
DTSTAMP:20260423T093454
CREATED:20241231T235238Z
LAST-MODIFIED:20241231T235238Z
UID:4960-1738656000-1738656000@sudburydistrictdentalsociety.ca
SUMMARY:Dr. Grebe
DESCRIPTION:
URL:https://sudburydistrictdentalsociety.ca/oncall/dr-grebe-135/
END:VEVENT
BEGIN:VEVENT
DTSTART;TZID=UTC:20250203T080000
DTEND;TZID=UTC:20250203T080000
DTSTAMP:20260423T093454
CREATED:20241231T235238Z
LAST-MODIFIED:20241231T235238Z
UID:4959-1738569600-1738569600@sudburydistrictdentalsociety.ca
SUMMARY:Dr. Grebe
DESCRIPTION:
URL:https://sudburydistrictdentalsociety.ca/oncall/dr-grebe-134/
END:VEVENT
BEGIN:VEVENT
DTSTART;TZID=UTC:20250202T090000
DTEND;TZID=UTC:20250202T090000
DTSTAMP:20260423T093454
CREATED:20241231T235237Z
LAST-MODIFIED:20241231T235237Z
UID:4958-1738486800-1738486800@sudburydistrictdentalsociety.ca
SUMMARY:Dr. Trottier
DESCRIPTION:
URL:https://sudburydistrictdentalsociety.ca/oncall/dr-trottier-51/
END:VEVENT
BEGIN:VEVENT
DTSTART;TZID=UTC:20250201T090000
DTEND;TZID=UTC:20250201T090000
DTSTAMP:20260423T093454
CREATED:20241231T235237Z
LAST-MODIFIED:20241231T235237Z
UID:4957-1738400400-1738400400@sudburydistrictdentalsociety.ca
SUMMARY:Dr. Trottier
DESCRIPTION:
URL:https://sudburydistrictdentalsociety.ca/oncall/dr-trottier-50/
END:VEVENT
BEGIN:VEVENT
DTSTART;TZID=UTC:20250131T090000
DTEND;TZID=UTC:20250131T090000
DTSTAMP:20260423T093454
CREATED:20241231T235237Z
LAST-MODIFIED:20241231T235237Z
UID:4956-1738314000-1738314000@sudburydistrictdentalsociety.ca
SUMMARY:Dr. Tassone
DESCRIPTION:
URL:https://sudburydistrictdentalsociety.ca/oncall/dr-tassone-55/
END:VEVENT
BEGIN:VEVENT
DTSTART;TZID=UTC:20250130T080000
DTEND;TZID=UTC:20250130T080000
DTSTAMP:20260423T093454
CREATED:20241231T235223Z
LAST-MODIFIED:20241231T235223Z
UID:4955-1738224000-1738224000@sudburydistrictdentalsociety.ca
SUMMARY:Dr. Tassone
DESCRIPTION:
URL:https://sudburydistrictdentalsociety.ca/oncall/dr-tassone-54/
END:VEVENT
BEGIN:VEVENT
DTSTART;TZID=UTC:20250129T080000
DTEND;TZID=UTC:20250129T080000
DTSTAMP:20260423T093454
CREATED:20241231T235223Z
LAST-MODIFIED:20241231T235223Z
UID:4954-1738137600-1738137600@sudburydistrictdentalsociety.ca
SUMMARY:Dr. Tassone
DESCRIPTION:
URL:https://sudburydistrictdentalsociety.ca/oncall/dr-tassone-53/
END:VEVENT
BEGIN:VEVENT
DTSTART;TZID=UTC:20250128T080000
DTEND;TZID=UTC:20250128T080000
DTSTAMP:20260423T093454
CREATED:20241231T235222Z
LAST-MODIFIED:20241231T235222Z
UID:4953-1738051200-1738051200@sudburydistrictdentalsociety.ca
SUMMARY:Dr. Tassone
DESCRIPTION:
URL:https://sudburydistrictdentalsociety.ca/oncall/dr-tassone-52/
END:VEVENT
BEGIN:VEVENT
DTSTART;TZID=UTC:20250127T080000
DTEND;TZID=UTC:20250127T080000
DTSTAMP:20260423T093454
CREATED:20241231T235222Z
LAST-MODIFIED:20241231T235222Z
UID:4952-1737964800-1737964800@sudburydistrictdentalsociety.ca
SUMMARY:Dr. Tassone
DESCRIPTION:
URL:https://sudburydistrictdentalsociety.ca/oncall/dr-tassone-51/
END:VEVENT
BEGIN:VEVENT
DTSTART;TZID=UTC:20250126T090000
DTEND;TZID=UTC:20250126T090000
DTSTAMP:20260423T093454
CREATED:20241231T235222Z
LAST-MODIFIED:20241231T235222Z
UID:4951-1737882000-1737882000@sudburydistrictdentalsociety.ca
SUMMARY:Dr. Tassone
DESCRIPTION:
URL:https://sudburydistrictdentalsociety.ca/oncall/dr-tassone-50/
END:VEVENT
BEGIN:VEVENT
DTSTART;TZID=UTC:20250125T090000
DTEND;TZID=UTC:20250125T090000
DTSTAMP:20260423T093454
CREATED:20241231T235207Z
LAST-MODIFIED:20241231T235207Z
UID:4950-1737795600-1737795600@sudburydistrictdentalsociety.ca
SUMMARY:Dr. Tassone
DESCRIPTION:
URL:https://sudburydistrictdentalsociety.ca/oncall/dr-tassone-49/
END:VEVENT
BEGIN:VEVENT
DTSTART;TZID=UTC:20250124T090000
DTEND;TZID=UTC:20250124T090000
DTSTAMP:20260423T093454
CREATED:20241231T235207Z
LAST-MODIFIED:20241231T235207Z
UID:4949-1737709200-1737709200@sudburydistrictdentalsociety.ca
SUMMARY:Dr. Deol
DESCRIPTION:
URL:https://sudburydistrictdentalsociety.ca/oncall/dr-deol-44/
END:VEVENT
BEGIN:VEVENT
DTSTART;TZID=UTC:20250123T080000
DTEND;TZID=UTC:20250123T080000
DTSTAMP:20260423T093454
CREATED:20241231T235206Z
LAST-MODIFIED:20241231T235206Z
UID:4948-1737619200-1737619200@sudburydistrictdentalsociety.ca
SUMMARY:Dr. Deol
DESCRIPTION:
URL:https://sudburydistrictdentalsociety.ca/oncall/dr-deol-43/
END:VEVENT
BEGIN:VEVENT
DTSTART;TZID=UTC:20250122T080000
DTEND;TZID=UTC:20250122T080000
DTSTAMP:20260423T093454
CREATED:20241231T235206Z
LAST-MODIFIED:20241231T235206Z
UID:4947-1737532800-1737532800@sudburydistrictdentalsociety.ca
SUMMARY:Dr. Deol
DESCRIPTION:
URL:https://sudburydistrictdentalsociety.ca/oncall/dr-deol-42/
END:VEVENT
BEGIN:VEVENT
DTSTART;TZID=UTC:20250121T080000
DTEND;TZID=UTC:20250121T080000
DTSTAMP:20260423T093454
CREATED:20241231T235206Z
LAST-MODIFIED:20241231T235206Z
UID:4946-1737446400-1737446400@sudburydistrictdentalsociety.ca
SUMMARY:Dr. Deol
DESCRIPTION:
URL:https://sudburydistrictdentalsociety.ca/oncall/dr-deol-41/
END:VEVENT
BEGIN:VEVENT
DTSTART;TZID=UTC:20250120T080000
DTEND;TZID=UTC:20250120T080000
DTSTAMP:20260423T093454
CREATED:20241231T235151Z
LAST-MODIFIED:20241231T235151Z
UID:4945-1737360000-1737360000@sudburydistrictdentalsociety.ca
SUMMARY:Dr. Deol
DESCRIPTION:
URL:https://sudburydistrictdentalsociety.ca/oncall/dr-deol-40/
END:VEVENT
BEGIN:VEVENT
DTSTART;TZID=UTC:20250119T090000
DTEND;TZID=UTC:20250119T090000
DTSTAMP:20260423T093454
CREATED:20241231T235151Z
LAST-MODIFIED:20241231T235151Z
UID:4944-1737277200-1737277200@sudburydistrictdentalsociety.ca
SUMMARY:Dr. Deol
DESCRIPTION:
URL:https://sudburydistrictdentalsociety.ca/oncall/dr-deol-39/
END:VEVENT
BEGIN:VEVENT
DTSTART;TZID=UTC:20250118T090000
DTEND;TZID=UTC:20250118T090000
DTSTAMP:20260423T093454
CREATED:20241231T235151Z
LAST-MODIFIED:20241231T235151Z
UID:4943-1737190800-1737190800@sudburydistrictdentalsociety.ca
SUMMARY:Dr. Deol
DESCRIPTION:
URL:https://sudburydistrictdentalsociety.ca/oncall/dr-deol-38/
END:VEVENT
BEGIN:VEVENT
DTSTART;TZID=UTC:20250117T090000
DTEND;TZID=UTC:20250117T090000
DTSTAMP:20260423T093454
CREATED:20241231T235150Z
LAST-MODIFIED:20241231T235150Z
UID:4942-1737104400-1737104400@sudburydistrictdentalsociety.ca
SUMMARY:Dr. Han
DESCRIPTION:
URL:https://sudburydistrictdentalsociety.ca/oncall/dr-han-46/
END:VEVENT
BEGIN:VEVENT
DTSTART;TZID=UTC:20250116T080000
DTEND;TZID=UTC:20250116T080000
DTSTAMP:20260423T093454
CREATED:20241231T235150Z
LAST-MODIFIED:20241231T235150Z
UID:4941-1737014400-1737014400@sudburydistrictdentalsociety.ca
SUMMARY:Dr. Carpentier
DESCRIPTION:
URL:https://sudburydistrictdentalsociety.ca/oncall/dr-carpentier-52/
END:VEVENT
BEGIN:VEVENT
DTSTART;TZID=UTC:20250115T080000
DTEND;TZID=UTC:20250115T080000
DTSTAMP:20260423T093454
CREATED:20241231T234959Z
LAST-MODIFIED:20241231T234959Z
UID:4940-1736928000-1736928000@sudburydistrictdentalsociety.ca
SUMMARY:Dr. Floreani
DESCRIPTION:
URL:https://sudburydistrictdentalsociety.ca/oncall/dr-floreani-48/
END:VEVENT
BEGIN:VEVENT
DTSTART;TZID=UTC:20250114T080000
DTEND;TZID=UTC:20250114T080000
DTSTAMP:20260423T093454
CREATED:20241231T234959Z
LAST-MODIFIED:20241231T234959Z
UID:4939-1736841600-1736841600@sudburydistrictdentalsociety.ca
SUMMARY:Dr. Floreani
DESCRIPTION:
URL:https://sudburydistrictdentalsociety.ca/oncall/dr-floreani-47/
END:VEVENT
END:VCALENDAR