BEGIN:VCALENDAR
VERSION:2.0
PRODID:-//Sudbury &amp; District Dental Society - ECPv6.15.20//NONSGML v1.0//EN
CALSCALE:GREGORIAN
METHOD:PUBLISH
X-WR-CALNAME:Sudbury &amp; District Dental Society
X-ORIGINAL-URL:https://sudburydistrictdentalsociety.ca
X-WR-CALDESC:Events for Sudbury &amp; District Dental Society
REFRESH-INTERVAL;VALUE=DURATION:PT1H
X-Robots-Tag:noindex
X-PUBLISHED-TTL:PT1H
BEGIN:VTIMEZONE
TZID:UTC
BEGIN:STANDARD
TZOFFSETFROM:+0000
TZOFFSETTO:+0000
TZNAME:UTC
DTSTART:20230101T000000
END:STANDARD
END:VTIMEZONE
BEGIN:VEVENT
DTSTART;TZID=UTC:20240502T080000
DTEND;TZID=UTC:20240502T080000
DTSTAMP:20260423T205015
CREATED:20240121T221723Z
LAST-MODIFIED:20240121T221723Z
UID:4660-1714636800-1714636800@sudburydistrictdentalsociety.ca
SUMMARY:Dr. Wells
DESCRIPTION:
URL:https://sudburydistrictdentalsociety.ca/oncall/dr-wells-35/
END:VEVENT
BEGIN:VEVENT
DTSTART;TZID=UTC:20240503T090000
DTEND;TZID=UTC:20240503T090000
DTSTAMP:20260423T205015
CREATED:20240121T221723Z
LAST-MODIFIED:20240121T221723Z
UID:4661-1714726800-1714726800@sudburydistrictdentalsociety.ca
SUMMARY:Dr. Sirkka
DESCRIPTION:
URL:https://sudburydistrictdentalsociety.ca/oncall/dr-sirkka-17/
END:VEVENT
BEGIN:VEVENT
DTSTART;TZID=UTC:20240504T090000
DTEND;TZID=UTC:20240504T090000
DTSTAMP:20260423T205015
CREATED:20240121T221723Z
LAST-MODIFIED:20240121T221723Z
UID:4662-1714813200-1714813200@sudburydistrictdentalsociety.ca
SUMMARY:Dr. Sirkka
DESCRIPTION:
URL:https://sudburydistrictdentalsociety.ca/oncall/dr-sirkka-18/
END:VEVENT
BEGIN:VEVENT
DTSTART;TZID=UTC:20240505T090000
DTEND;TZID=UTC:20240505T090000
DTSTAMP:20260423T205015
CREATED:20240121T221724Z
LAST-MODIFIED:20240121T221724Z
UID:4663-1714899600-1714899600@sudburydistrictdentalsociety.ca
SUMMARY:Dr. Sirkka
DESCRIPTION:
URL:https://sudburydistrictdentalsociety.ca/oncall/dr-sirkka-19/
END:VEVENT
BEGIN:VEVENT
DTSTART;TZID=UTC:20240506T080000
DTEND;TZID=UTC:20240506T080000
DTSTAMP:20260423T205015
CREATED:20240121T221738Z
LAST-MODIFIED:20240121T221738Z
UID:4664-1714982400-1714982400@sudburydistrictdentalsociety.ca
SUMMARY:Dr. Martic
DESCRIPTION:
URL:https://sudburydistrictdentalsociety.ca/oncall/dr-martic-47/
END:VEVENT
BEGIN:VEVENT
DTSTART;TZID=UTC:20240507T080000
DTEND;TZID=UTC:20240507T080000
DTSTAMP:20260423T205015
CREATED:20240121T221738Z
LAST-MODIFIED:20240121T221738Z
UID:4665-1715068800-1715068800@sudburydistrictdentalsociety.ca
SUMMARY:Dr. Martic
DESCRIPTION:
URL:https://sudburydistrictdentalsociety.ca/oncall/dr-martic-48/
END:VEVENT
BEGIN:VEVENT
DTSTART;TZID=UTC:20240508T080000
DTEND;TZID=UTC:20240508T080000
DTSTAMP:20260423T205015
CREATED:20240121T221738Z
LAST-MODIFIED:20240121T221738Z
UID:4666-1715155200-1715155200@sudburydistrictdentalsociety.ca
SUMMARY:Dr. Martic
DESCRIPTION:
URL:https://sudburydistrictdentalsociety.ca/oncall/dr-martic-49/
END:VEVENT
BEGIN:VEVENT
DTSTART;TZID=UTC:20240509T080000
DTEND;TZID=UTC:20240509T080000
DTSTAMP:20260423T205015
CREATED:20240121T221738Z
LAST-MODIFIED:20240121T221738Z
UID:4667-1715241600-1715241600@sudburydistrictdentalsociety.ca
SUMMARY:Dr. Martic
DESCRIPTION:
URL:https://sudburydistrictdentalsociety.ca/oncall/dr-martic-50/
END:VEVENT
BEGIN:VEVENT
DTSTART;TZID=UTC:20240510T090000
DTEND;TZID=UTC:20240510T090000
DTSTAMP:20260423T205015
CREATED:20240121T221738Z
LAST-MODIFIED:20240121T221738Z
UID:4668-1715331600-1715331600@sudburydistrictdentalsociety.ca
SUMMARY:Dr. Martic
DESCRIPTION:
URL:https://sudburydistrictdentalsociety.ca/oncall/dr-martic-51/
END:VEVENT
BEGIN:VEVENT
DTSTART;TZID=UTC:20240511T090000
DTEND;TZID=UTC:20240511T090000
DTSTAMP:20260423T205015
CREATED:20240121T221753Z
LAST-MODIFIED:20240121T221753Z
UID:4669-1715418000-1715418000@sudburydistrictdentalsociety.ca
SUMMARY:Dr. Martic
DESCRIPTION:
URL:https://sudburydistrictdentalsociety.ca/oncall/dr-martic-52/
END:VEVENT
BEGIN:VEVENT
DTSTART;TZID=UTC:20240512T090000
DTEND;TZID=UTC:20240512T090000
DTSTAMP:20260423T205015
CREATED:20240121T221753Z
LAST-MODIFIED:20240121T221753Z
UID:4670-1715504400-1715504400@sudburydistrictdentalsociety.ca
SUMMARY:Dr. Martic
DESCRIPTION:
URL:https://sudburydistrictdentalsociety.ca/oncall/dr-martic-53/
END:VEVENT
BEGIN:VEVENT
DTSTART;TZID=UTC:20240513T080000
DTEND;TZID=UTC:20240513T080000
DTSTAMP:20260423T205015
CREATED:20240121T221753Z
LAST-MODIFIED:20240121T221753Z
UID:4671-1715587200-1715587200@sudburydistrictdentalsociety.ca
SUMMARY:Dr. Budd
DESCRIPTION:
URL:https://sudburydistrictdentalsociety.ca/oncall/dr-budd-41/
END:VEVENT
BEGIN:VEVENT
DTSTART;TZID=UTC:20240514T080000
DTEND;TZID=UTC:20240514T080000
DTSTAMP:20260423T205015
CREATED:20240121T221753Z
LAST-MODIFIED:20240121T221753Z
UID:4672-1715673600-1715673600@sudburydistrictdentalsociety.ca
SUMMARY:Dr. Mate
DESCRIPTION:
URL:https://sudburydistrictdentalsociety.ca/oncall/dr-mate-31/
END:VEVENT
BEGIN:VEVENT
DTSTART;TZID=UTC:20240515T080000
DTEND;TZID=UTC:20240515T080000
DTSTAMP:20260423T205015
CREATED:20240121T221753Z
LAST-MODIFIED:20240121T221753Z
UID:4673-1715760000-1715760000@sudburydistrictdentalsociety.ca
SUMMARY:Dr. McNicholl
DESCRIPTION:
URL:https://sudburydistrictdentalsociety.ca/oncall/dr-mcnicholl-48/
END:VEVENT
BEGIN:VEVENT
DTSTART;TZID=UTC:20240516T080000
DTEND;TZID=UTC:20240516T080000
DTSTAMP:20260423T205015
CREATED:20240121T221808Z
LAST-MODIFIED:20240121T221808Z
UID:4674-1715846400-1715846400@sudburydistrictdentalsociety.ca
SUMMARY:Dr. Reich
DESCRIPTION:
URL:https://sudburydistrictdentalsociety.ca/oncall/dr-reich-43/
END:VEVENT
BEGIN:VEVENT
DTSTART;TZID=UTC:20240517T090000
DTEND;TZID=UTC:20240517T090000
DTSTAMP:20260423T205015
CREATED:20240121T221808Z
LAST-MODIFIED:20240121T221808Z
UID:4675-1715936400-1715936400@sudburydistrictdentalsociety.ca
SUMMARY:Dr. Karthikeyan
DESCRIPTION:
URL:https://sudburydistrictdentalsociety.ca/oncall/dr-karthikeyan-8/
END:VEVENT
BEGIN:VEVENT
DTSTART;TZID=UTC:20240518T090000
DTEND;TZID=UTC:20240518T090000
DTSTAMP:20260423T205015
CREATED:20240121T221808Z
LAST-MODIFIED:20240121T221808Z
UID:4676-1716022800-1716022800@sudburydistrictdentalsociety.ca
SUMMARY:Dr. Karthikeyan
DESCRIPTION:
URL:https://sudburydistrictdentalsociety.ca/oncall/dr-karthikeyan-9/
END:VEVENT
BEGIN:VEVENT
DTSTART;TZID=UTC:20240519T090000
DTEND;TZID=UTC:20240519T090000
DTSTAMP:20260423T205015
CREATED:20240121T221808Z
LAST-MODIFIED:20240121T221808Z
UID:4677-1716109200-1716109200@sudburydistrictdentalsociety.ca
SUMMARY:Dr. Karthikeyan
DESCRIPTION:
URL:https://sudburydistrictdentalsociety.ca/oncall/dr-karthikeyan-10/
END:VEVENT
BEGIN:VEVENT
DTSTART;VALUE=DATE:20240520
DTEND;VALUE=DATE:20240522
DTSTAMP:20260423T205015
CREATED:20240121T220712Z
LAST-MODIFIED:20240121T222938Z
UID:4530-1716166800-1716253199@sudburydistrictdentalsociety.ca
SUMMARY:VICTORIA DAY
DESCRIPTION:
URL:https://sudburydistrictdentalsociety.ca/oncall/victoria-day-3/
END:VEVENT
BEGIN:VEVENT
DTSTART;TZID=UTC:20240520T090000
DTEND;TZID=UTC:20240520T090000
DTSTAMP:20260423T205015
CREATED:20240121T221808Z
LAST-MODIFIED:20240121T221808Z
UID:4678-1716195600-1716195600@sudburydistrictdentalsociety.ca
SUMMARY:Dr. Clarke
DESCRIPTION:
URL:https://sudburydistrictdentalsociety.ca/oncall/dr-clarke-43/
END:VEVENT
BEGIN:VEVENT
DTSTART;TZID=UTC:20240521T080000
DTEND;TZID=UTC:20240521T080000
DTSTAMP:20260423T205015
CREATED:20240121T221823Z
LAST-MODIFIED:20240121T221823Z
UID:4679-1716278400-1716278400@sudburydistrictdentalsociety.ca
SUMMARY:Dr. Junor
DESCRIPTION:
URL:https://sudburydistrictdentalsociety.ca/oncall/dr-junor-47/
END:VEVENT
BEGIN:VEVENT
DTSTART;TZID=UTC:20240522T080000
DTEND;TZID=UTC:20240522T080000
DTSTAMP:20260423T205015
CREATED:20240121T221823Z
LAST-MODIFIED:20240121T221823Z
UID:4680-1716364800-1716364800@sudburydistrictdentalsociety.ca
SUMMARY:Dr. Ho
DESCRIPTION:
URL:https://sudburydistrictdentalsociety.ca/oncall/dr-ho-54/
END:VEVENT
BEGIN:VEVENT
DTSTART;TZID=UTC:20240523T080000
DTEND;TZID=UTC:20240523T080000
DTSTAMP:20260423T205015
CREATED:20240121T221823Z
LAST-MODIFIED:20240121T221823Z
UID:4681-1716451200-1716451200@sudburydistrictdentalsociety.ca
SUMMARY:Dr. Ho
DESCRIPTION:
URL:https://sudburydistrictdentalsociety.ca/oncall/dr-ho-55/
END:VEVENT
BEGIN:VEVENT
DTSTART;TZID=UTC:20240524T090000
DTEND;TZID=UTC:20240524T090000
DTSTAMP:20260423T205015
CREATED:20240121T221823Z
LAST-MODIFIED:20240121T221823Z
UID:4682-1716541200-1716541200@sudburydistrictdentalsociety.ca
SUMMARY:Dr. Conaty
DESCRIPTION:
URL:https://sudburydistrictdentalsociety.ca/oncall/dr-conaty-40/
END:VEVENT
BEGIN:VEVENT
DTSTART;TZID=UTC:20240525T090000
DTEND;TZID=UTC:20240525T090000
DTSTAMP:20260423T205015
CREATED:20240121T221823Z
LAST-MODIFIED:20240121T221823Z
UID:4683-1716627600-1716627600@sudburydistrictdentalsociety.ca
SUMMARY:Dr. Conaty
DESCRIPTION:
URL:https://sudburydistrictdentalsociety.ca/oncall/dr-conaty-41/
END:VEVENT
BEGIN:VEVENT
DTSTART;TZID=UTC:20240526T090000
DTEND;TZID=UTC:20240526T090000
DTSTAMP:20260423T205015
CREATED:20240121T221838Z
LAST-MODIFIED:20240121T221838Z
UID:4684-1716714000-1716714000@sudburydistrictdentalsociety.ca
SUMMARY:Dr. Conaty
DESCRIPTION:
URL:https://sudburydistrictdentalsociety.ca/oncall/dr-conaty-42/
END:VEVENT
BEGIN:VEVENT
DTSTART;TZID=UTC:20240527T080000
DTEND;TZID=UTC:20240527T080000
DTSTAMP:20260423T205015
CREATED:20240121T221838Z
LAST-MODIFIED:20240121T221838Z
UID:4685-1716796800-1716796800@sudburydistrictdentalsociety.ca
SUMMARY:Dr. Wells
DESCRIPTION:
URL:https://sudburydistrictdentalsociety.ca/oncall/dr-wells-36/
END:VEVENT
BEGIN:VEVENT
DTSTART;TZID=UTC:20240528T080000
DTEND;TZID=UTC:20240528T080000
DTSTAMP:20260423T205015
CREATED:20240121T221838Z
LAST-MODIFIED:20240121T221838Z
UID:4686-1716883200-1716883200@sudburydistrictdentalsociety.ca
SUMMARY:Dr. Huffman
DESCRIPTION:
URL:https://sudburydistrictdentalsociety.ca/oncall/dr-huffman-9/
END:VEVENT
BEGIN:VEVENT
DTSTART;TZID=UTC:20240529T080000
DTEND;TZID=UTC:20240529T080000
DTSTAMP:20260423T205015
CREATED:20240121T221838Z
LAST-MODIFIED:20240121T221838Z
UID:4687-1716969600-1716969600@sudburydistrictdentalsociety.ca
SUMMARY:Dr. Trottier
DESCRIPTION:
URL:https://sudburydistrictdentalsociety.ca/oncall/dr-trottier-48/
END:VEVENT
BEGIN:VEVENT
DTSTART;TZID=UTC:20240530T080000
DTEND;TZID=UTC:20240530T080000
DTSTAMP:20260423T205015
CREATED:20240121T221839Z
LAST-MODIFIED:20240121T221839Z
UID:4688-1717056000-1717056000@sudburydistrictdentalsociety.ca
SUMMARY:Dr. Virani
DESCRIPTION:
URL:https://sudburydistrictdentalsociety.ca/oncall/dr-virani-17/
END:VEVENT
END:VCALENDAR