BEGIN:VCALENDAR
VERSION:2.0
PRODID:-//Sudbury &amp; District Dental Society - ECPv6.15.20//NONSGML v1.0//EN
CALSCALE:GREGORIAN
METHOD:PUBLISH
X-WR-CALNAME:Sudbury &amp; District Dental Society
X-ORIGINAL-URL:https://sudburydistrictdentalsociety.ca
X-WR-CALDESC:Events for Sudbury &amp; District Dental Society
REFRESH-INTERVAL;VALUE=DURATION:PT1H
X-Robots-Tag:noindex
X-PUBLISHED-TTL:PT1H
BEGIN:VTIMEZONE
TZID:UTC
BEGIN:STANDARD
TZOFFSETFROM:+0000
TZOFFSETTO:+0000
TZNAME:UTC
DTSTART:20230101T000000
END:STANDARD
END:VTIMEZONE
BEGIN:VEVENT
DTSTART;TZID=UTC:20240601T090000
DTEND;TZID=UTC:20240601T090000
DTSTAMP:20260423T180849
CREATED:20240121T221853Z
LAST-MODIFIED:20240121T221853Z
UID:4690-1717232400-1717232400@sudburydistrictdentalsociety.ca
SUMMARY:Dr. Budd
DESCRIPTION:
URL:https://sudburydistrictdentalsociety.ca/oncall/dr-budd-43/
END:VEVENT
BEGIN:VEVENT
DTSTART;TZID=UTC:20240602T090000
DTEND;TZID=UTC:20240602T090000
DTSTAMP:20260423T180849
CREATED:20240121T221853Z
LAST-MODIFIED:20240121T221853Z
UID:4691-1717318800-1717318800@sudburydistrictdentalsociety.ca
SUMMARY:Dr. Budd
DESCRIPTION:
URL:https://sudburydistrictdentalsociety.ca/oncall/dr-budd-44/
END:VEVENT
BEGIN:VEVENT
DTSTART;TZID=UTC:20240603T080000
DTEND;TZID=UTC:20240603T080000
DTSTAMP:20260423T180849
CREATED:20240121T221853Z
LAST-MODIFIED:20240121T221853Z
UID:4692-1717401600-1717401600@sudburydistrictdentalsociety.ca
SUMMARY:Dr. Lewis
DESCRIPTION:
URL:https://sudburydistrictdentalsociety.ca/oncall/dr-lewis-36/
END:VEVENT
BEGIN:VEVENT
DTSTART;TZID=UTC:20240604T080000
DTEND;TZID=UTC:20240604T080000
DTSTAMP:20260423T180849
CREATED:20240121T221854Z
LAST-MODIFIED:20240121T221854Z
UID:4693-1717488000-1717488000@sudburydistrictdentalsociety.ca
SUMMARY:Dr. Lewis
DESCRIPTION:
URL:https://sudburydistrictdentalsociety.ca/oncall/dr-lewis-37/
END:VEVENT
BEGIN:VEVENT
DTSTART;TZID=UTC:20240605T080000
DTEND;TZID=UTC:20240605T080000
DTSTAMP:20260423T180849
CREATED:20240121T221908Z
LAST-MODIFIED:20240121T221908Z
UID:4694-1717574400-1717574400@sudburydistrictdentalsociety.ca
SUMMARY:Dr. Lewis
DESCRIPTION:
URL:https://sudburydistrictdentalsociety.ca/oncall/dr-lewis-38/
END:VEVENT
BEGIN:VEVENT
DTSTART;TZID=UTC:20240606T080000
DTEND;TZID=UTC:20240606T080000
DTSTAMP:20260423T180849
CREATED:20240121T221908Z
LAST-MODIFIED:20240121T221908Z
UID:4695-1717660800-1717660800@sudburydistrictdentalsociety.ca
SUMMARY:Dr. Lewis
DESCRIPTION:
URL:https://sudburydistrictdentalsociety.ca/oncall/dr-lewis-39/
END:VEVENT
BEGIN:VEVENT
DTSTART;TZID=UTC:20240607T090000
DTEND;TZID=UTC:20240607T090000
DTSTAMP:20260423T180849
CREATED:20240121T221908Z
LAST-MODIFIED:20240121T221908Z
UID:4696-1717750800-1717750800@sudburydistrictdentalsociety.ca
SUMMARY:Dr. Lewis
DESCRIPTION:
URL:https://sudburydistrictdentalsociety.ca/oncall/dr-lewis-40/
END:VEVENT
BEGIN:VEVENT
DTSTART;TZID=UTC:20240608T090000
DTEND;TZID=UTC:20240608T090000
DTSTAMP:20260423T180849
CREATED:20240121T221908Z
LAST-MODIFIED:20240121T221908Z
UID:4697-1717837200-1717837200@sudburydistrictdentalsociety.ca
SUMMARY:Dr. Lewis
DESCRIPTION:
URL:https://sudburydistrictdentalsociety.ca/oncall/dr-lewis-41/
END:VEVENT
BEGIN:VEVENT
DTSTART;TZID=UTC:20240609T090000
DTEND;TZID=UTC:20240609T090000
DTSTAMP:20260423T180849
CREATED:20240121T221909Z
LAST-MODIFIED:20240121T221909Z
UID:4698-1717923600-1717923600@sudburydistrictdentalsociety.ca
SUMMARY:Dr. Lewis
DESCRIPTION:
URL:https://sudburydistrictdentalsociety.ca/oncall/dr-lewis-42/
END:VEVENT
BEGIN:VEVENT
DTSTART;TZID=UTC:20240610T080000
DTEND;TZID=UTC:20240610T080000
DTSTAMP:20260423T180849
CREATED:20240121T221923Z
LAST-MODIFIED:20240121T221923Z
UID:4699-1718006400-1718006400@sudburydistrictdentalsociety.ca
SUMMARY:Dr. Gareau
DESCRIPTION:
URL:https://sudburydistrictdentalsociety.ca/oncall/dr-gareau-42/
END:VEVENT
BEGIN:VEVENT
DTSTART;TZID=UTC:20240611T080000
DTEND;TZID=UTC:20240611T080000
DTSTAMP:20260423T180849
CREATED:20240121T221923Z
LAST-MODIFIED:20240121T221923Z
UID:4700-1718092800-1718092800@sudburydistrictdentalsociety.ca
SUMMARY:Dr. Reich
DESCRIPTION:
URL:https://sudburydistrictdentalsociety.ca/oncall/dr-reich-44/
END:VEVENT
BEGIN:VEVENT
DTSTART;TZID=UTC:20240612T080000
DTEND;TZID=UTC:20240612T080000
DTSTAMP:20260423T180849
CREATED:20240121T221923Z
LAST-MODIFIED:20240121T221923Z
UID:4701-1718179200-1718179200@sudburydistrictdentalsociety.ca
SUMMARY:Dr. Huffman
DESCRIPTION:
URL:https://sudburydistrictdentalsociety.ca/oncall/dr-huffman-10/
END:VEVENT
BEGIN:VEVENT
DTSTART;TZID=UTC:20240613T080000
DTEND;TZID=UTC:20240613T080000
DTSTAMP:20260423T180849
CREATED:20240121T221923Z
LAST-MODIFIED:20240121T221923Z
UID:4702-1718265600-1718265600@sudburydistrictdentalsociety.ca
SUMMARY:Dr. Gareau
DESCRIPTION:
URL:https://sudburydistrictdentalsociety.ca/oncall/dr-gareau-43/
END:VEVENT
BEGIN:VEVENT
DTSTART;TZID=UTC:20240614T090000
DTEND;TZID=UTC:20240614T090000
DTSTAMP:20260423T180849
CREATED:20240121T221923Z
LAST-MODIFIED:20240121T221923Z
UID:4703-1718355600-1718355600@sudburydistrictdentalsociety.ca
SUMMARY:Dr. Mate
DESCRIPTION:
URL:https://sudburydistrictdentalsociety.ca/oncall/dr-mate-32/
END:VEVENT
BEGIN:VEVENT
DTSTART;TZID=UTC:20240615T090000
DTEND;TZID=UTC:20240615T090000
DTSTAMP:20260423T180849
CREATED:20240121T221938Z
LAST-MODIFIED:20240121T221938Z
UID:4704-1718442000-1718442000@sudburydistrictdentalsociety.ca
SUMMARY:Dr. Mate
DESCRIPTION:
URL:https://sudburydistrictdentalsociety.ca/oncall/dr-mate-33/
END:VEVENT
BEGIN:VEVENT
DTSTART;TZID=UTC:20240616T090000
DTEND;TZID=UTC:20240616T090000
DTSTAMP:20260423T180849
CREATED:20240121T221938Z
LAST-MODIFIED:20240121T221938Z
UID:4705-1718528400-1718528400@sudburydistrictdentalsociety.ca
SUMMARY:Dr. Mate
DESCRIPTION:
URL:https://sudburydistrictdentalsociety.ca/oncall/dr-mate-34/
END:VEVENT
BEGIN:VEVENT
DTSTART;TZID=UTC:20240617T080000
DTEND;TZID=UTC:20240617T080000
DTSTAMP:20260423T180849
CREATED:20240121T221938Z
LAST-MODIFIED:20240121T221938Z
UID:4706-1718611200-1718611200@sudburydistrictdentalsociety.ca
SUMMARY:Dr. Paige
DESCRIPTION:
URL:https://sudburydistrictdentalsociety.ca/oncall/dr-paige-18/
END:VEVENT
BEGIN:VEVENT
DTSTART;TZID=UTC:20240618T080000
DTEND;TZID=UTC:20240618T080000
DTSTAMP:20260423T180849
CREATED:20240121T221938Z
LAST-MODIFIED:20240121T221938Z
UID:4707-1718697600-1718697600@sudburydistrictdentalsociety.ca
SUMMARY:Dr. Paige
DESCRIPTION:
URL:https://sudburydistrictdentalsociety.ca/oncall/dr-paige-19/
END:VEVENT
BEGIN:VEVENT
DTSTART;TZID=UTC:20240619T080000
DTEND;TZID=UTC:20240619T080000
DTSTAMP:20260423T180849
CREATED:20240121T221938Z
LAST-MODIFIED:20240121T221938Z
UID:4708-1718784000-1718784000@sudburydistrictdentalsociety.ca
SUMMARY:Dr. Paige
DESCRIPTION:
URL:https://sudburydistrictdentalsociety.ca/oncall/dr-paige-20/
END:VEVENT
BEGIN:VEVENT
DTSTART;TZID=UTC:20240620T080000
DTEND;TZID=UTC:20240620T080000
DTSTAMP:20260423T180849
CREATED:20240121T221953Z
LAST-MODIFIED:20240121T221953Z
UID:4709-1718870400-1718870400@sudburydistrictdentalsociety.ca
SUMMARY:Dr. Paige
DESCRIPTION:
URL:https://sudburydistrictdentalsociety.ca/oncall/dr-paige-21/
END:VEVENT
BEGIN:VEVENT
DTSTART;TZID=UTC:20240621T090000
DTEND;TZID=UTC:20240621T090000
DTSTAMP:20260423T180849
CREATED:20240121T221953Z
LAST-MODIFIED:20240121T221953Z
UID:4710-1718960400-1718960400@sudburydistrictdentalsociety.ca
SUMMARY:Dr. Paige
DESCRIPTION:
URL:https://sudburydistrictdentalsociety.ca/oncall/dr-paige-22/
END:VEVENT
BEGIN:VEVENT
DTSTART;TZID=UTC:20240622T090000
DTEND;TZID=UTC:20240622T090000
DTSTAMP:20260423T180849
CREATED:20240121T221953Z
LAST-MODIFIED:20240121T221953Z
UID:4711-1719046800-1719046800@sudburydistrictdentalsociety.ca
SUMMARY:Dr. Paige
DESCRIPTION:
URL:https://sudburydistrictdentalsociety.ca/oncall/dr-paige-23/
END:VEVENT
BEGIN:VEVENT
DTSTART;TZID=UTC:20240623T090000
DTEND;TZID=UTC:20240623T090000
DTSTAMP:20260423T180849
CREATED:20240121T221953Z
LAST-MODIFIED:20240121T221953Z
UID:4712-1719133200-1719133200@sudburydistrictdentalsociety.ca
SUMMARY:Dr. Paige
DESCRIPTION:
URL:https://sudburydistrictdentalsociety.ca/oncall/dr-paige-24/
END:VEVENT
BEGIN:VEVENT
DTSTART;TZID=UTC:20240624T080000
DTEND;TZID=UTC:20240624T080000
DTSTAMP:20260423T180849
CREATED:20240121T221954Z
LAST-MODIFIED:20240121T221954Z
UID:4713-1719216000-1719216000@sudburydistrictdentalsociety.ca
SUMMARY:Dr. Montpellier
DESCRIPTION:
URL:https://sudburydistrictdentalsociety.ca/oncall/dr-montpellier-37/
END:VEVENT
BEGIN:VEVENT
DTSTART;TZID=UTC:20240625T080000
DTEND;TZID=UTC:20240625T080000
DTSTAMP:20260423T180849
CREATED:20240121T222008Z
LAST-MODIFIED:20240121T222008Z
UID:4714-1719302400-1719302400@sudburydistrictdentalsociety.ca
SUMMARY:Dr. Montpellier
DESCRIPTION:
URL:https://sudburydistrictdentalsociety.ca/oncall/dr-montpellier-38/
END:VEVENT
BEGIN:VEVENT
DTSTART;TZID=UTC:20240626T080000
DTEND;TZID=UTC:20240626T080000
DTSTAMP:20260423T180849
CREATED:20240121T222008Z
LAST-MODIFIED:20240121T222008Z
UID:4715-1719388800-1719388800@sudburydistrictdentalsociety.ca
SUMMARY:Dr. Montpellier
DESCRIPTION:
URL:https://sudburydistrictdentalsociety.ca/oncall/dr-montpellier-39/
END:VEVENT
BEGIN:VEVENT
DTSTART;TZID=UTC:20240627T080000
DTEND;TZID=UTC:20240627T080000
DTSTAMP:20260423T180849
CREATED:20240121T222008Z
LAST-MODIFIED:20240121T222008Z
UID:4716-1719475200-1719475200@sudburydistrictdentalsociety.ca
SUMMARY:Dr. Montpellier
DESCRIPTION:
URL:https://sudburydistrictdentalsociety.ca/oncall/dr-montpellier-40/
END:VEVENT
BEGIN:VEVENT
DTSTART;TZID=UTC:20240628T090000
DTEND;TZID=UTC:20240628T090000
DTSTAMP:20260423T180849
CREATED:20240121T222008Z
LAST-MODIFIED:20240121T222008Z
UID:4717-1719565200-1719565200@sudburydistrictdentalsociety.ca
SUMMARY:Dr. Montpellier
DESCRIPTION:
URL:https://sudburydistrictdentalsociety.ca/oncall/dr-montpellier-41/
END:VEVENT
BEGIN:VEVENT
DTSTART;TZID=UTC:20240629T090000
DTEND;TZID=UTC:20240629T090000
DTSTAMP:20260423T180849
CREATED:20240121T222009Z
LAST-MODIFIED:20240121T222009Z
UID:4718-1719651600-1719651600@sudburydistrictdentalsociety.ca
SUMMARY:Dr. Montpellier
DESCRIPTION:
URL:https://sudburydistrictdentalsociety.ca/oncall/dr-montpellier-42/
END:VEVENT
BEGIN:VEVENT
DTSTART;TZID=UTC:20240630T090000
DTEND;TZID=UTC:20240630T090000
DTSTAMP:20260423T180849
CREATED:20240121T222023Z
LAST-MODIFIED:20240121T222023Z
UID:4719-1719738000-1719738000@sudburydistrictdentalsociety.ca
SUMMARY:Dr. Montpellier
DESCRIPTION:
URL:https://sudburydistrictdentalsociety.ca/oncall/dr-montpellier-43/
END:VEVENT
END:VCALENDAR