BEGIN:VCALENDAR
VERSION:2.0
PRODID:-//Sudbury &amp; District Dental Society - ECPv6.15.20//NONSGML v1.0//EN
CALSCALE:GREGORIAN
METHOD:PUBLISH
X-WR-CALNAME:Sudbury &amp; District Dental Society
X-ORIGINAL-URL:https://sudburydistrictdentalsociety.ca
X-WR-CALDESC:Events for Sudbury &amp; District Dental Society
REFRESH-INTERVAL;VALUE=DURATION:PT1H
X-Robots-Tag:noindex
X-PUBLISHED-TTL:PT1H
BEGIN:VTIMEZONE
TZID:UTC
BEGIN:STANDARD
TZOFFSETFROM:+0000
TZOFFSETTO:+0000
TZNAME:UTC
DTSTART:20230101T000000
END:STANDARD
END:VTIMEZONE
BEGIN:VEVENT
DTSTART;TZID=UTC:20240807T080000
DTEND;TZID=UTC:20240807T080000
DTSTAMP:20260423T163711
CREATED:20240121T222208Z
LAST-MODIFIED:20240121T222208Z
UID:4757-1723017600-1723017600@sudburydistrictdentalsociety.ca
SUMMARY:Dr. Morshedi
DESCRIPTION:
URL:https://sudburydistrictdentalsociety.ca/oncall/dr-morshedi-12/
END:VEVENT
BEGIN:VEVENT
DTSTART;TZID=UTC:20240808T080000
DTEND;TZID=UTC:20240808T080000
DTSTAMP:20260423T163711
CREATED:20240121T222208Z
LAST-MODIFIED:20240121T222208Z
UID:4758-1723104000-1723104000@sudburydistrictdentalsociety.ca
SUMMARY:Dr. Morshedi
DESCRIPTION:
URL:https://sudburydistrictdentalsociety.ca/oncall/dr-morshedi-13/
END:VEVENT
BEGIN:VEVENT
DTSTART;TZID=UTC:20240809T090000
DTEND;TZID=UTC:20240809T090000
DTSTAMP:20260423T163711
CREATED:20240121T222223Z
LAST-MODIFIED:20240121T222223Z
UID:4759-1723194000-1723194000@sudburydistrictdentalsociety.ca
SUMMARY:Dr. Morshedi
DESCRIPTION:
URL:https://sudburydistrictdentalsociety.ca/oncall/dr-morshedi-14/
END:VEVENT
BEGIN:VEVENT
DTSTART;TZID=UTC:20240810T090000
DTEND;TZID=UTC:20240810T090000
DTSTAMP:20260423T163711
CREATED:20240121T222223Z
LAST-MODIFIED:20240121T222223Z
UID:4760-1723280400-1723280400@sudburydistrictdentalsociety.ca
SUMMARY:Dr. Morshedi
DESCRIPTION:
URL:https://sudburydistrictdentalsociety.ca/oncall/dr-morshedi-15/
END:VEVENT
BEGIN:VEVENT
DTSTART;TZID=UTC:20240811T090000
DTEND;TZID=UTC:20240811T090000
DTSTAMP:20260423T163711
CREATED:20240121T222223Z
LAST-MODIFIED:20240121T222223Z
UID:4761-1723366800-1723366800@sudburydistrictdentalsociety.ca
SUMMARY:Dr. Morshedi
DESCRIPTION:
URL:https://sudburydistrictdentalsociety.ca/oncall/dr-morshedi-16/
END:VEVENT
BEGIN:VEVENT
DTSTART;TZID=UTC:20240812T080000
DTEND;TZID=UTC:20240812T080000
DTSTAMP:20260423T163711
CREATED:20240121T222223Z
LAST-MODIFIED:20240121T222223Z
UID:4762-1723449600-1723449600@sudburydistrictdentalsociety.ca
SUMMARY:Dr. Leclair
DESCRIPTION:
URL:https://sudburydistrictdentalsociety.ca/oncall/dr-leclair-51/
END:VEVENT
BEGIN:VEVENT
DTSTART;TZID=UTC:20240813T080000
DTEND;TZID=UTC:20240813T080000
DTSTAMP:20260423T163711
CREATED:20240121T222223Z
LAST-MODIFIED:20240121T222223Z
UID:4763-1723536000-1723536000@sudburydistrictdentalsociety.ca
SUMMARY:Dr. Leclair
DESCRIPTION:
URL:https://sudburydistrictdentalsociety.ca/oncall/dr-leclair-52/
END:VEVENT
BEGIN:VEVENT
DTSTART;TZID=UTC:20240814T080000
DTEND;TZID=UTC:20240814T080000
DTSTAMP:20260423T163711
CREATED:20240121T222239Z
LAST-MODIFIED:20240121T222239Z
UID:4764-1723622400-1723622400@sudburydistrictdentalsociety.ca
SUMMARY:Dr. Leclair
DESCRIPTION:
URL:https://sudburydistrictdentalsociety.ca/oncall/dr-leclair-53/
END:VEVENT
BEGIN:VEVENT
DTSTART;TZID=UTC:20240815T080000
DTEND;TZID=UTC:20240815T080000
DTSTAMP:20260423T163711
CREATED:20240121T222239Z
LAST-MODIFIED:20240121T222239Z
UID:4765-1723708800-1723708800@sudburydistrictdentalsociety.ca
SUMMARY:Dr. Leclair
DESCRIPTION:
URL:https://sudburydistrictdentalsociety.ca/oncall/dr-leclair-54/
END:VEVENT
BEGIN:VEVENT
DTSTART;TZID=UTC:20240816T090000
DTEND;TZID=UTC:20240816T090000
DTSTAMP:20260423T163711
CREATED:20240121T222239Z
LAST-MODIFIED:20240121T222239Z
UID:4766-1723798800-1723798800@sudburydistrictdentalsociety.ca
SUMMARY:Dr. Leclair
DESCRIPTION:
URL:https://sudburydistrictdentalsociety.ca/oncall/dr-leclair-55/
END:VEVENT
BEGIN:VEVENT
DTSTART;TZID=UTC:20240817T090000
DTEND;TZID=UTC:20240817T090000
DTSTAMP:20260423T163711
CREATED:20240121T222239Z
LAST-MODIFIED:20240121T222239Z
UID:4767-1723885200-1723885200@sudburydistrictdentalsociety.ca
SUMMARY:Dr. Leclair
DESCRIPTION:
URL:https://sudburydistrictdentalsociety.ca/oncall/dr-leclair-56/
END:VEVENT
BEGIN:VEVENT
DTSTART;TZID=UTC:20240818T090000
DTEND;TZID=UTC:20240818T090000
DTSTAMP:20260423T163711
CREATED:20240121T222240Z
LAST-MODIFIED:20240121T222240Z
UID:4768-1723971600-1723971600@sudburydistrictdentalsociety.ca
SUMMARY:Dr. Leclair
DESCRIPTION:
URL:https://sudburydistrictdentalsociety.ca/oncall/dr-leclair-57/
END:VEVENT
BEGIN:VEVENT
DTSTART;TZID=UTC:20240819T080000
DTEND;TZID=UTC:20240819T080000
DTSTAMP:20260423T163711
CREATED:20240121T222253Z
LAST-MODIFIED:20240121T222253Z
UID:4769-1724054400-1724054400@sudburydistrictdentalsociety.ca
SUMMARY:Dr. Chintan
DESCRIPTION:
URL:https://sudburydistrictdentalsociety.ca/oncall/dr-chintan-13/
END:VEVENT
BEGIN:VEVENT
DTSTART;TZID=UTC:20240820T080000
DTEND;TZID=UTC:20240820T080000
DTSTAMP:20260423T163711
CREATED:20240121T222253Z
LAST-MODIFIED:20240121T222253Z
UID:4770-1724140800-1724140800@sudburydistrictdentalsociety.ca
SUMMARY:Dr. Deol
DESCRIPTION:
URL:https://sudburydistrictdentalsociety.ca/oncall/dr-deol-33/
END:VEVENT
BEGIN:VEVENT
DTSTART;TZID=UTC:20240821T080000
DTEND;TZID=UTC:20240821T080000
DTSTAMP:20260423T163711
CREATED:20240121T222253Z
LAST-MODIFIED:20240121T222253Z
UID:4771-1724227200-1724227200@sudburydistrictdentalsociety.ca
SUMMARY:Dr. Gerhart
DESCRIPTION:
URL:https://sudburydistrictdentalsociety.ca/oncall/dr-gerhart-47/
END:VEVENT
BEGIN:VEVENT
DTSTART;TZID=UTC:20240822T080000
DTEND;TZID=UTC:20240822T080000
DTSTAMP:20260423T163711
CREATED:20240121T222253Z
LAST-MODIFIED:20240121T222253Z
UID:4772-1724313600-1724313600@sudburydistrictdentalsociety.ca
SUMMARY:Dr. Racicot
DESCRIPTION:
URL:https://sudburydistrictdentalsociety.ca/oncall/dr-racicot-44/
END:VEVENT
BEGIN:VEVENT
DTSTART;TZID=UTC:20240823T090000
DTEND;TZID=UTC:20240823T090000
DTSTAMP:20260423T163711
CREATED:20240121T222253Z
LAST-MODIFIED:20240121T222253Z
UID:4773-1724403600-1724403600@sudburydistrictdentalsociety.ca
SUMMARY:Dr. Huffman
DESCRIPTION:
URL:https://sudburydistrictdentalsociety.ca/oncall/dr-huffman-12/
END:VEVENT
BEGIN:VEVENT
DTSTART;TZID=UTC:20240824T090000
DTEND;TZID=UTC:20240824T090000
DTSTAMP:20260423T163711
CREATED:20240121T222308Z
LAST-MODIFIED:20240121T222308Z
UID:4774-1724490000-1724490000@sudburydistrictdentalsociety.ca
SUMMARY:Dr. Gareau
DESCRIPTION:
URL:https://sudburydistrictdentalsociety.ca/oncall/dr-gareau-45/
END:VEVENT
BEGIN:VEVENT
DTSTART;TZID=UTC:20240825T090000
DTEND;TZID=UTC:20240825T090000
DTSTAMP:20260423T163711
CREATED:20240121T222308Z
LAST-MODIFIED:20240121T222308Z
UID:4775-1724576400-1724576400@sudburydistrictdentalsociety.ca
SUMMARY:Dr. Gareau
DESCRIPTION:
URL:https://sudburydistrictdentalsociety.ca/oncall/dr-gareau-46/
END:VEVENT
BEGIN:VEVENT
DTSTART;TZID=UTC:20240826T080000
DTEND;TZID=UTC:20240826T080000
DTSTAMP:20260423T163711
CREATED:20240121T222308Z
LAST-MODIFIED:20240121T222308Z
UID:4776-1724659200-1724659200@sudburydistrictdentalsociety.ca
SUMMARY:Dr. Boljkovac
DESCRIPTION:
URL:https://sudburydistrictdentalsociety.ca/oncall/dr-boljkovac-9/
END:VEVENT
BEGIN:VEVENT
DTSTART;TZID=UTC:20240827T080000
DTEND;TZID=UTC:20240827T080000
DTSTAMP:20260423T163711
CREATED:20240121T222309Z
LAST-MODIFIED:20240121T222309Z
UID:4777-1724745600-1724745600@sudburydistrictdentalsociety.ca
SUMMARY:Dr. Racicot
DESCRIPTION:
URL:https://sudburydistrictdentalsociety.ca/oncall/dr-racicot-45/
END:VEVENT
BEGIN:VEVENT
DTSTART;TZID=UTC:20240828T080000
DTEND;TZID=UTC:20240828T080000
DTSTAMP:20260423T163711
CREATED:20240121T222309Z
LAST-MODIFIED:20240121T222309Z
UID:4778-1724832000-1724832000@sudburydistrictdentalsociety.ca
SUMMARY:Dr. Deol
DESCRIPTION:
URL:https://sudburydistrictdentalsociety.ca/oncall/dr-deol-34/
END:VEVENT
BEGIN:VEVENT
DTSTART;TZID=UTC:20240829T080000
DTEND;TZID=UTC:20240829T080000
DTSTAMP:20260423T163711
CREATED:20240121T222323Z
LAST-MODIFIED:20240121T222323Z
UID:4779-1724918400-1724918400@sudburydistrictdentalsociety.ca
SUMMARY:Dr. Amos
DESCRIPTION:
URL:https://sudburydistrictdentalsociety.ca/oncall/dr-amos-17/
END:VEVENT
BEGIN:VEVENT
DTSTART;TZID=UTC:20240830T090000
DTEND;TZID=UTC:20240830T090000
DTSTAMP:20260423T163711
CREATED:20240121T222323Z
LAST-MODIFIED:20240121T222323Z
UID:4780-1725008400-1725008400@sudburydistrictdentalsociety.ca
SUMMARY:Dr. Wells
DESCRIPTION:
URL:https://sudburydistrictdentalsociety.ca/oncall/dr-wells-37/
END:VEVENT
BEGIN:VEVENT
DTSTART;TZID=UTC:20240831T090000
DTEND;TZID=UTC:20240831T090000
DTSTAMP:20260423T163711
CREATED:20240121T222323Z
LAST-MODIFIED:20240121T222323Z
UID:4781-1725094800-1725094800@sudburydistrictdentalsociety.ca
SUMMARY:Dr. Virani
DESCRIPTION:
URL:https://sudburydistrictdentalsociety.ca/oncall/dr-virani-18/
END:VEVENT
BEGIN:VEVENT
DTSTART;TZID=UTC:20240901T090000
DTEND;TZID=UTC:20240901T090000
DTSTAMP:20260423T163711
CREATED:20240121T222323Z
LAST-MODIFIED:20240121T222323Z
UID:4782-1725181200-1725181200@sudburydistrictdentalsociety.ca
SUMMARY:Dr. Virani
DESCRIPTION:
URL:https://sudburydistrictdentalsociety.ca/oncall/dr-virani-19/
END:VEVENT
BEGIN:VEVENT
DTSTART;VALUE=DATE:20240902
DTEND;VALUE=DATE:20240904
DTSTAMP:20260423T163711
CREATED:20240121T220727Z
LAST-MODIFIED:20240121T222953Z
UID:4533-1725238800-1725325199@sudburydistrictdentalsociety.ca
SUMMARY:LABOUR DAY
DESCRIPTION:
URL:https://sudburydistrictdentalsociety.ca/oncall/labour-day-3/
END:VEVENT
BEGIN:VEVENT
DTSTART;TZID=UTC:20240902T090000
DTEND;TZID=UTC:20240902T090000
DTSTAMP:20260423T163711
CREATED:20240121T222324Z
LAST-MODIFIED:20240121T222324Z
UID:4783-1725267600-1725267600@sudburydistrictdentalsociety.ca
SUMMARY:Dr. Conaty
DESCRIPTION:
URL:https://sudburydistrictdentalsociety.ca/oncall/dr-conaty-44/
END:VEVENT
BEGIN:VEVENT
DTSTART;TZID=UTC:20240903T080000
DTEND;TZID=UTC:20240903T080000
DTSTAMP:20260423T163711
CREATED:20240121T222338Z
LAST-MODIFIED:20240121T222338Z
UID:4784-1725350400-1725350400@sudburydistrictdentalsociety.ca
SUMMARY:Dr. Carpentier
DESCRIPTION:
URL:https://sudburydistrictdentalsociety.ca/oncall/dr-carpentier-48/
END:VEVENT
BEGIN:VEVENT
DTSTART;TZID=UTC:20240904T080000
DTEND;TZID=UTC:20240904T080000
DTSTAMP:20260423T163711
CREATED:20240121T222338Z
LAST-MODIFIED:20240121T222338Z
UID:4785-1725436800-1725436800@sudburydistrictdentalsociety.ca
SUMMARY:Dr. Wilson
DESCRIPTION:
URL:https://sudburydistrictdentalsociety.ca/oncall/dr-wilson-47/
END:VEVENT
END:VCALENDAR