BEGIN:VCALENDAR
VERSION:2.0
PRODID:-//Sudbury &amp; District Dental Society - ECPv6.15.20//NONSGML v1.0//EN
CALSCALE:GREGORIAN
METHOD:PUBLISH
X-WR-CALNAME:Sudbury &amp; District Dental Society
X-ORIGINAL-URL:https://sudburydistrictdentalsociety.ca
X-WR-CALDESC:Events for Sudbury &amp; District Dental Society
REFRESH-INTERVAL;VALUE=DURATION:PT1H
X-Robots-Tag:noindex
X-PUBLISHED-TTL:PT1H
BEGIN:VTIMEZONE
TZID:UTC
BEGIN:STANDARD
TZOFFSETFROM:+0000
TZOFFSETTO:+0000
TZNAME:UTC
DTSTART:20230101T000000
END:STANDARD
END:VTIMEZONE
BEGIN:VEVENT
DTSTART;TZID=UTC:20241208T090000
DTEND;TZID=UTC:20241208T090000
DTSTAMP:20260423T105254
CREATED:20240121T222823Z
LAST-MODIFIED:20240121T222823Z
UID:4880-1733648400-1733648400@sudburydistrictdentalsociety.ca
SUMMARY:Dr. Han
DESCRIPTION:
URL:https://sudburydistrictdentalsociety.ca/oncall/dr-han-45/
END:VEVENT
BEGIN:VEVENT
DTSTART;TZID=UTC:20241209T080000
DTEND;TZID=UTC:20241209T080000
DTSTAMP:20260423T105254
CREATED:20240121T222823Z
LAST-MODIFIED:20240121T222823Z
UID:4881-1733731200-1733731200@sudburydistrictdentalsociety.ca
SUMMARY:Dr. Valiquette
DESCRIPTION:
URL:https://sudburydistrictdentalsociety.ca/oncall/dr-valiquette-16/
END:VEVENT
BEGIN:VEVENT
DTSTART;TZID=UTC:20241210T080000
DTEND;TZID=UTC:20241210T080000
DTSTAMP:20260423T105254
CREATED:20240121T222823Z
LAST-MODIFIED:20240121T222823Z
UID:4882-1733817600-1733817600@sudburydistrictdentalsociety.ca
SUMMARY:Dr. Valiquette
DESCRIPTION:
URL:https://sudburydistrictdentalsociety.ca/oncall/dr-valiquette-17/
END:VEVENT
BEGIN:VEVENT
DTSTART;TZID=UTC:20241211T080000
DTEND;TZID=UTC:20241211T080000
DTSTAMP:20260423T105254
CREATED:20240121T222824Z
LAST-MODIFIED:20240121T222824Z
UID:4883-1733904000-1733904000@sudburydistrictdentalsociety.ca
SUMMARY:Dr. Valiquette
DESCRIPTION:
URL:https://sudburydistrictdentalsociety.ca/oncall/dr-valiquette-18/
END:VEVENT
BEGIN:VEVENT
DTSTART;TZID=UTC:20241212T080000
DTEND;TZID=UTC:20241212T080000
DTSTAMP:20260423T105254
CREATED:20240121T222838Z
LAST-MODIFIED:20240121T222838Z
UID:4884-1733990400-1733990400@sudburydistrictdentalsociety.ca
SUMMARY:Dr. Valiquette
DESCRIPTION:
URL:https://sudburydistrictdentalsociety.ca/oncall/dr-valiquette-19/
END:VEVENT
BEGIN:VEVENT
DTSTART;TZID=UTC:20241213T090000
DTEND;TZID=UTC:20241213T090000
DTSTAMP:20260423T105254
CREATED:20240121T222838Z
LAST-MODIFIED:20240121T222838Z
UID:4885-1734080400-1734080400@sudburydistrictdentalsociety.ca
SUMMARY:Dr. Valiquette
DESCRIPTION:
URL:https://sudburydistrictdentalsociety.ca/oncall/dr-valiquette-20/
END:VEVENT
BEGIN:VEVENT
DTSTART;TZID=UTC:20241214T090000
DTEND;TZID=UTC:20241214T090000
DTSTAMP:20260423T105254
CREATED:20240121T222838Z
LAST-MODIFIED:20240121T222838Z
UID:4886-1734166800-1734166800@sudburydistrictdentalsociety.ca
SUMMARY:Dr. Valiquette
DESCRIPTION:
URL:https://sudburydistrictdentalsociety.ca/oncall/dr-valiquette-21/
END:VEVENT
BEGIN:VEVENT
DTSTART;TZID=UTC:20241215T090000
DTEND;TZID=UTC:20241215T090000
DTSTAMP:20260423T105254
CREATED:20240121T222838Z
LAST-MODIFIED:20240121T222838Z
UID:4887-1734253200-1734253200@sudburydistrictdentalsociety.ca
SUMMARY:Dr. Valiquette
DESCRIPTION:
URL:https://sudburydistrictdentalsociety.ca/oncall/dr-valiquette-22/
END:VEVENT
BEGIN:VEVENT
DTSTART;TZID=UTC:20241216T080000
DTEND;TZID=UTC:20241216T080000
DTSTAMP:20260423T105254
CREATED:20240121T222839Z
LAST-MODIFIED:20240121T222839Z
UID:4888-1734336000-1734336000@sudburydistrictdentalsociety.ca
SUMMARY:Dr. Bubnik
DESCRIPTION:
URL:https://sudburydistrictdentalsociety.ca/oncall/dr-bubnik-46/
END:VEVENT
BEGIN:VEVENT
DTSTART;TZID=UTC:20241217T080000
DTEND;TZID=UTC:20241217T080000
DTSTAMP:20260423T105254
CREATED:20240121T222853Z
LAST-MODIFIED:20240121T222853Z
UID:4889-1734422400-1734422400@sudburydistrictdentalsociety.ca
SUMMARY:Dr. Majic
DESCRIPTION:
URL:https://sudburydistrictdentalsociety.ca/oncall/dr-majic-39/
END:VEVENT
BEGIN:VEVENT
DTSTART;TZID=UTC:20241218T080000
DTEND;TZID=UTC:20241218T080000
DTSTAMP:20260423T105254
CREATED:20240121T222853Z
LAST-MODIFIED:20240121T222853Z
UID:4890-1734508800-1734508800@sudburydistrictdentalsociety.ca
SUMMARY:Dr. Valiquette
DESCRIPTION:
URL:https://sudburydistrictdentalsociety.ca/oncall/dr-valiquette-23/
END:VEVENT
BEGIN:VEVENT
DTSTART;TZID=UTC:20241219T080000
DTEND;TZID=UTC:20241219T080000
DTSTAMP:20260423T105254
CREATED:20240121T222853Z
LAST-MODIFIED:20240121T222853Z
UID:4891-1734595200-1734595200@sudburydistrictdentalsociety.ca
SUMMARY:Dr. Budd
DESCRIPTION:
URL:https://sudburydistrictdentalsociety.ca/oncall/dr-budd-45/
END:VEVENT
BEGIN:VEVENT
DTSTART;TZID=UTC:20241220T090000
DTEND;TZID=UTC:20241220T090000
DTSTAMP:20260423T105254
CREATED:20240121T222854Z
LAST-MODIFIED:20240121T222854Z
UID:4892-1734685200-1734685200@sudburydistrictdentalsociety.ca
SUMMARY:Dr. Venugopal
DESCRIPTION:
URL:https://sudburydistrictdentalsociety.ca/oncall/dr-venugopal-46/
END:VEVENT
BEGIN:VEVENT
DTSTART;TZID=UTC:20241221T090000
DTEND;TZID=UTC:20241221T090000
DTSTAMP:20260423T105254
CREATED:20240121T222854Z
LAST-MODIFIED:20240121T222854Z
UID:4893-1734771600-1734771600@sudburydistrictdentalsociety.ca
SUMMARY:Dr. Ho
DESCRIPTION:
URL:https://sudburydistrictdentalsociety.ca/oncall/dr-ho-56/
END:VEVENT
BEGIN:VEVENT
DTSTART;TZID=UTC:20241222T090000
DTEND;TZID=UTC:20241222T090000
DTSTAMP:20260423T105254
CREATED:20240121T222908Z
LAST-MODIFIED:20240121T222908Z
UID:4894-1734858000-1734858000@sudburydistrictdentalsociety.ca
SUMMARY:Dr. Ho
DESCRIPTION:
URL:https://sudburydistrictdentalsociety.ca/oncall/dr-ho-57/
END:VEVENT
BEGIN:VEVENT
DTSTART;TZID=UTC:20241223T080000
DTEND;TZID=UTC:20241223T080000
DTSTAMP:20260423T105254
CREATED:20240121T222908Z
LAST-MODIFIED:20240121T222908Z
UID:4895-1734940800-1734940800@sudburydistrictdentalsociety.ca
SUMMARY:Dr. Gerhart
DESCRIPTION:
URL:https://sudburydistrictdentalsociety.ca/oncall/dr-gerhart-50/
END:VEVENT
BEGIN:VEVENT
DTSTART;TZID=UTC:20241224T080000
DTEND;TZID=UTC:20241224T080000
DTSTAMP:20260423T105254
CREATED:20240121T222908Z
LAST-MODIFIED:20240121T222908Z
UID:4896-1735027200-1735027200@sudburydistrictdentalsociety.ca
SUMMARY:Dr. Deol
DESCRIPTION:
URL:https://sudburydistrictdentalsociety.ca/oncall/dr-deol-37/
END:VEVENT
BEGIN:VEVENT
DTSTART;VALUE=DATE:20241225
DTEND;VALUE=DATE:20241227
DTSTAMP:20260423T105254
CREATED:20240121T220727Z
LAST-MODIFIED:20240121T222953Z
UID:4535-1735088400-1735174799@sudburydistrictdentalsociety.ca
SUMMARY:CHRISTMAS DAY
DESCRIPTION:
URL:https://sudburydistrictdentalsociety.ca/oncall/christmas-day-2/
END:VEVENT
BEGIN:VEVENT
DTSTART;VALUE=DATE:20241226
DTEND;VALUE=DATE:20241228
DTSTAMP:20260423T105254
CREATED:20240121T220727Z
LAST-MODIFIED:20240121T222953Z
UID:4536-1735174800-1735261199@sudburydistrictdentalsociety.ca
SUMMARY:BOXING DAY
DESCRIPTION:
URL:https://sudburydistrictdentalsociety.ca/oncall/boxing-day-2/
END:VEVENT
BEGIN:VEVENT
DTSTART;TZID=UTC:20241226T080000
DTEND;TZID=UTC:20241226T080000
DTSTAMP:20260423T105254
CREATED:20240121T222909Z
LAST-MODIFIED:20240121T222909Z
UID:4897-1735200000-1735200000@sudburydistrictdentalsociety.ca
SUMMARY:Dr. Wilson
DESCRIPTION:
URL:https://sudburydistrictdentalsociety.ca/oncall/dr-wilson-52/
END:VEVENT
BEGIN:VEVENT
DTSTART;TZID=UTC:20241227T090000
DTEND;TZID=UTC:20241227T090000
DTSTAMP:20260423T105254
CREATED:20240121T222909Z
LAST-MODIFIED:20240121T222909Z
UID:4898-1735290000-1735290000@sudburydistrictdentalsociety.ca
SUMMARY:Dr. Paige
DESCRIPTION:
URL:https://sudburydistrictdentalsociety.ca/oncall/dr-paige-25/
END:VEVENT
BEGIN:VEVENT
DTSTART;TZID=UTC:20241228T090000
DTEND;TZID=UTC:20241228T090000
DTSTAMP:20260423T105254
CREATED:20240121T222923Z
LAST-MODIFIED:20240121T222923Z
UID:4899-1735376400-1735376400@sudburydistrictdentalsociety.ca
SUMMARY:Dr. Richards
DESCRIPTION:
URL:https://sudburydistrictdentalsociety.ca/oncall/dr-richards-46/
END:VEVENT
BEGIN:VEVENT
DTSTART;TZID=UTC:20241229T090000
DTEND;TZID=UTC:20241229T090000
DTSTAMP:20260423T105254
CREATED:20240121T222923Z
LAST-MODIFIED:20240121T222923Z
UID:4900-1735462800-1735462800@sudburydistrictdentalsociety.ca
SUMMARY:Dr. Richards
DESCRIPTION:
URL:https://sudburydistrictdentalsociety.ca/oncall/dr-richards-47/
END:VEVENT
BEGIN:VEVENT
DTSTART;TZID=UTC:20241230T080000
DTEND;TZID=UTC:20241230T080000
DTSTAMP:20260423T105254
CREATED:20240121T222923Z
LAST-MODIFIED:20240121T222923Z
UID:4901-1735545600-1735545600@sudburydistrictdentalsociety.ca
SUMMARY:Dr. Carpentier
DESCRIPTION:
URL:https://sudburydistrictdentalsociety.ca/oncall/dr-carpentier-51/
END:VEVENT
BEGIN:VEVENT
DTSTART;TZID=UTC:20241231T080000
DTEND;TZID=UTC:20241231T080000
DTSTAMP:20260423T105254
CREATED:20240121T222924Z
LAST-MODIFIED:20240121T222924Z
UID:4902-1735632000-1735632000@sudburydistrictdentalsociety.ca
SUMMARY:Dr. Boljkovac
DESCRIPTION:
URL:https://sudburydistrictdentalsociety.ca/oncall/dr-boljkovac-15/
END:VEVENT
BEGIN:VEVENT
DTSTART;VALUE=DATE:20250101
DTEND;VALUE=DATE:20250103
DTSTAMP:20260423T105254
CREATED:20241231T234940Z
LAST-MODIFIED:20241231T234940Z
UID:4926-1735693200-1735779599@sudburydistrictdentalsociety.ca
SUMMARY:NO ONE
DESCRIPTION:
URL:https://sudburydistrictdentalsociety.ca/oncall/no-one/
END:VEVENT
BEGIN:VEVENT
DTSTART;VALUE=DATE:20250101
DTEND;VALUE=DATE:20250103
DTSTAMP:20260423T105254
CREATED:20250101T001428Z
LAST-MODIFIED:20250101T001428Z
UID:5291-1735693200-1735779599@sudburydistrictdentalsociety.ca
SUMMARY:New Year's Day
DESCRIPTION:
URL:https://sudburydistrictdentalsociety.ca/oncall/new-years-day-3/
END:VEVENT
BEGIN:VEVENT
DTSTART;TZID=UTC:20250102T080000
DTEND;TZID=UTC:20250102T080000
DTSTAMP:20260423T105254
CREATED:20241231T234940Z
LAST-MODIFIED:20241231T234940Z
UID:4927-1735804800-1735804800@sudburydistrictdentalsociety.ca
SUMMARY:Dr. Leclair
DESCRIPTION:
URL:https://sudburydistrictdentalsociety.ca/oncall/dr-leclair-58/
END:VEVENT
BEGIN:VEVENT
DTSTART;TZID=UTC:20250103T090000
DTEND;TZID=UTC:20250103T090000
DTSTAMP:20260423T105254
CREATED:20241231T234940Z
LAST-MODIFIED:20241231T234940Z
UID:4928-1735894800-1735894800@sudburydistrictdentalsociety.ca
SUMMARY:Dr. Leclair
DESCRIPTION:
URL:https://sudburydistrictdentalsociety.ca/oncall/dr-leclair-59/
END:VEVENT
BEGIN:VEVENT
DTSTART;TZID=UTC:20250104T090000
DTEND;TZID=UTC:20250104T090000
DTSTAMP:20260423T105254
CREATED:20241231T234940Z
LAST-MODIFIED:20241231T234940Z
UID:4929-1735981200-1735981200@sudburydistrictdentalsociety.ca
SUMMARY:Dr. Leclair
DESCRIPTION:
URL:https://sudburydistrictdentalsociety.ca/oncall/dr-leclair-60/
END:VEVENT
END:VCALENDAR