BEGIN:VCALENDAR
VERSION:2.0
PRODID:-//Sudbury &amp; District Dental Society - ECPv6.15.20//NONSGML v1.0//EN
CALSCALE:GREGORIAN
METHOD:PUBLISH
X-WR-CALNAME:Sudbury &amp; District Dental Society
X-ORIGINAL-URL:https://sudburydistrictdentalsociety.ca
X-WR-CALDESC:Events for Sudbury &amp; District Dental Society
REFRESH-INTERVAL;VALUE=DURATION:PT1H
X-Robots-Tag:noindex
X-PUBLISHED-TTL:PT1H
BEGIN:VTIMEZONE
TZID:UTC
BEGIN:STANDARD
TZOFFSETFROM:+0000
TZOFFSETTO:+0000
TZNAME:UTC
DTSTART:20240101T000000
END:STANDARD
END:VTIMEZONE
BEGIN:VEVENT
DTSTART;VALUE=DATE:20250804
DTEND;VALUE=DATE:20250806
DTSTAMP:20260422T223445
CREATED:20250101T001429Z
LAST-MODIFIED:20250101T001429Z
UID:5295-1754269200-1754355599@sudburydistrictdentalsociety.ca
SUMMARY:Civic Holiday
DESCRIPTION:
URL:https://sudburydistrictdentalsociety.ca/oncall/civic-holiday/
END:VEVENT
BEGIN:VEVENT
DTSTART;TZID=UTC:20250805T080000
DTEND;TZID=UTC:20250805T080000
DTSTAMP:20260422T223445
CREATED:20250101T000658Z
LAST-MODIFIED:20250101T000658Z
UID:5142-1754380800-1754380800@sudburydistrictdentalsociety.ca
SUMMARY:Dr. Talavia
DESCRIPTION:
URL:https://sudburydistrictdentalsociety.ca/oncall/dr-talavia-5/
END:VEVENT
BEGIN:VEVENT
DTSTART;TZID=UTC:20250806T080000
DTEND;TZID=UTC:20250806T080000
DTSTAMP:20260422T223445
CREATED:20250101T000658Z
LAST-MODIFIED:20250101T000658Z
UID:5143-1754467200-1754467200@sudburydistrictdentalsociety.ca
SUMMARY:Dr. Virani
DESCRIPTION:
URL:https://sudburydistrictdentalsociety.ca/oncall/dr-virani-24/
END:VEVENT
BEGIN:VEVENT
DTSTART;TZID=UTC:20250807T080000
DTEND;TZID=UTC:20250807T080000
DTSTAMP:20260422T223445
CREATED:20250101T000659Z
LAST-MODIFIED:20250101T000659Z
UID:5144-1754553600-1754553600@sudburydistrictdentalsociety.ca
SUMMARY:Dr. Talavia
DESCRIPTION:
URL:https://sudburydistrictdentalsociety.ca/oncall/dr-talavia-6/
END:VEVENT
BEGIN:VEVENT
DTSTART;TZID=UTC:20250808T090000
DTEND;TZID=UTC:20250808T090000
DTSTAMP:20260422T223445
CREATED:20250101T000659Z
LAST-MODIFIED:20250101T000659Z
UID:5145-1754643600-1754643600@sudburydistrictdentalsociety.ca
SUMMARY:Dr. Racicot
DESCRIPTION:
URL:https://sudburydistrictdentalsociety.ca/oncall/dr-racicot-55/
END:VEVENT
BEGIN:VEVENT
DTSTART;TZID=UTC:20250809T090000
DTEND;TZID=UTC:20250809T090000
DTSTAMP:20260422T223445
CREATED:20250101T000713Z
LAST-MODIFIED:20250101T000713Z
UID:5146-1754730000-1754730000@sudburydistrictdentalsociety.ca
SUMMARY:Dr. Racicot
DESCRIPTION:
URL:https://sudburydistrictdentalsociety.ca/oncall/dr-racicot-56/
END:VEVENT
BEGIN:VEVENT
DTSTART;TZID=UTC:20250810T090000
DTEND;TZID=UTC:20250810T090000
DTSTAMP:20260422T223445
CREATED:20250101T000713Z
LAST-MODIFIED:20250101T000713Z
UID:5147-1754816400-1754816400@sudburydistrictdentalsociety.ca
SUMMARY:Dr. Racicot
DESCRIPTION:
URL:https://sudburydistrictdentalsociety.ca/oncall/dr-racicot-57/
END:VEVENT
BEGIN:VEVENT
DTSTART;TZID=UTC:20250811T080000
DTEND;TZID=UTC:20250811T080000
DTSTAMP:20260422T223445
CREATED:20250101T000713Z
LAST-MODIFIED:20250101T000713Z
UID:5148-1754899200-1754899200@sudburydistrictdentalsociety.ca
SUMMARY:Dr. Treleaven
DESCRIPTION:
URL:https://sudburydistrictdentalsociety.ca/oncall/dr-treleaven-57/
END:VEVENT
BEGIN:VEVENT
DTSTART;TZID=UTC:20250812T080000
DTEND;TZID=UTC:20250812T080000
DTSTAMP:20260422T223445
CREATED:20250101T000714Z
LAST-MODIFIED:20250101T000714Z
UID:5149-1754985600-1754985600@sudburydistrictdentalsociety.ca
SUMMARY:Dr. Junor
DESCRIPTION:
URL:https://sudburydistrictdentalsociety.ca/oncall/dr-junor-49/
END:VEVENT
BEGIN:VEVENT
DTSTART;TZID=UTC:20250813T080000
DTEND;TZID=UTC:20250813T080000
DTSTAMP:20260422T223445
CREATED:20250101T000714Z
LAST-MODIFIED:20250101T000714Z
UID:5150-1755072000-1755072000@sudburydistrictdentalsociety.ca
SUMMARY:Dr. Wells
DESCRIPTION:
URL:https://sudburydistrictdentalsociety.ca/oncall/dr-wells-47/
END:VEVENT
BEGIN:VEVENT
DTSTART;TZID=UTC:20250814T080000
DTEND;TZID=UTC:20250814T080000
DTSTAMP:20260422T223445
CREATED:20250101T000728Z
LAST-MODIFIED:20250101T000728Z
UID:5151-1755158400-1755158400@sudburydistrictdentalsociety.ca
SUMMARY:Dr. Waszczylo
DESCRIPTION:
URL:https://sudburydistrictdentalsociety.ca/oncall/dr-waszczylo-50/
END:VEVENT
BEGIN:VEVENT
DTSTART;TZID=UTC:20250815T090000
DTEND;TZID=UTC:20250815T090000
DTSTAMP:20260422T223445
CREATED:20250101T000728Z
LAST-MODIFIED:20250101T000728Z
UID:5152-1755248400-1755248400@sudburydistrictdentalsociety.ca
SUMMARY:Dr. Conaty
DESCRIPTION:
URL:https://sudburydistrictdentalsociety.ca/oncall/dr-conaty-49/
END:VEVENT
BEGIN:VEVENT
DTSTART;TZID=UTC:20250816T090000
DTEND;TZID=UTC:20250816T090000
DTSTAMP:20260422T223445
CREATED:20250101T000728Z
LAST-MODIFIED:20250101T000728Z
UID:5153-1755334800-1755334800@sudburydistrictdentalsociety.ca
SUMMARY:Dr. Conaty
DESCRIPTION:
URL:https://sudburydistrictdentalsociety.ca/oncall/dr-conaty-50/
END:VEVENT
BEGIN:VEVENT
DTSTART;TZID=UTC:20250817T090000
DTEND;TZID=UTC:20250817T090000
DTSTAMP:20260422T223445
CREATED:20250101T000729Z
LAST-MODIFIED:20250101T000729Z
UID:5154-1755421200-1755421200@sudburydistrictdentalsociety.ca
SUMMARY:Dr. Conaty
DESCRIPTION:
URL:https://sudburydistrictdentalsociety.ca/oncall/dr-conaty-51/
END:VEVENT
BEGIN:VEVENT
DTSTART;TZID=UTC:20250818T080000
DTEND;TZID=UTC:20250818T080000
DTSTAMP:20260422T223445
CREATED:20250101T000729Z
LAST-MODIFIED:20250101T000729Z
UID:5155-1755504000-1755504000@sudburydistrictdentalsociety.ca
SUMMARY:Dr. Wilson
DESCRIPTION:
URL:https://sudburydistrictdentalsociety.ca/oncall/dr-wilson-55/
END:VEVENT
BEGIN:VEVENT
DTSTART;TZID=UTC:20250819T080000
DTEND;TZID=UTC:20250819T080000
DTSTAMP:20260422T223445
CREATED:20250101T000743Z
LAST-MODIFIED:20250101T000743Z
UID:5156-1755590400-1755590400@sudburydistrictdentalsociety.ca
SUMMARY:Dr. Treleaven
DESCRIPTION:
URL:https://sudburydistrictdentalsociety.ca/oncall/dr-treleaven-58/
END:VEVENT
BEGIN:VEVENT
DTSTART;TZID=UTC:20250820T080000
DTEND;TZID=UTC:20250820T080000
DTSTAMP:20260422T223445
CREATED:20250101T000743Z
LAST-MODIFIED:20250101T000743Z
UID:5157-1755676800-1755676800@sudburydistrictdentalsociety.ca
SUMMARY:Dr. Sirkka
DESCRIPTION:
URL:https://sudburydistrictdentalsociety.ca/oncall/dr-sirkka-25/
END:VEVENT
BEGIN:VEVENT
DTSTART;TZID=UTC:20250821T080000
DTEND;TZID=UTC:20250821T080000
DTSTAMP:20260422T223445
CREATED:20250101T000743Z
LAST-MODIFIED:20250221T200733Z
UID:5158-1755763200-1755763200@sudburydistrictdentalsociety.ca
SUMMARY:Dr. Gerhart
DESCRIPTION:
URL:https://sudburydistrictdentalsociety.ca/oncall/dr-nguyen-134/
END:VEVENT
BEGIN:VEVENT
DTSTART;TZID=UTC:20250822T090000
DTEND;TZID=UTC:20250822T090000
DTSTAMP:20260422T223445
CREATED:20250101T000744Z
LAST-MODIFIED:20250101T000744Z
UID:5159-1755853200-1755853200@sudburydistrictdentalsociety.ca
SUMMARY:Dr. Montpellier
DESCRIPTION:
URL:https://sudburydistrictdentalsociety.ca/oncall/dr-montpellier-47/
END:VEVENT
BEGIN:VEVENT
DTSTART;TZID=UTC:20250823T090000
DTEND;TZID=UTC:20250823T090000
DTSTAMP:20260422T223445
CREATED:20250101T000744Z
LAST-MODIFIED:20250101T000744Z
UID:5160-1755939600-1755939600@sudburydistrictdentalsociety.ca
SUMMARY:Dr. Montpellier
DESCRIPTION:
URL:https://sudburydistrictdentalsociety.ca/oncall/dr-montpellier-48/
END:VEVENT
BEGIN:VEVENT
DTSTART;TZID=UTC:20250824T090000
DTEND;TZID=UTC:20250824T090000
DTSTAMP:20260422T223445
CREATED:20250101T000758Z
LAST-MODIFIED:20250101T000758Z
UID:5161-1756026000-1756026000@sudburydistrictdentalsociety.ca
SUMMARY:Dr. Montpellier
DESCRIPTION:
URL:https://sudburydistrictdentalsociety.ca/oncall/dr-montpellier-49/
END:VEVENT
BEGIN:VEVENT
DTSTART;TZID=UTC:20250825T080000
DTEND;TZID=UTC:20250825T080000
DTSTAMP:20260422T223445
CREATED:20250101T000758Z
LAST-MODIFIED:20250101T000758Z
UID:5162-1756108800-1756108800@sudburydistrictdentalsociety.ca
SUMMARY:Dr. Wells
DESCRIPTION:
URL:https://sudburydistrictdentalsociety.ca/oncall/dr-wells-48/
END:VEVENT
BEGIN:VEVENT
DTSTART;TZID=UTC:20250826T080000
DTEND;TZID=UTC:20250826T080000
DTSTAMP:20260422T223445
CREATED:20250101T000759Z
LAST-MODIFIED:20250101T000759Z
UID:5163-1756195200-1756195200@sudburydistrictdentalsociety.ca
SUMMARY:Dr. Junor
DESCRIPTION:
URL:https://sudburydistrictdentalsociety.ca/oncall/dr-junor-50/
END:VEVENT
BEGIN:VEVENT
DTSTART;TZID=UTC:20250827T080000
DTEND;TZID=UTC:20250827T080000
DTSTAMP:20260422T223445
CREATED:20250101T000759Z
LAST-MODIFIED:20250101T000759Z
UID:5164-1756281600-1756281600@sudburydistrictdentalsociety.ca
SUMMARY:Dr. Conaty
DESCRIPTION:
URL:https://sudburydistrictdentalsociety.ca/oncall/dr-conaty-52/
END:VEVENT
BEGIN:VEVENT
DTSTART;TZID=UTC:20250828T080000
DTEND;TZID=UTC:20250828T080000
DTSTAMP:20260422T223445
CREATED:20250101T000759Z
LAST-MODIFIED:20250101T000759Z
UID:5165-1756368000-1756368000@sudburydistrictdentalsociety.ca
SUMMARY:Dr. Virani
DESCRIPTION:
URL:https://sudburydistrictdentalsociety.ca/oncall/dr-virani-25/
END:VEVENT
BEGIN:VEVENT
DTSTART;TZID=UTC:20250829T090000
DTEND;TZID=UTC:20250829T090000
DTSTAMP:20260422T223445
CREATED:20250101T000813Z
LAST-MODIFIED:20250101T000813Z
UID:5166-1756458000-1756458000@sudburydistrictdentalsociety.ca
SUMMARY:Dr. Deol
DESCRIPTION:
URL:https://sudburydistrictdentalsociety.ca/oncall/dr-deol-45/
END:VEVENT
BEGIN:VEVENT
DTSTART;TZID=UTC:20250830T090000
DTEND;TZID=UTC:20250830T090000
DTSTAMP:20260422T223445
CREATED:20250101T000813Z
LAST-MODIFIED:20250101T000813Z
UID:5167-1756544400-1756544400@sudburydistrictdentalsociety.ca
SUMMARY:Dr. Budd
DESCRIPTION:
URL:https://sudburydistrictdentalsociety.ca/oncall/dr-budd-48/
END:VEVENT
BEGIN:VEVENT
DTSTART;TZID=UTC:20250831T090000
DTEND;TZID=UTC:20250831T090000
DTSTAMP:20260422T223445
CREATED:20250101T000813Z
LAST-MODIFIED:20250101T000813Z
UID:5168-1756630800-1756630800@sudburydistrictdentalsociety.ca
SUMMARY:Dr. Budd
DESCRIPTION:
URL:https://sudburydistrictdentalsociety.ca/oncall/dr-budd-49/
END:VEVENT
BEGIN:VEVENT
DTSTART;VALUE=DATE:20250901
DTEND;VALUE=DATE:20250903
DTSTAMP:20260422T223445
CREATED:20250101T001428Z
LAST-MODIFIED:20250101T001428Z
UID:5294-1756688400-1756774799@sudburydistrictdentalsociety.ca
SUMMARY:Labour Day
DESCRIPTION:
URL:https://sudburydistrictdentalsociety.ca/oncall/labour-day-4/
END:VEVENT
BEGIN:VEVENT
DTSTART;TZID=UTC:20250901T090000
DTEND;TZID=UTC:20250901T090000
DTSTAMP:20260422T223445
CREATED:20250101T000814Z
LAST-MODIFIED:20250101T000814Z
UID:5169-1756717200-1756717200@sudburydistrictdentalsociety.ca
SUMMARY:Dr. Budd
DESCRIPTION:
URL:https://sudburydistrictdentalsociety.ca/oncall/dr-budd-50/
END:VEVENT
END:VCALENDAR