BEGIN:VCALENDAR
VERSION:2.0
PRODID:-//Sudbury &amp; District Dental Society - ECPv6.15.20//NONSGML v1.0//EN
CALSCALE:GREGORIAN
METHOD:PUBLISH
X-ORIGINAL-URL:https://sudburydistrictdentalsociety.ca
X-WR-CALDESC:Events for Sudbury &amp; District Dental Society
REFRESH-INTERVAL;VALUE=DURATION:PT1H
X-Robots-Tag:noindex
X-PUBLISHED-TTL:PT1H
BEGIN:VTIMEZONE
TZID:UTC
BEGIN:STANDARD
TZOFFSETFROM:+0000
TZOFFSETTO:+0000
TZNAME:UTC
DTSTART:20230101T000000
END:STANDARD
END:VTIMEZONE
BEGIN:VEVENT
DTSTART;TZID=UTC:20241229T090000
DTEND;TZID=UTC:20241229T090000
DTSTAMP:20260423T092603
CREATED:20240121T222923Z
LAST-MODIFIED:20240121T222923Z
UID:4900-1735462800-1735462800@sudburydistrictdentalsociety.ca
SUMMARY:Dr. Richards
DESCRIPTION:
URL:https://sudburydistrictdentalsociety.ca/oncall/dr-richards-47/
END:VEVENT
BEGIN:VEVENT
DTSTART;TZID=UTC:20241230T080000
DTEND;TZID=UTC:20241230T080000
DTSTAMP:20260423T092603
CREATED:20240121T222923Z
LAST-MODIFIED:20240121T222923Z
UID:4901-1735545600-1735545600@sudburydistrictdentalsociety.ca
SUMMARY:Dr. Carpentier
DESCRIPTION:
URL:https://sudburydistrictdentalsociety.ca/oncall/dr-carpentier-51/
END:VEVENT
BEGIN:VEVENT
DTSTART;TZID=UTC:20241231T080000
DTEND;TZID=UTC:20241231T080000
DTSTAMP:20260423T092603
CREATED:20240121T222924Z
LAST-MODIFIED:20240121T222924Z
UID:4902-1735632000-1735632000@sudburydistrictdentalsociety.ca
SUMMARY:Dr. Boljkovac
DESCRIPTION:
URL:https://sudburydistrictdentalsociety.ca/oncall/dr-boljkovac-15/
END:VEVENT
BEGIN:VEVENT
DTSTART;VALUE=DATE:20250101
DTEND;VALUE=DATE:20250103
DTSTAMP:20260423T092603
CREATED:20241231T234940Z
LAST-MODIFIED:20241231T234940Z
UID:4926-1735693200-1735779599@sudburydistrictdentalsociety.ca
SUMMARY:NO ONE
DESCRIPTION:
URL:https://sudburydistrictdentalsociety.ca/oncall/no-one/
END:VEVENT
BEGIN:VEVENT
DTSTART;VALUE=DATE:20250101
DTEND;VALUE=DATE:20250103
DTSTAMP:20260423T092603
CREATED:20250101T001428Z
LAST-MODIFIED:20250101T001428Z
UID:5291-1735693200-1735779599@sudburydistrictdentalsociety.ca
SUMMARY:New Year's Day
DESCRIPTION:
URL:https://sudburydistrictdentalsociety.ca/oncall/new-years-day-3/
END:VEVENT
BEGIN:VEVENT
DTSTART;TZID=UTC:20250102T080000
DTEND;TZID=UTC:20250102T080000
DTSTAMP:20260423T092603
CREATED:20241231T234940Z
LAST-MODIFIED:20241231T234940Z
UID:4927-1735804800-1735804800@sudburydistrictdentalsociety.ca
SUMMARY:Dr. Leclair
DESCRIPTION:
URL:https://sudburydistrictdentalsociety.ca/oncall/dr-leclair-58/
END:VEVENT
BEGIN:VEVENT
DTSTART;TZID=UTC:20250103T090000
DTEND;TZID=UTC:20250103T090000
DTSTAMP:20260423T092603
CREATED:20241231T234940Z
LAST-MODIFIED:20241231T234940Z
UID:4928-1735894800-1735894800@sudburydistrictdentalsociety.ca
SUMMARY:Dr. Leclair
DESCRIPTION:
URL:https://sudburydistrictdentalsociety.ca/oncall/dr-leclair-59/
END:VEVENT
BEGIN:VEVENT
DTSTART;TZID=UTC:20250104T090000
DTEND;TZID=UTC:20250104T090000
DTSTAMP:20260423T092603
CREATED:20241231T234940Z
LAST-MODIFIED:20241231T234940Z
UID:4929-1735981200-1735981200@sudburydistrictdentalsociety.ca
SUMMARY:Dr. Leclair
DESCRIPTION:
URL:https://sudburydistrictdentalsociety.ca/oncall/dr-leclair-60/
END:VEVENT
BEGIN:VEVENT
DTSTART;TZID=UTC:20250105T090000
DTEND;TZID=UTC:20250105T090000
DTSTAMP:20260423T092603
CREATED:20241231T234941Z
LAST-MODIFIED:20241231T234941Z
UID:4930-1736067600-1736067600@sudburydistrictdentalsociety.ca
SUMMARY:Dr. Leclair
DESCRIPTION:
URL:https://sudburydistrictdentalsociety.ca/oncall/dr-leclair-61/
END:VEVENT
BEGIN:VEVENT
DTSTART;TZID=UTC:20250106T080000
DTEND;TZID=UTC:20250106T080000
DTSTAMP:20260423T092603
CREATED:20241231T234941Z
LAST-MODIFIED:20241231T234941Z
UID:4931-1736150400-1736150400@sudburydistrictdentalsociety.ca
SUMMARY:Dr. Leclair
DESCRIPTION:
URL:https://sudburydistrictdentalsociety.ca/oncall/dr-leclair-62/
END:VEVENT
BEGIN:VEVENT
DTSTART;TZID=UTC:20250107T080000
DTEND;TZID=UTC:20250107T080000
DTSTAMP:20260423T092603
CREATED:20241231T234942Z
LAST-MODIFIED:20241231T234942Z
UID:4932-1736236800-1736236800@sudburydistrictdentalsociety.ca
SUMMARY:Dr. Leclair
DESCRIPTION:
URL:https://sudburydistrictdentalsociety.ca/oncall/dr-leclair-63/
END:VEVENT
BEGIN:VEVENT
DTSTART;TZID=UTC:20250108T080000
DTEND;TZID=UTC:20250108T080000
DTSTAMP:20260423T092603
CREATED:20241231T234942Z
LAST-MODIFIED:20241231T234942Z
UID:4933-1736323200-1736323200@sudburydistrictdentalsociety.ca
SUMMARY:Dr. Leclair
DESCRIPTION:
URL:https://sudburydistrictdentalsociety.ca/oncall/dr-leclair-64/
END:VEVENT
BEGIN:VEVENT
DTSTART;TZID=UTC:20250109T080000
DTEND;TZID=UTC:20250109T080000
DTSTAMP:20260423T092603
CREATED:20241231T234942Z
LAST-MODIFIED:20241231T234942Z
UID:4934-1736409600-1736409600@sudburydistrictdentalsociety.ca
SUMMARY:Dr. Trottier
DESCRIPTION:
URL:https://sudburydistrictdentalsociety.ca/oncall/dr-trottier-49/
END:VEVENT
BEGIN:VEVENT
DTSTART;TZID=UTC:20250110T090000
DTEND;TZID=UTC:20250110T090000
DTSTAMP:20260423T092603
CREATED:20241231T234942Z
LAST-MODIFIED:20241231T234942Z
UID:4935-1736499600-1736499600@sudburydistrictdentalsociety.ca
SUMMARY:Dr. Degurse
DESCRIPTION:
URL:https://sudburydistrictdentalsociety.ca/oncall/dr-degurse-13/
END:VEVENT
BEGIN:VEVENT
DTSTART;TZID=UTC:20250111T090000
DTEND;TZID=UTC:20250111T090000
DTSTAMP:20260423T092603
CREATED:20241231T234958Z
LAST-MODIFIED:20241231T234958Z
UID:4936-1736586000-1736586000@sudburydistrictdentalsociety.ca
SUMMARY:Dr. Degurse
DESCRIPTION:
URL:https://sudburydistrictdentalsociety.ca/oncall/dr-degurse-14/
END:VEVENT
BEGIN:VEVENT
DTSTART;TZID=UTC:20250112T090000
DTEND;TZID=UTC:20250112T090000
DTSTAMP:20260423T092603
CREATED:20241231T234958Z
LAST-MODIFIED:20241231T234958Z
UID:4937-1736672400-1736672400@sudburydistrictdentalsociety.ca
SUMMARY:Dr. Floreani
DESCRIPTION:
URL:https://sudburydistrictdentalsociety.ca/oncall/dr-floreani-45/
END:VEVENT
BEGIN:VEVENT
DTSTART;TZID=UTC:20250113T080000
DTEND;TZID=UTC:20250113T080000
DTSTAMP:20260423T092603
CREATED:20241231T234959Z
LAST-MODIFIED:20241231T234959Z
UID:4938-1736755200-1736755200@sudburydistrictdentalsociety.ca
SUMMARY:Dr. Floreani
DESCRIPTION:
URL:https://sudburydistrictdentalsociety.ca/oncall/dr-floreani-46/
END:VEVENT
BEGIN:VEVENT
DTSTART;TZID=UTC:20250114T080000
DTEND;TZID=UTC:20250114T080000
DTSTAMP:20260423T092603
CREATED:20241231T234959Z
LAST-MODIFIED:20241231T234959Z
UID:4939-1736841600-1736841600@sudburydistrictdentalsociety.ca
SUMMARY:Dr. Floreani
DESCRIPTION:
URL:https://sudburydistrictdentalsociety.ca/oncall/dr-floreani-47/
END:VEVENT
BEGIN:VEVENT
DTSTART;TZID=UTC:20250115T080000
DTEND;TZID=UTC:20250115T080000
DTSTAMP:20260423T092603
CREATED:20241231T234959Z
LAST-MODIFIED:20241231T234959Z
UID:4940-1736928000-1736928000@sudburydistrictdentalsociety.ca
SUMMARY:Dr. Floreani
DESCRIPTION:
URL:https://sudburydistrictdentalsociety.ca/oncall/dr-floreani-48/
END:VEVENT
BEGIN:VEVENT
DTSTART;TZID=UTC:20250116T080000
DTEND;TZID=UTC:20250116T080000
DTSTAMP:20260423T092603
CREATED:20241231T235150Z
LAST-MODIFIED:20241231T235150Z
UID:4941-1737014400-1737014400@sudburydistrictdentalsociety.ca
SUMMARY:Dr. Carpentier
DESCRIPTION:
URL:https://sudburydistrictdentalsociety.ca/oncall/dr-carpentier-52/
END:VEVENT
BEGIN:VEVENT
DTSTART;TZID=UTC:20250117T090000
DTEND;TZID=UTC:20250117T090000
DTSTAMP:20260423T092603
CREATED:20241231T235150Z
LAST-MODIFIED:20241231T235150Z
UID:4942-1737104400-1737104400@sudburydistrictdentalsociety.ca
SUMMARY:Dr. Han
DESCRIPTION:
URL:https://sudburydistrictdentalsociety.ca/oncall/dr-han-46/
END:VEVENT
BEGIN:VEVENT
DTSTART;TZID=UTC:20250118T090000
DTEND;TZID=UTC:20250118T090000
DTSTAMP:20260423T092603
CREATED:20241231T235151Z
LAST-MODIFIED:20241231T235151Z
UID:4943-1737190800-1737190800@sudburydistrictdentalsociety.ca
SUMMARY:Dr. Deol
DESCRIPTION:
URL:https://sudburydistrictdentalsociety.ca/oncall/dr-deol-38/
END:VEVENT
BEGIN:VEVENT
DTSTART;TZID=UTC:20250119T090000
DTEND;TZID=UTC:20250119T090000
DTSTAMP:20260423T092603
CREATED:20241231T235151Z
LAST-MODIFIED:20241231T235151Z
UID:4944-1737277200-1737277200@sudburydistrictdentalsociety.ca
SUMMARY:Dr. Deol
DESCRIPTION:
URL:https://sudburydistrictdentalsociety.ca/oncall/dr-deol-39/
END:VEVENT
BEGIN:VEVENT
DTSTART;TZID=UTC:20250120T080000
DTEND;TZID=UTC:20250120T080000
DTSTAMP:20260423T092603
CREATED:20241231T235151Z
LAST-MODIFIED:20241231T235151Z
UID:4945-1737360000-1737360000@sudburydistrictdentalsociety.ca
SUMMARY:Dr. Deol
DESCRIPTION:
URL:https://sudburydistrictdentalsociety.ca/oncall/dr-deol-40/
END:VEVENT
BEGIN:VEVENT
DTSTART;TZID=UTC:20250121T080000
DTEND;TZID=UTC:20250121T080000
DTSTAMP:20260423T092603
CREATED:20241231T235206Z
LAST-MODIFIED:20241231T235206Z
UID:4946-1737446400-1737446400@sudburydistrictdentalsociety.ca
SUMMARY:Dr. Deol
DESCRIPTION:
URL:https://sudburydistrictdentalsociety.ca/oncall/dr-deol-41/
END:VEVENT
BEGIN:VEVENT
DTSTART;TZID=UTC:20250122T080000
DTEND;TZID=UTC:20250122T080000
DTSTAMP:20260423T092603
CREATED:20241231T235206Z
LAST-MODIFIED:20241231T235206Z
UID:4947-1737532800-1737532800@sudburydistrictdentalsociety.ca
SUMMARY:Dr. Deol
DESCRIPTION:
URL:https://sudburydistrictdentalsociety.ca/oncall/dr-deol-42/
END:VEVENT
BEGIN:VEVENT
DTSTART;TZID=UTC:20250123T080000
DTEND;TZID=UTC:20250123T080000
DTSTAMP:20260423T092603
CREATED:20241231T235206Z
LAST-MODIFIED:20241231T235206Z
UID:4948-1737619200-1737619200@sudburydistrictdentalsociety.ca
SUMMARY:Dr. Deol
DESCRIPTION:
URL:https://sudburydistrictdentalsociety.ca/oncall/dr-deol-43/
END:VEVENT
BEGIN:VEVENT
DTSTART;TZID=UTC:20250124T090000
DTEND;TZID=UTC:20250124T090000
DTSTAMP:20260423T092603
CREATED:20241231T235207Z
LAST-MODIFIED:20241231T235207Z
UID:4949-1737709200-1737709200@sudburydistrictdentalsociety.ca
SUMMARY:Dr. Deol
DESCRIPTION:
URL:https://sudburydistrictdentalsociety.ca/oncall/dr-deol-44/
END:VEVENT
BEGIN:VEVENT
DTSTART;TZID=UTC:20250125T090000
DTEND;TZID=UTC:20250125T090000
DTSTAMP:20260423T092603
CREATED:20241231T235207Z
LAST-MODIFIED:20241231T235207Z
UID:4950-1737795600-1737795600@sudburydistrictdentalsociety.ca
SUMMARY:Dr. Tassone
DESCRIPTION:
URL:https://sudburydistrictdentalsociety.ca/oncall/dr-tassone-49/
END:VEVENT
BEGIN:VEVENT
DTSTART;TZID=UTC:20250126T090000
DTEND;TZID=UTC:20250126T090000
DTSTAMP:20260423T092603
CREATED:20241231T235222Z
LAST-MODIFIED:20241231T235222Z
UID:4951-1737882000-1737882000@sudburydistrictdentalsociety.ca
SUMMARY:Dr. Tassone
DESCRIPTION:
URL:https://sudburydistrictdentalsociety.ca/oncall/dr-tassone-50/
END:VEVENT
END:VCALENDAR