BEGIN:VCALENDAR
VERSION:2.0
PRODID:-//Sudbury &amp; District Dental Society - ECPv6.15.20//NONSGML v1.0//EN
CALSCALE:GREGORIAN
METHOD:PUBLISH
X-ORIGINAL-URL:https://sudburydistrictdentalsociety.ca
X-WR-CALDESC:Events for Sudbury &amp; District Dental Society
REFRESH-INTERVAL;VALUE=DURATION:PT1H
X-Robots-Tag:noindex
X-PUBLISHED-TTL:PT1H
BEGIN:VTIMEZONE
TZID:UTC
BEGIN:STANDARD
TZOFFSETFROM:+0000
TZOFFSETTO:+0000
TZNAME:UTC
DTSTART:20240101T000000
END:STANDARD
END:VTIMEZONE
BEGIN:VEVENT
DTSTART;TZID=UTC:20250903T080000
DTEND;TZID=UTC:20250903T080000
DTSTAMP:20260422T223851
CREATED:20250101T000828Z
LAST-MODIFIED:20250101T000828Z
UID:5171-1756886400-1756886400@sudburydistrictdentalsociety.ca
SUMMARY:Dr. Teijeiro
DESCRIPTION:
URL:https://sudburydistrictdentalsociety.ca/oncall/dr-teijeiro-87/
END:VEVENT
BEGIN:VEVENT
DTSTART;TZID=UTC:20250904T080000
DTEND;TZID=UTC:20250904T080000
DTSTAMP:20260422T223851
CREATED:20250101T000828Z
LAST-MODIFIED:20250101T000828Z
UID:5172-1756972800-1756972800@sudburydistrictdentalsociety.ca
SUMMARY:Dr. Mate
DESCRIPTION:
URL:https://sudburydistrictdentalsociety.ca/oncall/dr-mate-38/
END:VEVENT
BEGIN:VEVENT
DTSTART;TZID=UTC:20250905T090000
DTEND;TZID=UTC:20250905T090000
DTSTAMP:20260422T223851
CREATED:20250101T000828Z
LAST-MODIFIED:20250101T000828Z
UID:5173-1757062800-1757062800@sudburydistrictdentalsociety.ca
SUMMARY:Dr. Mate
DESCRIPTION:
URL:https://sudburydistrictdentalsociety.ca/oncall/dr-mate-39/
END:VEVENT
BEGIN:VEVENT
DTSTART;TZID=UTC:20250906T090000
DTEND;TZID=UTC:20250906T090000
DTSTAMP:20260422T223851
CREATED:20250101T000829Z
LAST-MODIFIED:20250101T000829Z
UID:5174-1757149200-1757149200@sudburydistrictdentalsociety.ca
SUMMARY:Dr. Mate
DESCRIPTION:
URL:https://sudburydistrictdentalsociety.ca/oncall/dr-mate-40/
END:VEVENT
BEGIN:VEVENT
DTSTART;TZID=UTC:20250907T090000
DTEND;TZID=UTC:20250907T090000
DTSTAMP:20260422T223851
CREATED:20250101T000829Z
LAST-MODIFIED:20250101T000829Z
UID:5175-1757235600-1757235600@sudburydistrictdentalsociety.ca
SUMMARY:Dr. Mate
DESCRIPTION:
URL:https://sudburydistrictdentalsociety.ca/oncall/dr-mate-41/
END:VEVENT
BEGIN:VEVENT
DTSTART;TZID=UTC:20250908T080000
DTEND;TZID=UTC:20250908T080000
DTSTAMP:20260422T223851
CREATED:20250101T000843Z
LAST-MODIFIED:20250101T000843Z
UID:5176-1757318400-1757318400@sudburydistrictdentalsociety.ca
SUMMARY:Dr. Grebe
DESCRIPTION:
URL:https://sudburydistrictdentalsociety.ca/oncall/dr-grebe-141/
END:VEVENT
BEGIN:VEVENT
DTSTART;TZID=UTC:20250909T080000
DTEND;TZID=UTC:20250909T080000
DTSTAMP:20260422T223851
CREATED:20250101T000843Z
LAST-MODIFIED:20250101T000843Z
UID:5177-1757404800-1757404800@sudburydistrictdentalsociety.ca
SUMMARY:Dr. Teijeiro
DESCRIPTION:
URL:https://sudburydistrictdentalsociety.ca/oncall/dr-teijeiro-88/
END:VEVENT
BEGIN:VEVENT
DTSTART;TZID=UTC:20250910T080000
DTEND;TZID=UTC:20250910T080000
DTSTAMP:20260422T223851
CREATED:20250101T000843Z
LAST-MODIFIED:20250101T000843Z
UID:5178-1757491200-1757491200@sudburydistrictdentalsociety.ca
SUMMARY:Dr. Teijeiro
DESCRIPTION:
URL:https://sudburydistrictdentalsociety.ca/oncall/dr-teijeiro-89/
END:VEVENT
BEGIN:VEVENT
DTSTART;TZID=UTC:20250911T080000
DTEND;TZID=UTC:20250911T080000
DTSTAMP:20260422T223851
CREATED:20250101T000844Z
LAST-MODIFIED:20250308T172559Z
UID:5179-1757577600-1757577600@sudburydistrictdentalsociety.ca
SUMMARY:Dr. Ho
DESCRIPTION:
URL:https://sudburydistrictdentalsociety.ca/oncall/dr-treleaven-59/
END:VEVENT
BEGIN:VEVENT
DTSTART;TZID=UTC:20250912T090000
DTEND;TZID=UTC:20250912T090000
DTSTAMP:20260422T223851
CREATED:20250101T000844Z
LAST-MODIFIED:20250101T000844Z
UID:5180-1757667600-1757667600@sudburydistrictdentalsociety.ca
SUMMARY:Dr. Teijeiro
DESCRIPTION:
URL:https://sudburydistrictdentalsociety.ca/oncall/dr-teijeiro-90/
END:VEVENT
BEGIN:VEVENT
DTSTART;TZID=UTC:20250913T090000
DTEND;TZID=UTC:20250913T090000
DTSTAMP:20260422T223851
CREATED:20250101T000858Z
LAST-MODIFIED:20250101T000858Z
UID:5181-1757754000-1757754000@sudburydistrictdentalsociety.ca
SUMMARY:Dr. Teijeiro
DESCRIPTION:
URL:https://sudburydistrictdentalsociety.ca/oncall/dr-teijeiro-91/
END:VEVENT
BEGIN:VEVENT
DTSTART;TZID=UTC:20250914T090000
DTEND;TZID=UTC:20250914T090000
DTSTAMP:20260422T223851
CREATED:20250101T000858Z
LAST-MODIFIED:20250101T000858Z
UID:5182-1757840400-1757840400@sudburydistrictdentalsociety.ca
SUMMARY:Dr. Teijeiro
DESCRIPTION:
URL:https://sudburydistrictdentalsociety.ca/oncall/dr-teijeiro-92/
END:VEVENT
BEGIN:VEVENT
DTSTART;TZID=UTC:20250915T080000
DTEND;TZID=UTC:20250915T080000
DTSTAMP:20260422T223851
CREATED:20250101T000859Z
LAST-MODIFIED:20250101T000859Z
UID:5183-1757923200-1757923200@sudburydistrictdentalsociety.ca
SUMMARY:Dr. Bubnik
DESCRIPTION:
URL:https://sudburydistrictdentalsociety.ca/oncall/dr-bubnik-51/
END:VEVENT
BEGIN:VEVENT
DTSTART;TZID=UTC:20250916T080000
DTEND;TZID=UTC:20250916T080000
DTSTAMP:20260422T223851
CREATED:20250101T000859Z
LAST-MODIFIED:20250308T172701Z
UID:5184-1758009600-1758009600@sudburydistrictdentalsociety.ca
SUMMARY:Dr. Treleaven
DESCRIPTION:
URL:https://sudburydistrictdentalsociety.ca/oncall/dr-jenny/
END:VEVENT
BEGIN:VEVENT
DTSTART;TZID=UTC:20250917T080000
DTEND;TZID=UTC:20250917T080000
DTSTAMP:20260422T223851
CREATED:20250101T000859Z
LAST-MODIFIED:20250101T000859Z
UID:5185-1758096000-1758096000@sudburydistrictdentalsociety.ca
SUMMARY:Dr. Teijeiro
DESCRIPTION:
URL:https://sudburydistrictdentalsociety.ca/oncall/dr-teijeiro-93/
END:VEVENT
BEGIN:VEVENT
DTSTART;TZID=UTC:20250918T080000
DTEND;TZID=UTC:20250918T080000
DTSTAMP:20260422T223851
CREATED:20250101T000913Z
LAST-MODIFIED:20250101T000913Z
UID:5186-1758182400-1758182400@sudburydistrictdentalsociety.ca
SUMMARY:Dr. Budd
DESCRIPTION:
URL:https://sudburydistrictdentalsociety.ca/oncall/dr-budd-51/
END:VEVENT
BEGIN:VEVENT
DTSTART;TZID=UTC:20250919T090000
DTEND;TZID=UTC:20250919T090000
DTSTAMP:20260422T223851
CREATED:20250101T000913Z
LAST-MODIFIED:20250101T000913Z
UID:5187-1758272400-1758272400@sudburydistrictdentalsociety.ca
SUMMARY:Dr. Talavia
DESCRIPTION:
URL:https://sudburydistrictdentalsociety.ca/oncall/dr-talavia-7/
END:VEVENT
BEGIN:VEVENT
DTSTART;TZID=UTC:20250920T090000
DTEND;TZID=UTC:20250920T090000
DTSTAMP:20260422T223851
CREATED:20250101T000913Z
LAST-MODIFIED:20250101T000913Z
UID:5188-1758358800-1758358800@sudburydistrictdentalsociety.ca
SUMMARY:Dr. Janicijevic
DESCRIPTION:
URL:https://sudburydistrictdentalsociety.ca/oncall/dr-janicijevic-27/
END:VEVENT
BEGIN:VEVENT
DTSTART;TZID=UTC:20250921T090000
DTEND;TZID=UTC:20250921T090000
DTSTAMP:20260422T223851
CREATED:20250101T000914Z
LAST-MODIFIED:20250101T000914Z
UID:5189-1758445200-1758445200@sudburydistrictdentalsociety.ca
SUMMARY:Dr. Janicijevic
DESCRIPTION:
URL:https://sudburydistrictdentalsociety.ca/oncall/dr-janicijevic-28/
END:VEVENT
BEGIN:VEVENT
DTSTART;TZID=UTC:20250922T080000
DTEND;TZID=UTC:20250922T080000
DTSTAMP:20260422T223851
CREATED:20250101T000914Z
LAST-MODIFIED:20250101T000914Z
UID:5190-1758528000-1758528000@sudburydistrictdentalsociety.ca
SUMMARY:Dr. Janicijevic
DESCRIPTION:
URL:https://sudburydistrictdentalsociety.ca/oncall/dr-janicijevic-29/
END:VEVENT
BEGIN:VEVENT
DTSTART;TZID=UTC:20250923T080000
DTEND;TZID=UTC:20250923T080000
DTSTAMP:20260422T223851
CREATED:20250101T000928Z
LAST-MODIFIED:20250101T000928Z
UID:5191-1758614400-1758614400@sudburydistrictdentalsociety.ca
SUMMARY:Dr. Janicijevic
DESCRIPTION:
URL:https://sudburydistrictdentalsociety.ca/oncall/dr-janicijevic-30/
END:VEVENT
BEGIN:VEVENT
DTSTART;TZID=UTC:20250924T080000
DTEND;TZID=UTC:20250924T080000
DTSTAMP:20260422T223851
CREATED:20250101T000928Z
LAST-MODIFIED:20250101T000928Z
UID:5192-1758700800-1758700800@sudburydistrictdentalsociety.ca
SUMMARY:Dr. Janicijevic
DESCRIPTION:
URL:https://sudburydistrictdentalsociety.ca/oncall/dr-janicijevic-31/
END:VEVENT
BEGIN:VEVENT
DTSTART;TZID=UTC:20250925T080000
DTEND;TZID=UTC:20250925T080000
DTSTAMP:20260422T223851
CREATED:20250101T000928Z
LAST-MODIFIED:20250101T000928Z
UID:5193-1758787200-1758787200@sudburydistrictdentalsociety.ca
SUMMARY:Dr. Janicijevic
DESCRIPTION:
URL:https://sudburydistrictdentalsociety.ca/oncall/dr-janicijevic-32/
END:VEVENT
BEGIN:VEVENT
DTSTART;TZID=UTC:20250926T090000
DTEND;TZID=UTC:20250926T090000
DTSTAMP:20260422T223851
CREATED:20250101T000928Z
LAST-MODIFIED:20250101T000928Z
UID:5194-1758877200-1758877200@sudburydistrictdentalsociety.ca
SUMMARY:Dr. Janicijevic
DESCRIPTION:
URL:https://sudburydistrictdentalsociety.ca/oncall/dr-janicijevic-33/
END:VEVENT
BEGIN:VEVENT
DTSTART;TZID=UTC:20250927T090000
DTEND;TZID=UTC:20250927T090000
DTSTAMP:20260422T223851
CREATED:20250101T000929Z
LAST-MODIFIED:20250101T000929Z
UID:5195-1758963600-1758963600@sudburydistrictdentalsociety.ca
SUMMARY:Dr. Paige
DESCRIPTION:
URL:https://sudburydistrictdentalsociety.ca/oncall/dr-paige-28/
END:VEVENT
BEGIN:VEVENT
DTSTART;TZID=UTC:20250928T090000
DTEND;TZID=UTC:20250928T090000
DTSTAMP:20260422T223851
CREATED:20250101T000943Z
LAST-MODIFIED:20250101T000943Z
UID:5196-1759050000-1759050000@sudburydistrictdentalsociety.ca
SUMMARY:Dr. Paige
DESCRIPTION:
URL:https://sudburydistrictdentalsociety.ca/oncall/dr-paige-29/
END:VEVENT
BEGIN:VEVENT
DTSTART;TZID=UTC:20250929T080000
DTEND;TZID=UTC:20250929T080000
DTSTAMP:20260422T223851
CREATED:20250101T000943Z
LAST-MODIFIED:20250101T000943Z
UID:5197-1759132800-1759132800@sudburydistrictdentalsociety.ca
SUMMARY:Dr. Paige
DESCRIPTION:
URL:https://sudburydistrictdentalsociety.ca/oncall/dr-paige-30/
END:VEVENT
BEGIN:VEVENT
DTSTART;TZID=UTC:20250930T080000
DTEND;TZID=UTC:20250930T080000
DTSTAMP:20260422T223851
CREATED:20250101T000943Z
LAST-MODIFIED:20250101T000943Z
UID:5198-1759219200-1759219200@sudburydistrictdentalsociety.ca
SUMMARY:Dr. Paige
DESCRIPTION:
URL:https://sudburydistrictdentalsociety.ca/oncall/dr-paige-31/
END:VEVENT
BEGIN:VEVENT
DTSTART;TZID=UTC:20251001T080000
DTEND;TZID=UTC:20251001T080000
DTSTAMP:20260422T223851
CREATED:20250101T000944Z
LAST-MODIFIED:20250101T000944Z
UID:5199-1759305600-1759305600@sudburydistrictdentalsociety.ca
SUMMARY:Dr. Paige
DESCRIPTION:
URL:https://sudburydistrictdentalsociety.ca/oncall/dr-paige-32/
END:VEVENT
BEGIN:VEVENT
DTSTART;TZID=UTC:20251002T080000
DTEND;TZID=UTC:20251002T080000
DTSTAMP:20260422T223851
CREATED:20250101T000944Z
LAST-MODIFIED:20250101T000944Z
UID:5200-1759392000-1759392000@sudburydistrictdentalsociety.ca
SUMMARY:Dr. Paige
DESCRIPTION:
URL:https://sudburydistrictdentalsociety.ca/oncall/dr-paige-33/
END:VEVENT
END:VCALENDAR