BEGIN:VCALENDAR
VERSION:2.0
PRODID:-//Sudbury &amp; District Dental Society - ECPv6.15.20//NONSGML v1.0//EN
CALSCALE:GREGORIAN
METHOD:PUBLISH
X-ORIGINAL-URL:https://sudburydistrictdentalsociety.ca
X-WR-CALDESC:Events for Sudbury &amp; District Dental Society
REFRESH-INTERVAL;VALUE=DURATION:PT1H
X-Robots-Tag:noindex
X-PUBLISHED-TTL:PT1H
BEGIN:VTIMEZONE
TZID:UTC
BEGIN:STANDARD
TZOFFSETFROM:+0000
TZOFFSETTO:+0000
TZNAME:UTC
DTSTART:20250101T000000
END:STANDARD
END:VTIMEZONE
BEGIN:VEVENT
DTSTART;TZID=UTC:20261201T080000
DTEND;TZID=UTC:20261201T080000
DTSTAMP:20260422T223800
CREATED:20260114T200730Z
LAST-MODIFIED:20260114T200730Z
UID:5660-1796112000-1796112000@sudburydistrictdentalsociety.ca
SUMMARY:Dr. Rain
DESCRIPTION:
URL:https://sudburydistrictdentalsociety.ca/oncall/dr-rain-61/
END:VEVENT
BEGIN:VEVENT
DTSTART;TZID=UTC:20261202T080000
DTEND;TZID=UTC:20261202T080000
DTSTAMP:20260422T223800
CREATED:20260114T200743Z
LAST-MODIFIED:20260114T200743Z
UID:5661-1796198400-1796198400@sudburydistrictdentalsociety.ca
SUMMARY:Dr. Casson
DESCRIPTION:
URL:https://sudburydistrictdentalsociety.ca/oncall/dr-casson-20/
END:VEVENT
BEGIN:VEVENT
DTSTART;TZID=UTC:20261203T080000
DTEND;TZID=UTC:20261203T080000
DTSTAMP:20260422T223800
CREATED:20260114T200743Z
LAST-MODIFIED:20260114T200743Z
UID:5662-1796284800-1796284800@sudburydistrictdentalsociety.ca
SUMMARY:Dr. Richards
DESCRIPTION:
URL:https://sudburydistrictdentalsociety.ca/oncall/dr-richards-61/
END:VEVENT
BEGIN:VEVENT
DTSTART;TZID=UTC:20261204T090000
DTEND;TZID=UTC:20261204T090000
DTSTAMP:20260422T223800
CREATED:20260114T200744Z
LAST-MODIFIED:20260114T200744Z
UID:5663-1796374800-1796374800@sudburydistrictdentalsociety.ca
SUMMARY:Dr. Majic
DESCRIPTION:
URL:https://sudburydistrictdentalsociety.ca/oncall/dr-majic-44/
END:VEVENT
BEGIN:VEVENT
DTSTART;TZID=UTC:20261205T090000
DTEND;TZID=UTC:20261205T090000
DTSTAMP:20260422T223800
CREATED:20260114T200744Z
LAST-MODIFIED:20260114T200744Z
UID:5664-1796461200-1796461200@sudburydistrictdentalsociety.ca
SUMMARY:Dr. Majic
DESCRIPTION:
URL:https://sudburydistrictdentalsociety.ca/oncall/dr-majic-45/
END:VEVENT
BEGIN:VEVENT
DTSTART;TZID=UTC:20261206T090000
DTEND;TZID=UTC:20261206T090000
DTSTAMP:20260422T223800
CREATED:20260114T200745Z
LAST-MODIFIED:20260114T200745Z
UID:5665-1796547600-1796547600@sudburydistrictdentalsociety.ca
SUMMARY:Dr. Majic
DESCRIPTION:
URL:https://sudburydistrictdentalsociety.ca/oncall/dr-majic-46/
END:VEVENT
BEGIN:VEVENT
DTSTART;TZID=UTC:20261207T080000
DTEND;TZID=UTC:20261207T080000
DTSTAMP:20260422T223800
CREATED:20260114T200944Z
LAST-MODIFIED:20260114T200944Z
UID:5666-1796630400-1796630400@sudburydistrictdentalsociety.ca
SUMMARY:Dr. Majic
DESCRIPTION:
URL:https://sudburydistrictdentalsociety.ca/oncall/dr-majic-47/
END:VEVENT
BEGIN:VEVENT
DTSTART;TZID=UTC:20261208T080000
DTEND;TZID=UTC:20261208T080000
DTSTAMP:20260422T223800
CREATED:20260114T200944Z
LAST-MODIFIED:20260114T200944Z
UID:5667-1796716800-1796716800@sudburydistrictdentalsociety.ca
SUMMARY:Dr. Majic
DESCRIPTION:
URL:https://sudburydistrictdentalsociety.ca/oncall/dr-majic-48/
END:VEVENT
BEGIN:VEVENT
DTSTART;TZID=UTC:20261209T080000
DTEND;TZID=UTC:20261209T080000
DTSTAMP:20260422T223800
CREATED:20260114T200945Z
LAST-MODIFIED:20260114T200945Z
UID:5668-1796803200-1796803200@sudburydistrictdentalsociety.ca
SUMMARY:Dr. Majic
DESCRIPTION:
URL:https://sudburydistrictdentalsociety.ca/oncall/dr-majic-49/
END:VEVENT
BEGIN:VEVENT
DTSTART;TZID=UTC:20261210T080000
DTEND;TZID=UTC:20261210T080000
DTSTAMP:20260422T223800
CREATED:20260114T200946Z
LAST-MODIFIED:20260114T200946Z
UID:5669-1796889600-1796889600@sudburydistrictdentalsociety.ca
SUMMARY:Dr. Majic
DESCRIPTION:
URL:https://sudburydistrictdentalsociety.ca/oncall/dr-majic-50/
END:VEVENT
BEGIN:VEVENT
DTSTART;TZID=UTC:20261211T090000
DTEND;TZID=UTC:20261211T090000
DTSTAMP:20260422T223800
CREATED:20260114T200946Z
LAST-MODIFIED:20260114T200946Z
UID:5670-1796979600-1796979600@sudburydistrictdentalsociety.ca
SUMMARY:Dr. Grebe
DESCRIPTION:
URL:https://sudburydistrictdentalsociety.ca/oncall/dr-grebe-144/
END:VEVENT
BEGIN:VEVENT
DTSTART;TZID=UTC:20261212T090000
DTEND;TZID=UTC:20261212T090000
DTSTAMP:20260422T223800
CREATED:20260114T201053Z
LAST-MODIFIED:20260114T201053Z
UID:5671-1797066000-1797066000@sudburydistrictdentalsociety.ca
SUMMARY:Dr. Grebe
DESCRIPTION:
URL:https://sudburydistrictdentalsociety.ca/oncall/dr-grebe-145/
END:VEVENT
BEGIN:VEVENT
DTSTART;TZID=UTC:20261213T090000
DTEND;TZID=UTC:20261213T090000
DTSTAMP:20260422T223800
CREATED:20260114T201054Z
LAST-MODIFIED:20260114T201054Z
UID:5672-1797152400-1797152400@sudburydistrictdentalsociety.ca
SUMMARY:Dr. Conaty
DESCRIPTION:
URL:https://sudburydistrictdentalsociety.ca/oncall/dr-conaty-62/
END:VEVENT
BEGIN:VEVENT
DTSTART;TZID=UTC:20261214T080000
DTEND;TZID=UTC:20261214T080000
DTSTAMP:20260422T223800
CREATED:20260114T201055Z
LAST-MODIFIED:20260114T201055Z
UID:5673-1797235200-1797235200@sudburydistrictdentalsociety.ca
SUMMARY:Dr. Grebe
DESCRIPTION:
URL:https://sudburydistrictdentalsociety.ca/oncall/dr-grebe-146/
END:VEVENT
BEGIN:VEVENT
DTSTART;TZID=UTC:20261215T080000
DTEND;TZID=UTC:20261215T080000
DTSTAMP:20260422T223800
CREATED:20260114T201055Z
LAST-MODIFIED:20260114T201055Z
UID:5674-1797321600-1797321600@sudburydistrictdentalsociety.ca
SUMMARY:Dr. Grebe
DESCRIPTION:
URL:https://sudburydistrictdentalsociety.ca/oncall/dr-grebe-147/
END:VEVENT
BEGIN:VEVENT
DTSTART;TZID=UTC:20261216T080000
DTEND;TZID=UTC:20261216T080000
DTSTAMP:20260422T223800
CREATED:20260114T201056Z
LAST-MODIFIED:20260114T201056Z
UID:5675-1797408000-1797408000@sudburydistrictdentalsociety.ca
SUMMARY:Dr. Grebe
DESCRIPTION:
URL:https://sudburydistrictdentalsociety.ca/oncall/dr-grebe-148/
END:VEVENT
BEGIN:VEVENT
DTSTART;TZID=UTC:20261217T080000
DTEND;TZID=UTC:20261217T080000
DTSTAMP:20260422T223800
CREATED:20260114T201254Z
LAST-MODIFIED:20260219T151502Z
UID:5676-1797494400-1797494400@sudburydistrictdentalsociety.ca
SUMMARY:Dr. Wilson
DESCRIPTION:
URL:https://sudburydistrictdentalsociety.ca/oncall/dr-grebe-149/
END:VEVENT
BEGIN:VEVENT
DTSTART;TZID=UTC:20261218T090000
DTEND;TZID=UTC:20261218T090000
DTSTAMP:20260422T223800
CREATED:20260114T201255Z
LAST-MODIFIED:20260114T201255Z
UID:5677-1797584400-1797584400@sudburydistrictdentalsociety.ca
SUMMARY:Dr. Virani
DESCRIPTION:
URL:https://sudburydistrictdentalsociety.ca/oncall/dr-virani-36/
END:VEVENT
BEGIN:VEVENT
DTSTART;TZID=UTC:20261219T090000
DTEND;TZID=UTC:20261219T090000
DTSTAMP:20260422T223800
CREATED:20260114T201255Z
LAST-MODIFIED:20260114T201255Z
UID:5678-1797670800-1797670800@sudburydistrictdentalsociety.ca
SUMMARY:Dr. Virani
DESCRIPTION:
URL:https://sudburydistrictdentalsociety.ca/oncall/dr-virani-37/
END:VEVENT
BEGIN:VEVENT
DTSTART;TZID=UTC:20261220T090000
DTEND;TZID=UTC:20261220T090000
DTSTAMP:20260422T223800
CREATED:20260114T201256Z
LAST-MODIFIED:20260114T201256Z
UID:5679-1797757200-1797757200@sudburydistrictdentalsociety.ca
SUMMARY:Dr. Virani
DESCRIPTION:
URL:https://sudburydistrictdentalsociety.ca/oncall/dr-virani-38/
END:VEVENT
BEGIN:VEVENT
DTSTART;TZID=UTC:20261221T080000
DTEND;TZID=UTC:20261221T080000
DTSTAMP:20260422T223800
CREATED:20260114T201256Z
LAST-MODIFIED:20260114T201256Z
UID:5680-1797840000-1797840000@sudburydistrictdentalsociety.ca
SUMMARY:Dr. Junor
DESCRIPTION:
URL:https://sudburydistrictdentalsociety.ca/oncall/dr-junor-61/
END:VEVENT
BEGIN:VEVENT
DTSTART;TZID=UTC:20261222T080000
DTEND;TZID=UTC:20261222T080000
DTSTAMP:20260422T223800
CREATED:20260114T201455Z
LAST-MODIFIED:20260114T201455Z
UID:5681-1797926400-1797926400@sudburydistrictdentalsociety.ca
SUMMARY:Dr. Rain
DESCRIPTION:
URL:https://sudburydistrictdentalsociety.ca/oncall/dr-rain-62/
END:VEVENT
BEGIN:VEVENT
DTSTART;TZID=UTC:20261223T080000
DTEND;TZID=UTC:20261223T080000
DTSTAMP:20260422T223800
CREATED:20260114T201455Z
LAST-MODIFIED:20260114T201455Z
UID:5682-1798012800-1798012800@sudburydistrictdentalsociety.ca
SUMMARY:Dr. Montpellier
DESCRIPTION:
URL:https://sudburydistrictdentalsociety.ca/oncall/dr-montpellier-58/
END:VEVENT
BEGIN:VEVENT
DTSTART;TZID=UTC:20261224T080000
DTEND;TZID=UTC:20261224T080000
DTSTAMP:20260422T223800
CREATED:20260114T201456Z
LAST-MODIFIED:20260114T201456Z
UID:5683-1798099200-1798099200@sudburydistrictdentalsociety.ca
SUMMARY:Dr. Trottier
DESCRIPTION:
URL:https://sudburydistrictdentalsociety.ca/oncall/dr-trottier-62/
END:VEVENT
BEGIN:VEVENT
DTSTART;VALUE=DATE:20261225
DTEND;VALUE=DATE:20261227
DTSTAMP:20260422T223800
CREATED:20260114T201456Z
LAST-MODIFIED:20260114T201456Z
UID:5684-1798160400-1798246799@sudburydistrictdentalsociety.ca
SUMMARY:NO ONE
DESCRIPTION:
URL:https://sudburydistrictdentalsociety.ca/oncall/no-one-4/
END:VEVENT
BEGIN:VEVENT
DTSTART;VALUE=DATE:20261225
DTEND;VALUE=DATE:20261227
DTSTAMP:20260422T223800
CREATED:20260114T201858Z
LAST-MODIFIED:20260114T201858Z
UID:5692-1798160400-1798246799@sudburydistrictdentalsociety.ca
SUMMARY:Christmas Day
DESCRIPTION:
URL:https://sudburydistrictdentalsociety.ca/oncall/christmas-day-4/
END:VEVENT
BEGIN:VEVENT
DTSTART;VALUE=DATE:20261226
DTEND;VALUE=DATE:20261228
DTSTAMP:20260422T223800
CREATED:20260114T203810Z
LAST-MODIFIED:20260114T203810Z
UID:5701-1798246800-1798333199@sudburydistrictdentalsociety.ca
SUMMARY:Boxing Day
DESCRIPTION:
URL:https://sudburydistrictdentalsociety.ca/oncall/boxing-day-4/
END:VEVENT
BEGIN:VEVENT
DTSTART;TZID=UTC:20261226T090000
DTEND;TZID=UTC:20261226T090000
DTSTAMP:20260422T223800
CREATED:20260114T201457Z
LAST-MODIFIED:20260114T201457Z
UID:5685-1798275600-1798275600@sudburydistrictdentalsociety.ca
SUMMARY:Dr. McElligott
DESCRIPTION:
URL:https://sudburydistrictdentalsociety.ca/oncall/dr-mcelligott-8/
END:VEVENT
BEGIN:VEVENT
DTSTART;TZID=UTC:20261227T090000
DTEND;TZID=UTC:20261227T090000
DTSTAMP:20260422T223800
CREATED:20260114T201656Z
LAST-MODIFIED:20260114T201656Z
UID:5686-1798362000-1798362000@sudburydistrictdentalsociety.ca
SUMMARY:Dr. Grebe
DESCRIPTION:
URL:https://sudburydistrictdentalsociety.ca/oncall/dr-grebe-150/
END:VEVENT
BEGIN:VEVENT
DTSTART;TZID=UTC:20261228T080000
DTEND;TZID=UTC:20261228T080000
DTSTAMP:20260422T223800
CREATED:20260114T201657Z
LAST-MODIFIED:20260219T151524Z
UID:5687-1798444800-1798444800@sudburydistrictdentalsociety.ca
SUMMARY:Dr. Grebe
DESCRIPTION:
URL:https://sudburydistrictdentalsociety.ca/oncall/dr-wilson-66/
END:VEVENT
END:VCALENDAR