BEGIN:VCALENDAR
VERSION:2.0
PRODID:-//Sudbury &amp; District Dental Society - ECPv6.15.20//NONSGML v1.0//EN
CALSCALE:GREGORIAN
METHOD:PUBLISH
X-WR-CALNAME:Sudbury &amp; District Dental Society
X-ORIGINAL-URL:https://sudburydistrictdentalsociety.ca
X-WR-CALDESC:Events for Sudbury &amp; District Dental Society
REFRESH-INTERVAL;VALUE=DURATION:PT1H
X-Robots-Tag:noindex
X-PUBLISHED-TTL:PT1H
BEGIN:VTIMEZONE
TZID:UTC
BEGIN:STANDARD
TZOFFSETFROM:+0000
TZOFFSETTO:+0000
TZNAME:UTC
DTSTART:20240101T000000
END:STANDARD
END:VTIMEZONE
BEGIN:VEVENT
DTSTART;TZID=UTC:20250301T090000
DTEND;TZID=UTC:20250301T090000
DTSTAMP:20260423T092534
CREATED:20241231T235453Z
LAST-MODIFIED:20241231T235453Z
UID:4985-1740819600-1740819600@sudburydistrictdentalsociety.ca
SUMMARY:Dr. Morshedi
DESCRIPTION:
URL:https://sudburydistrictdentalsociety.ca/oncall/dr-morshedi-22/
END:VEVENT
BEGIN:VEVENT
DTSTART;TZID=UTC:20250302T090000
DTEND;TZID=UTC:20250302T090000
DTSTAMP:20260423T092534
CREATED:20241231T235507Z
LAST-MODIFIED:20241231T235507Z
UID:4986-1740906000-1740906000@sudburydistrictdentalsociety.ca
SUMMARY:Dr. Morshedi
DESCRIPTION:
URL:https://sudburydistrictdentalsociety.ca/oncall/dr-morshedi-23/
END:VEVENT
BEGIN:VEVENT
DTSTART;TZID=UTC:20250303T080000
DTEND;TZID=UTC:20250303T080000
DTSTAMP:20260423T092534
CREATED:20241231T235507Z
LAST-MODIFIED:20241231T235507Z
UID:4987-1740988800-1740988800@sudburydistrictdentalsociety.ca
SUMMARY:Dr. Bubnik
DESCRIPTION:
URL:https://sudburydistrictdentalsociety.ca/oncall/dr-bubnik-47/
END:VEVENT
BEGIN:VEVENT
DTSTART;TZID=UTC:20250304T080000
DTEND;TZID=UTC:20250304T080000
DTSTAMP:20260423T092534
CREATED:20241231T235507Z
LAST-MODIFIED:20241231T235507Z
UID:4988-1741075200-1741075200@sudburydistrictdentalsociety.ca
SUMMARY:Dr. Ho
DESCRIPTION:
URL:https://sudburydistrictdentalsociety.ca/oncall/dr-ho-58/
END:VEVENT
BEGIN:VEVENT
DTSTART;TZID=UTC:20250305T080000
DTEND;TZID=UTC:20250305T080000
DTSTAMP:20260423T092534
CREATED:20241231T235508Z
LAST-MODIFIED:20241231T235508Z
UID:4989-1741161600-1741161600@sudburydistrictdentalsociety.ca
SUMMARY:Dr. Ho
DESCRIPTION:
URL:https://sudburydistrictdentalsociety.ca/oncall/dr-ho-59/
END:VEVENT
BEGIN:VEVENT
DTSTART;TZID=UTC:20250306T080000
DTEND;TZID=UTC:20250306T080000
DTSTAMP:20260423T092534
CREATED:20241231T235508Z
LAST-MODIFIED:20241231T235508Z
UID:4990-1741248000-1741248000@sudburydistrictdentalsociety.ca
SUMMARY:Dr. Ho
DESCRIPTION:
URL:https://sudburydistrictdentalsociety.ca/oncall/dr-ho-60/
END:VEVENT
BEGIN:VEVENT
DTSTART;TZID=UTC:20250307T090000
DTEND;TZID=UTC:20250307T090000
DTSTAMP:20260423T092534
CREATED:20241231T235523Z
LAST-MODIFIED:20241231T235523Z
UID:4991-1741338000-1741338000@sudburydistrictdentalsociety.ca
SUMMARY:Dr. Keenan
DESCRIPTION:
URL:https://sudburydistrictdentalsociety.ca/oncall/dr-keenan-52/
END:VEVENT
BEGIN:VEVENT
DTSTART;TZID=UTC:20250308T090000
DTEND;TZID=UTC:20250308T090000
DTSTAMP:20260423T092534
CREATED:20241231T235523Z
LAST-MODIFIED:20241231T235523Z
UID:4992-1741424400-1741424400@sudburydistrictdentalsociety.ca
SUMMARY:Dr. Keenan
DESCRIPTION:
URL:https://sudburydistrictdentalsociety.ca/oncall/dr-keenan-53/
END:VEVENT
BEGIN:VEVENT
DTSTART;TZID=UTC:20250309T090000
DTEND;TZID=UTC:20250309T090000
DTSTAMP:20260423T092534
CREATED:20241231T235523Z
LAST-MODIFIED:20241231T235523Z
UID:4993-1741510800-1741510800@sudburydistrictdentalsociety.ca
SUMMARY:Dr. Keenan
DESCRIPTION:
URL:https://sudburydistrictdentalsociety.ca/oncall/dr-keenan-54/
END:VEVENT
BEGIN:VEVENT
DTSTART;TZID=UTC:20250310T080000
DTEND;TZID=UTC:20250310T080000
DTSTAMP:20260423T092534
CREATED:20241231T235524Z
LAST-MODIFIED:20241231T235524Z
UID:4994-1741593600-1741593600@sudburydistrictdentalsociety.ca
SUMMARY:Dr. Keenan
DESCRIPTION:
URL:https://sudburydistrictdentalsociety.ca/oncall/dr-keenan-55/
END:VEVENT
BEGIN:VEVENT
DTSTART;TZID=UTC:20250311T080000
DTEND;TZID=UTC:20250311T080000
DTSTAMP:20260423T092534
CREATED:20241231T235524Z
LAST-MODIFIED:20241231T235524Z
UID:4995-1741680000-1741680000@sudburydistrictdentalsociety.ca
SUMMARY:Dr. Keenan
DESCRIPTION:
URL:https://sudburydistrictdentalsociety.ca/oncall/dr-keenan-56/
END:VEVENT
BEGIN:VEVENT
DTSTART;TZID=UTC:20250312T080000
DTEND;TZID=UTC:20250312T080000
DTSTAMP:20260423T092534
CREATED:20241231T235724Z
LAST-MODIFIED:20241231T235724Z
UID:4996-1741766400-1741766400@sudburydistrictdentalsociety.ca
SUMMARY:Dr. Keenan
DESCRIPTION:
URL:https://sudburydistrictdentalsociety.ca/oncall/dr-keenan-57/
END:VEVENT
BEGIN:VEVENT
DTSTART;TZID=UTC:20250313T080000
DTEND;TZID=UTC:20250313T080000
DTSTAMP:20260423T092534
CREATED:20241231T235724Z
LAST-MODIFIED:20241231T235724Z
UID:4997-1741852800-1741852800@sudburydistrictdentalsociety.ca
SUMMARY:Dr. Keenan
DESCRIPTION:
URL:https://sudburydistrictdentalsociety.ca/oncall/dr-keenan-58/
END:VEVENT
BEGIN:VEVENT
DTSTART;TZID=UTC:20250314T090000
DTEND;TZID=UTC:20250314T090000
DTSTAMP:20260423T092534
CREATED:20241231T235725Z
LAST-MODIFIED:20241231T235725Z
UID:4998-1741942800-1741942800@sudburydistrictdentalsociety.ca
SUMMARY:Dr. Martic
DESCRIPTION:
URL:https://sudburydistrictdentalsociety.ca/oncall/dr-martic-54/
END:VEVENT
BEGIN:VEVENT
DTSTART;TZID=UTC:20250315T090000
DTEND;TZID=UTC:20250315T090000
DTSTAMP:20260423T092534
CREATED:20241231T235725Z
LAST-MODIFIED:20241231T235725Z
UID:4999-1742029200-1742029200@sudburydistrictdentalsociety.ca
SUMMARY:Dr. Martic
DESCRIPTION:
URL:https://sudburydistrictdentalsociety.ca/oncall/dr-martic-55/
END:VEVENT
BEGIN:VEVENT
DTSTART;TZID=UTC:20250316T090000
DTEND;TZID=UTC:20250316T090000
DTSTAMP:20260423T092534
CREATED:20241231T235725Z
LAST-MODIFIED:20241231T235725Z
UID:5000-1742115600-1742115600@sudburydistrictdentalsociety.ca
SUMMARY:Dr. Martic
DESCRIPTION:
URL:https://sudburydistrictdentalsociety.ca/oncall/dr-martic-56/
END:VEVENT
BEGIN:VEVENT
DTSTART;TZID=UTC:20250317T080000
DTEND;TZID=UTC:20250317T080000
DTSTAMP:20260423T092534
CREATED:20241231T235827Z
LAST-MODIFIED:20241231T235827Z
UID:5001-1742198400-1742198400@sudburydistrictdentalsociety.ca
SUMMARY:Dr. Martic
DESCRIPTION:
URL:https://sudburydistrictdentalsociety.ca/oncall/dr-martic-57/
END:VEVENT
BEGIN:VEVENT
DTSTART;TZID=UTC:20250318T080000
DTEND;TZID=UTC:20250318T080000
DTSTAMP:20260423T092534
CREATED:20241231T235827Z
LAST-MODIFIED:20241231T235827Z
UID:5002-1742284800-1742284800@sudburydistrictdentalsociety.ca
SUMMARY:Dr. Martic
DESCRIPTION:
URL:https://sudburydistrictdentalsociety.ca/oncall/dr-martic-58/
END:VEVENT
BEGIN:VEVENT
DTSTART;TZID=UTC:20250319T080000
DTEND;TZID=UTC:20250319T080000
DTSTAMP:20260423T092534
CREATED:20241231T235827Z
LAST-MODIFIED:20241231T235827Z
UID:5003-1742371200-1742371200@sudburydistrictdentalsociety.ca
SUMMARY:Dr. Martic
DESCRIPTION:
URL:https://sudburydistrictdentalsociety.ca/oncall/dr-martic-59/
END:VEVENT
BEGIN:VEVENT
DTSTART;TZID=UTC:20250320T080000
DTEND;TZID=UTC:20250320T080000
DTSTAMP:20260423T092534
CREATED:20241231T235827Z
LAST-MODIFIED:20250115T003443Z
UID:5004-1742457600-1742457600@sudburydistrictdentalsociety.ca
SUMMARY:Dr. Casson
DESCRIPTION:
URL:https://sudburydistrictdentalsociety.ca/oncall/dr-trottier-52/
END:VEVENT
BEGIN:VEVENT
DTSTART;TZID=UTC:20250321T090000
DTEND;TZID=UTC:20250321T090000
DTSTAMP:20260423T092534
CREATED:20241231T235828Z
LAST-MODIFIED:20241231T235828Z
UID:5005-1742547600-1742547600@sudburydistrictdentalsociety.ca
SUMMARY:Dr. Wilson
DESCRIPTION:
URL:https://sudburydistrictdentalsociety.ca/oncall/dr-wilson-53/
END:VEVENT
BEGIN:VEVENT
DTSTART;TZID=UTC:20250322T090000
DTEND;TZID=UTC:20250322T090000
DTSTAMP:20260423T092534
CREATED:20241231T235842Z
LAST-MODIFIED:20241231T235842Z
UID:5006-1742634000-1742634000@sudburydistrictdentalsociety.ca
SUMMARY:Dr. Bubnik
DESCRIPTION:
URL:https://sudburydistrictdentalsociety.ca/oncall/dr-bubnik-48/
END:VEVENT
BEGIN:VEVENT
DTSTART;TZID=UTC:20250323T090000
DTEND;TZID=UTC:20250323T090000
DTSTAMP:20260423T092534
CREATED:20241231T235842Z
LAST-MODIFIED:20241231T235842Z
UID:5007-1742720400-1742720400@sudburydistrictdentalsociety.ca
SUMMARY:Dr. McNicholl
DESCRIPTION:
URL:https://sudburydistrictdentalsociety.ca/oncall/dr-mcnicholl-53/
END:VEVENT
BEGIN:VEVENT
DTSTART;TZID=UTC:20250324T080000
DTEND;TZID=UTC:20250324T080000
DTSTAMP:20260423T092534
CREATED:20241231T235842Z
LAST-MODIFIED:20241231T235842Z
UID:5008-1742803200-1742803200@sudburydistrictdentalsociety.ca
SUMMARY:Dr. McNicholl
DESCRIPTION:
URL:https://sudburydistrictdentalsociety.ca/oncall/dr-mcnicholl-54/
END:VEVENT
BEGIN:VEVENT
DTSTART;TZID=UTC:20250325T080000
DTEND;TZID=UTC:20250325T080000
DTSTAMP:20260423T092534
CREATED:20241231T235843Z
LAST-MODIFIED:20241231T235843Z
UID:5009-1742889600-1742889600@sudburydistrictdentalsociety.ca
SUMMARY:Dr. McNicholl
DESCRIPTION:
URL:https://sudburydistrictdentalsociety.ca/oncall/dr-mcnicholl-55/
END:VEVENT
BEGIN:VEVENT
DTSTART;TZID=UTC:20250326T080000
DTEND;TZID=UTC:20250326T080000
DTSTAMP:20260423T092534
CREATED:20241231T235843Z
LAST-MODIFIED:20241231T235843Z
UID:5010-1742976000-1742976000@sudburydistrictdentalsociety.ca
SUMMARY:Dr. McNicholl
DESCRIPTION:
URL:https://sudburydistrictdentalsociety.ca/oncall/dr-mcnicholl-56/
END:VEVENT
BEGIN:VEVENT
DTSTART;TZID=UTC:20250327T080000
DTEND;TZID=UTC:20250327T080000
DTSTAMP:20260423T092534
CREATED:20250101T000027Z
LAST-MODIFIED:20250101T000027Z
UID:5011-1743062400-1743062400@sudburydistrictdentalsociety.ca
SUMMARY:Dr. McNicholl
DESCRIPTION:
URL:https://sudburydistrictdentalsociety.ca/oncall/dr-mcnicholl-57/
END:VEVENT
BEGIN:VEVENT
DTSTART;TZID=UTC:20250328T090000
DTEND;TZID=UTC:20250328T090000
DTSTAMP:20260423T092534
CREATED:20250101T000027Z
LAST-MODIFIED:20250101T000027Z
UID:5012-1743152400-1743152400@sudburydistrictdentalsociety.ca
SUMMARY:Dr. McNicholl
DESCRIPTION:
URL:https://sudburydistrictdentalsociety.ca/oncall/dr-mcnicholl-58/
END:VEVENT
BEGIN:VEVENT
DTSTART;TZID=UTC:20250329T090000
DTEND;TZID=UTC:20250329T090000
DTSTAMP:20260423T092534
CREATED:20250101T000027Z
LAST-MODIFIED:20250101T000027Z
UID:5013-1743238800-1743238800@sudburydistrictdentalsociety.ca
SUMMARY:Dr. McNicholl
DESCRIPTION:
URL:https://sudburydistrictdentalsociety.ca/oncall/dr-mcnicholl-59/
END:VEVENT
BEGIN:VEVENT
DTSTART;TZID=UTC:20250330T090000
DTEND;TZID=UTC:20250330T090000
DTSTAMP:20260423T092534
CREATED:20250101T000028Z
LAST-MODIFIED:20250101T000028Z
UID:5014-1743325200-1743325200@sudburydistrictdentalsociety.ca
SUMMARY:Dr. McNicholl
DESCRIPTION:
URL:https://sudburydistrictdentalsociety.ca/oncall/dr-mcnicholl-60/
END:VEVENT
END:VCALENDAR