BEGIN:VCALENDAR
VERSION:2.0
PRODID:-//Sudbury &amp; District Dental Society - ECPv6.15.20//NONSGML v1.0//EN
CALSCALE:GREGORIAN
METHOD:PUBLISH
X-WR-CALNAME:Sudbury &amp; District Dental Society
X-ORIGINAL-URL:https://sudburydistrictdentalsociety.ca
X-WR-CALDESC:Events for Sudbury &amp; District Dental Society
REFRESH-INTERVAL;VALUE=DURATION:PT1H
X-Robots-Tag:noindex
X-PUBLISHED-TTL:PT1H
BEGIN:VTIMEZONE
TZID:UTC
BEGIN:STANDARD
TZOFFSETFROM:+0000
TZOFFSETTO:+0000
TZNAME:UTC
DTSTART:20240101T000000
END:STANDARD
END:VTIMEZONE
BEGIN:VEVENT
DTSTART;VALUE=DATE:20250418
DTEND;VALUE=DATE:20250420
DTSTAMP:20260423T070241
CREATED:20250101T001443Z
LAST-MODIFIED:20250101T001443Z
UID:5298-1744938000-1745024399@sudburydistrictdentalsociety.ca
SUMMARY:Good Friday
DESCRIPTION:
URL:https://sudburydistrictdentalsociety.ca/oncall/good-friday-4/
END:VEVENT
BEGIN:VEVENT
DTSTART;TZID=UTC:20250417T080000
DTEND;TZID=UTC:20250417T080000
DTSTAMP:20260423T070241
CREATED:20250101T000128Z
LAST-MODIFIED:20250101T000128Z
UID:5032-1744876800-1744876800@sudburydistrictdentalsociety.ca
SUMMARY:Dr. Budd
DESCRIPTION:
URL:https://sudburydistrictdentalsociety.ca/oncall/dr-budd-46/
END:VEVENT
BEGIN:VEVENT
DTSTART;TZID=UTC:20250416T080000
DTEND;TZID=UTC:20250416T080000
DTSTAMP:20260423T070241
CREATED:20250101T000128Z
LAST-MODIFIED:20250101T000128Z
UID:5031-1744790400-1744790400@sudburydistrictdentalsociety.ca
SUMMARY:Dr. Wilson
DESCRIPTION:
URL:https://sudburydistrictdentalsociety.ca/oncall/dr-wilson-54/
END:VEVENT
BEGIN:VEVENT
DTSTART;TZID=UTC:20250415T080000
DTEND;TZID=UTC:20250415T080000
DTSTAMP:20260423T070241
CREATED:20250101T000114Z
LAST-MODIFIED:20250115T003426Z
UID:5030-1744704000-1744704000@sudburydistrictdentalsociety.ca
SUMMARY:Dr. Trottier
DESCRIPTION:
URL:https://sudburydistrictdentalsociety.ca/oncall/dr-casson-7/
END:VEVENT
BEGIN:VEVENT
DTSTART;TZID=UTC:20250414T080000
DTEND;TZID=UTC:20250414T080000
DTSTAMP:20260423T070241
CREATED:20250101T000113Z
LAST-MODIFIED:20250101T000113Z
UID:5029-1744617600-1744617600@sudburydistrictdentalsociety.ca
SUMMARY:Dr. Clarke
DESCRIPTION:
URL:https://sudburydistrictdentalsociety.ca/oncall/dr-clarke-47/
END:VEVENT
BEGIN:VEVENT
DTSTART;TZID=UTC:20250413T090000
DTEND;TZID=UTC:20250413T090000
DTSTAMP:20260423T070241
CREATED:20250101T000113Z
LAST-MODIFIED:20250101T000113Z
UID:5028-1744534800-1744534800@sudburydistrictdentalsociety.ca
SUMMARY:Dr. Lewis
DESCRIPTION:
URL:https://sudburydistrictdentalsociety.ca/oncall/dr-lewis-49/
END:VEVENT
BEGIN:VEVENT
DTSTART;TZID=UTC:20250412T090000
DTEND;TZID=UTC:20250412T090000
DTSTAMP:20260423T070241
CREATED:20250101T000113Z
LAST-MODIFIED:20250101T000113Z
UID:5027-1744448400-1744448400@sudburydistrictdentalsociety.ca
SUMMARY:Dr. Lewis
DESCRIPTION:
URL:https://sudburydistrictdentalsociety.ca/oncall/dr-lewis-48/
END:VEVENT
BEGIN:VEVENT
DTSTART;TZID=UTC:20250411T090000
DTEND;TZID=UTC:20250411T090000
DTSTAMP:20260423T070241
CREATED:20250101T000113Z
LAST-MODIFIED:20250101T000113Z
UID:5026-1744362000-1744362000@sudburydistrictdentalsociety.ca
SUMMARY:Dr. Lewis
DESCRIPTION:
URL:https://sudburydistrictdentalsociety.ca/oncall/dr-lewis-47/
END:VEVENT
BEGIN:VEVENT
DTSTART;TZID=UTC:20250410T080000
DTEND;TZID=UTC:20250410T080000
DTSTAMP:20260423T070241
CREATED:20250101T000059Z
LAST-MODIFIED:20250101T000059Z
UID:5025-1744272000-1744272000@sudburydistrictdentalsociety.ca
SUMMARY:Dr. Lewis
DESCRIPTION:
URL:https://sudburydistrictdentalsociety.ca/oncall/dr-lewis-46/
END:VEVENT
BEGIN:VEVENT
DTSTART;TZID=UTC:20250409T080000
DTEND;TZID=UTC:20250409T080000
DTSTAMP:20260423T070241
CREATED:20250101T000059Z
LAST-MODIFIED:20250101T000059Z
UID:5024-1744185600-1744185600@sudburydistrictdentalsociety.ca
SUMMARY:Dr. Lewis
DESCRIPTION:
URL:https://sudburydistrictdentalsociety.ca/oncall/dr-lewis-45/
END:VEVENT
BEGIN:VEVENT
DTSTART;TZID=UTC:20250408T080000
DTEND;TZID=UTC:20250408T080000
DTSTAMP:20260423T070241
CREATED:20250101T000058Z
LAST-MODIFIED:20250101T000058Z
UID:5023-1744099200-1744099200@sudburydistrictdentalsociety.ca
SUMMARY:Dr. Lewis
DESCRIPTION:
URL:https://sudburydistrictdentalsociety.ca/oncall/dr-lewis-44/
END:VEVENT
BEGIN:VEVENT
DTSTART;TZID=UTC:20250407T080000
DTEND;TZID=UTC:20250407T080000
DTSTAMP:20260423T070241
CREATED:20250101T000058Z
LAST-MODIFIED:20250101T000058Z
UID:5022-1744012800-1744012800@sudburydistrictdentalsociety.ca
SUMMARY:Dr. Lewis
DESCRIPTION:
URL:https://sudburydistrictdentalsociety.ca/oncall/dr-lewis-43/
END:VEVENT
BEGIN:VEVENT
DTSTART;TZID=UTC:20250406T090000
DTEND;TZID=UTC:20250406T090000
DTSTAMP:20260423T070241
CREATED:20250101T000058Z
LAST-MODIFIED:20250101T000058Z
UID:5021-1743930000-1743930000@sudburydistrictdentalsociety.ca
SUMMARY:Dr. Medarametla
DESCRIPTION:
URL:https://sudburydistrictdentalsociety.ca/oncall/dr-medarametla/
END:VEVENT
BEGIN:VEVENT
DTSTART;TZID=UTC:20250405T090000
DTEND;TZID=UTC:20250405T090000
DTSTAMP:20260423T070241
CREATED:20250101T000043Z
LAST-MODIFIED:20250101T000043Z
UID:5020-1743843600-1743843600@sudburydistrictdentalsociety.ca
SUMMARY:Dr. Morshedi
DESCRIPTION:
URL:https://sudburydistrictdentalsociety.ca/oncall/dr-morshedi-24/
END:VEVENT
BEGIN:VEVENT
DTSTART;TZID=UTC:20250404T090000
DTEND;TZID=UTC:20250404T090000
DTSTAMP:20260423T070241
CREATED:20250101T000043Z
LAST-MODIFIED:20250101T000043Z
UID:5019-1743757200-1743757200@sudburydistrictdentalsociety.ca
SUMMARY:Dr. Huffman
DESCRIPTION:
URL:https://sudburydistrictdentalsociety.ca/oncall/dr-huffman-15/
END:VEVENT
BEGIN:VEVENT
DTSTART;TZID=UTC:20250403T080000
DTEND;TZID=UTC:20250403T080000
DTSTAMP:20260423T070241
CREATED:20250101T000042Z
LAST-MODIFIED:20250101T000042Z
UID:5018-1743667200-1743667200@sudburydistrictdentalsociety.ca
SUMMARY:Dr. Montpellier
DESCRIPTION:
URL:https://sudburydistrictdentalsociety.ca/oncall/dr-montpellier-44/
END:VEVENT
BEGIN:VEVENT
DTSTART;TZID=UTC:20250402T080000
DTEND;TZID=UTC:20250402T080000
DTSTAMP:20260423T070241
CREATED:20250101T000042Z
LAST-MODIFIED:20250101T000042Z
UID:5017-1743580800-1743580800@sudburydistrictdentalsociety.ca
SUMMARY:Dr. Mate
DESCRIPTION:
URL:https://sudburydistrictdentalsociety.ca/oncall/dr-mate-35/
END:VEVENT
BEGIN:VEVENT
DTSTART;TZID=UTC:20250401T080000
DTEND;TZID=UTC:20250401T080000
DTSTAMP:20260423T070241
CREATED:20250101T000042Z
LAST-MODIFIED:20250101T000042Z
UID:5016-1743494400-1743494400@sudburydistrictdentalsociety.ca
SUMMARY:Dr. Trottier
DESCRIPTION:
URL:https://sudburydistrictdentalsociety.ca/oncall/dr-trottier-53/
END:VEVENT
BEGIN:VEVENT
DTSTART;TZID=UTC:20250331T080000
DTEND;TZID=UTC:20250331T080000
DTSTAMP:20260423T070241
CREATED:20250101T000028Z
LAST-MODIFIED:20250101T000028Z
UID:5015-1743408000-1743408000@sudburydistrictdentalsociety.ca
SUMMARY:Dr. Bubnik
DESCRIPTION:
URL:https://sudburydistrictdentalsociety.ca/oncall/dr-bubnik-49/
END:VEVENT
BEGIN:VEVENT
DTSTART;TZID=UTC:20250330T090000
DTEND;TZID=UTC:20250330T090000
DTSTAMP:20260423T070241
CREATED:20250101T000028Z
LAST-MODIFIED:20250101T000028Z
UID:5014-1743325200-1743325200@sudburydistrictdentalsociety.ca
SUMMARY:Dr. McNicholl
DESCRIPTION:
URL:https://sudburydistrictdentalsociety.ca/oncall/dr-mcnicholl-60/
END:VEVENT
BEGIN:VEVENT
DTSTART;TZID=UTC:20250329T090000
DTEND;TZID=UTC:20250329T090000
DTSTAMP:20260423T070241
CREATED:20250101T000027Z
LAST-MODIFIED:20250101T000027Z
UID:5013-1743238800-1743238800@sudburydistrictdentalsociety.ca
SUMMARY:Dr. McNicholl
DESCRIPTION:
URL:https://sudburydistrictdentalsociety.ca/oncall/dr-mcnicholl-59/
END:VEVENT
BEGIN:VEVENT
DTSTART;TZID=UTC:20250328T090000
DTEND;TZID=UTC:20250328T090000
DTSTAMP:20260423T070241
CREATED:20250101T000027Z
LAST-MODIFIED:20250101T000027Z
UID:5012-1743152400-1743152400@sudburydistrictdentalsociety.ca
SUMMARY:Dr. McNicholl
DESCRIPTION:
URL:https://sudburydistrictdentalsociety.ca/oncall/dr-mcnicholl-58/
END:VEVENT
BEGIN:VEVENT
DTSTART;TZID=UTC:20250327T080000
DTEND;TZID=UTC:20250327T080000
DTSTAMP:20260423T070241
CREATED:20250101T000027Z
LAST-MODIFIED:20250101T000027Z
UID:5011-1743062400-1743062400@sudburydistrictdentalsociety.ca
SUMMARY:Dr. McNicholl
DESCRIPTION:
URL:https://sudburydistrictdentalsociety.ca/oncall/dr-mcnicholl-57/
END:VEVENT
BEGIN:VEVENT
DTSTART;TZID=UTC:20250326T080000
DTEND;TZID=UTC:20250326T080000
DTSTAMP:20260423T070241
CREATED:20241231T235843Z
LAST-MODIFIED:20241231T235843Z
UID:5010-1742976000-1742976000@sudburydistrictdentalsociety.ca
SUMMARY:Dr. McNicholl
DESCRIPTION:
URL:https://sudburydistrictdentalsociety.ca/oncall/dr-mcnicholl-56/
END:VEVENT
BEGIN:VEVENT
DTSTART;TZID=UTC:20250325T080000
DTEND;TZID=UTC:20250325T080000
DTSTAMP:20260423T070241
CREATED:20241231T235843Z
LAST-MODIFIED:20241231T235843Z
UID:5009-1742889600-1742889600@sudburydistrictdentalsociety.ca
SUMMARY:Dr. McNicholl
DESCRIPTION:
URL:https://sudburydistrictdentalsociety.ca/oncall/dr-mcnicholl-55/
END:VEVENT
BEGIN:VEVENT
DTSTART;TZID=UTC:20250324T080000
DTEND;TZID=UTC:20250324T080000
DTSTAMP:20260423T070241
CREATED:20241231T235842Z
LAST-MODIFIED:20241231T235842Z
UID:5008-1742803200-1742803200@sudburydistrictdentalsociety.ca
SUMMARY:Dr. McNicholl
DESCRIPTION:
URL:https://sudburydistrictdentalsociety.ca/oncall/dr-mcnicholl-54/
END:VEVENT
BEGIN:VEVENT
DTSTART;TZID=UTC:20250323T090000
DTEND;TZID=UTC:20250323T090000
DTSTAMP:20260423T070241
CREATED:20241231T235842Z
LAST-MODIFIED:20241231T235842Z
UID:5007-1742720400-1742720400@sudburydistrictdentalsociety.ca
SUMMARY:Dr. McNicholl
DESCRIPTION:
URL:https://sudburydistrictdentalsociety.ca/oncall/dr-mcnicholl-53/
END:VEVENT
BEGIN:VEVENT
DTSTART;TZID=UTC:20250322T090000
DTEND;TZID=UTC:20250322T090000
DTSTAMP:20260423T070241
CREATED:20241231T235842Z
LAST-MODIFIED:20241231T235842Z
UID:5006-1742634000-1742634000@sudburydistrictdentalsociety.ca
SUMMARY:Dr. Bubnik
DESCRIPTION:
URL:https://sudburydistrictdentalsociety.ca/oncall/dr-bubnik-48/
END:VEVENT
BEGIN:VEVENT
DTSTART;TZID=UTC:20250321T090000
DTEND;TZID=UTC:20250321T090000
DTSTAMP:20260423T070241
CREATED:20241231T235828Z
LAST-MODIFIED:20241231T235828Z
UID:5005-1742547600-1742547600@sudburydistrictdentalsociety.ca
SUMMARY:Dr. Wilson
DESCRIPTION:
URL:https://sudburydistrictdentalsociety.ca/oncall/dr-wilson-53/
END:VEVENT
BEGIN:VEVENT
DTSTART;TZID=UTC:20250320T080000
DTEND;TZID=UTC:20250320T080000
DTSTAMP:20260423T070241
CREATED:20241231T235827Z
LAST-MODIFIED:20250115T003443Z
UID:5004-1742457600-1742457600@sudburydistrictdentalsociety.ca
SUMMARY:Dr. Casson
DESCRIPTION:
URL:https://sudburydistrictdentalsociety.ca/oncall/dr-trottier-52/
END:VEVENT
END:VCALENDAR