BEGIN:VCALENDAR
VERSION:2.0
PRODID:-//Sudbury &amp; District Dental Society - ECPv6.15.20//NONSGML v1.0//EN
CALSCALE:GREGORIAN
METHOD:PUBLISH
X-WR-CALNAME:Sudbury &amp; District Dental Society
X-ORIGINAL-URL:https://sudburydistrictdentalsociety.ca
X-WR-CALDESC:Events for Sudbury &amp; District Dental Society
REFRESH-INTERVAL;VALUE=DURATION:PT1H
X-Robots-Tag:noindex
X-PUBLISHED-TTL:PT1H
BEGIN:VTIMEZONE
TZID:UTC
BEGIN:STANDARD
TZOFFSETFROM:+0000
TZOFFSETTO:+0000
TZNAME:UTC
DTSTART:20240101T000000
END:STANDARD
END:VTIMEZONE
BEGIN:VEVENT
DTSTART;TZID=UTC:20250513T080000
DTEND;TZID=UTC:20250513T080000
DTSTAMP:20260423T070245
CREATED:20250101T000243Z
LAST-MODIFIED:20250101T000243Z
UID:5058-1747123200-1747123200@sudburydistrictdentalsociety.ca
SUMMARY:Dr. Reich
DESCRIPTION:
URL:https://sudburydistrictdentalsociety.ca/oncall/dr-reich-51/
END:VEVENT
BEGIN:VEVENT
DTSTART;TZID=UTC:20250512T080000
DTEND;TZID=UTC:20250512T080000
DTSTAMP:20260423T070245
CREATED:20250101T000243Z
LAST-MODIFIED:20250101T000243Z
UID:5057-1747036800-1747036800@sudburydistrictdentalsociety.ca
SUMMARY:Dr. Reich
DESCRIPTION:
URL:https://sudburydistrictdentalsociety.ca/oncall/dr-reich-50/
END:VEVENT
BEGIN:VEVENT
DTSTART;TZID=UTC:20250511T090000
DTEND;TZID=UTC:20250511T090000
DTSTAMP:20260423T070245
CREATED:20250101T000243Z
LAST-MODIFIED:20250101T000243Z
UID:5056-1746954000-1746954000@sudburydistrictdentalsociety.ca
SUMMARY:Dr. Reich
DESCRIPTION:
URL:https://sudburydistrictdentalsociety.ca/oncall/dr-reich-49/
END:VEVENT
BEGIN:VEVENT
DTSTART;TZID=UTC:20250510T090000
DTEND;TZID=UTC:20250510T090000
DTSTAMP:20260423T070245
CREATED:20250101T000229Z
LAST-MODIFIED:20250101T000229Z
UID:5055-1746867600-1746867600@sudburydistrictdentalsociety.ca
SUMMARY:Dr. Reich
DESCRIPTION:
URL:https://sudburydistrictdentalsociety.ca/oncall/dr-reich-48/
END:VEVENT
BEGIN:VEVENT
DTSTART;TZID=UTC:20250509T090000
DTEND;TZID=UTC:20250509T090000
DTSTAMP:20260423T070245
CREATED:20250101T000229Z
LAST-MODIFIED:20250101T000229Z
UID:5054-1746781200-1746781200@sudburydistrictdentalsociety.ca
SUMMARY:Dr. Paige
DESCRIPTION:
URL:https://sudburydistrictdentalsociety.ca/oncall/dr-paige-26/
END:VEVENT
BEGIN:VEVENT
DTSTART;TZID=UTC:20250508T080000
DTEND;TZID=UTC:20250508T080000
DTSTAMP:20260423T070245
CREATED:20250101T000228Z
LAST-MODIFIED:20250121T202225Z
UID:5053-1746691200-1746691200@sudburydistrictdentalsociety.ca
SUMMARY:Dr. Clarke
DESCRIPTION:
URL:https://sudburydistrictdentalsociety.ca/oncall/dr-montpellier-45/
END:VEVENT
BEGIN:VEVENT
DTSTART;TZID=UTC:20250507T080000
DTEND;TZID=UTC:20250507T080000
DTSTAMP:20260423T070245
CREATED:20250101T000228Z
LAST-MODIFIED:20250101T000228Z
UID:5052-1746604800-1746604800@sudburydistrictdentalsociety.ca
SUMMARY:Dr. Huffman
DESCRIPTION:
URL:https://sudburydistrictdentalsociety.ca/oncall/dr-huffman-16/
END:VEVENT
BEGIN:VEVENT
DTSTART;TZID=UTC:20250506T080000
DTEND;TZID=UTC:20250506T080000
DTSTAMP:20260423T070245
CREATED:20250101T000228Z
LAST-MODIFIED:20250101T000228Z
UID:5051-1746518400-1746518400@sudburydistrictdentalsociety.ca
SUMMARY:Dr. Rain
DESCRIPTION:
URL:https://sudburydistrictdentalsociety.ca/oncall/dr-rain-49/
END:VEVENT
BEGIN:VEVENT
DTSTART;TZID=UTC:20250505T080000
DTEND;TZID=UTC:20250505T080000
DTSTAMP:20260423T070245
CREATED:20250101T000214Z
LAST-MODIFIED:20250101T000214Z
UID:5050-1746432000-1746432000@sudburydistrictdentalsociety.ca
SUMMARY:Dr. Trottier
DESCRIPTION:
URL:https://sudburydistrictdentalsociety.ca/oncall/dr-trottier-54/
END:VEVENT
BEGIN:VEVENT
DTSTART;TZID=UTC:20250504T090000
DTEND;TZID=UTC:20250504T090000
DTSTAMP:20260423T070245
CREATED:20250101T000214Z
LAST-MODIFIED:20250101T000214Z
UID:5049-1746349200-1746349200@sudburydistrictdentalsociety.ca
SUMMARY:Dr. Wells
DESCRIPTION:
URL:https://sudburydistrictdentalsociety.ca/oncall/dr-wells-44/
END:VEVENT
BEGIN:VEVENT
DTSTART;TZID=UTC:20250503T090000
DTEND;TZID=UTC:20250503T090000
DTSTAMP:20260423T070245
CREATED:20250101T000213Z
LAST-MODIFIED:20250101T000213Z
UID:5048-1746262800-1746262800@sudburydistrictdentalsociety.ca
SUMMARY:Dr. Wells
DESCRIPTION:
URL:https://sudburydistrictdentalsociety.ca/oncall/dr-wells-43/
END:VEVENT
BEGIN:VEVENT
DTSTART;TZID=UTC:20250502T090000
DTEND;TZID=UTC:20250502T090000
DTSTAMP:20260423T070245
CREATED:20250101T000213Z
LAST-MODIFIED:20250101T000213Z
UID:5047-1746176400-1746176400@sudburydistrictdentalsociety.ca
SUMMARY:Dr. Wells
DESCRIPTION:
URL:https://sudburydistrictdentalsociety.ca/oncall/dr-wells-42/
END:VEVENT
BEGIN:VEVENT
DTSTART;TZID=UTC:20250501T080000
DTEND;TZID=UTC:20250501T080000
DTSTAMP:20260423T070245
CREATED:20250101T000213Z
LAST-MODIFIED:20250121T202244Z
UID:5046-1746086400-1746086400@sudburydistrictdentalsociety.ca
SUMMARY:Dr. Montpellier
DESCRIPTION:
URL:https://sudburydistrictdentalsociety.ca/oncall/dr-clarke-48/
END:VEVENT
BEGIN:VEVENT
DTSTART;TZID=UTC:20250430T080000
DTEND;TZID=UTC:20250430T080000
DTSTAMP:20260423T070245
CREATED:20250101T000159Z
LAST-MODIFIED:20250101T000159Z
UID:5045-1746000000-1746000000@sudburydistrictdentalsociety.ca
SUMMARY:Dr. Conaty
DESCRIPTION:
URL:https://sudburydistrictdentalsociety.ca/oncall/dr-conaty-47/
END:VEVENT
BEGIN:VEVENT
DTSTART;TZID=UTC:20250429T080000
DTEND;TZID=UTC:20250429T080000
DTSTAMP:20260423T070245
CREATED:20250101T000159Z
LAST-MODIFIED:20250101T000159Z
UID:5044-1745913600-1745913600@sudburydistrictdentalsociety.ca
SUMMARY:Dr. Carpentier
DESCRIPTION:
URL:https://sudburydistrictdentalsociety.ca/oncall/dr-carpentier-53/
END:VEVENT
BEGIN:VEVENT
DTSTART;TZID=UTC:20250428T080000
DTEND;TZID=UTC:20250428T080000
DTSTAMP:20260423T070245
CREATED:20250101T000158Z
LAST-MODIFIED:20250101T000158Z
UID:5043-1745827200-1745827200@sudburydistrictdentalsociety.ca
SUMMARY:Dr. Sirkka
DESCRIPTION:
URL:https://sudburydistrictdentalsociety.ca/oncall/dr-sirkka-21/
END:VEVENT
BEGIN:VEVENT
DTSTART;TZID=UTC:20250427T090000
DTEND;TZID=UTC:20250427T090000
DTSTAMP:20260423T070245
CREATED:20250101T000158Z
LAST-MODIFIED:20250101T000158Z
UID:5042-1745744400-1745744400@sudburydistrictdentalsociety.ca
SUMMARY:Dr. Sirkka
DESCRIPTION:
URL:https://sudburydistrictdentalsociety.ca/oncall/dr-sirkka-20/
END:VEVENT
BEGIN:VEVENT
DTSTART;TZID=UTC:20250426T090000
DTEND;TZID=UTC:20250426T090000
DTSTAMP:20260423T070245
CREATED:20250101T000158Z
LAST-MODIFIED:20250101T000158Z
UID:5041-1745658000-1745658000@sudburydistrictdentalsociety.ca
SUMMARY:Dr. Racicot
DESCRIPTION:
URL:https://sudburydistrictdentalsociety.ca/oncall/dr-racicot-52/
END:VEVENT
BEGIN:VEVENT
DTSTART;TZID=UTC:20250425T090000
DTEND;TZID=UTC:20250425T090000
DTSTAMP:20260423T070245
CREATED:20250101T000144Z
LAST-MODIFIED:20250101T000144Z
UID:5040-1745571600-1745571600@sudburydistrictdentalsociety.ca
SUMMARY:Dr. Rain
DESCRIPTION:
URL:https://sudburydistrictdentalsociety.ca/oncall/dr-rain-48/
END:VEVENT
BEGIN:VEVENT
DTSTART;TZID=UTC:20250424T080000
DTEND;TZID=UTC:20250424T080000
DTSTAMP:20260423T070245
CREATED:20250101T000143Z
LAST-MODIFIED:20250101T000143Z
UID:5039-1745481600-1745481600@sudburydistrictdentalsociety.ca
SUMMARY:Dr. Racicot
DESCRIPTION:
URL:https://sudburydistrictdentalsociety.ca/oncall/dr-racicot-51/
END:VEVENT
BEGIN:VEVENT
DTSTART;TZID=UTC:20250423T080000
DTEND;TZID=UTC:20250423T080000
DTSTAMP:20260423T070245
CREATED:20250101T000143Z
LAST-MODIFIED:20250101T000143Z
UID:5038-1745395200-1745395200@sudburydistrictdentalsociety.ca
SUMMARY:Dr. Gerhart
DESCRIPTION:
URL:https://sudburydistrictdentalsociety.ca/oncall/dr-gerhart-51/
END:VEVENT
BEGIN:VEVENT
DTSTART;TZID=UTC:20250422T080000
DTEND;TZID=UTC:20250422T080000
DTSTAMP:20260423T070245
CREATED:20250101T000143Z
LAST-MODIFIED:20250101T000143Z
UID:5037-1745308800-1745308800@sudburydistrictdentalsociety.ca
SUMMARY:Dr. Mate
DESCRIPTION:
URL:https://sudburydistrictdentalsociety.ca/oncall/dr-mate-36/
END:VEVENT
BEGIN:VEVENT
DTSTART;TZID=UTC:20250421T080000
DTEND;TZID=UTC:20250421T080000
DTSTAMP:20260423T070245
CREATED:20250101T000143Z
LAST-MODIFIED:20250101T000143Z
UID:5036-1745222400-1745222400@sudburydistrictdentalsociety.ca
SUMMARY:Dr. DeGurse
DESCRIPTION:
URL:https://sudburydistrictdentalsociety.ca/oncall/dr-degurse-15/
END:VEVENT
BEGIN:VEVENT
DTSTART;TZID=UTC:20250420T090000
DTEND;TZID=UTC:20250420T090000
DTSTAMP:20260423T070245
CREATED:20250101T000129Z
LAST-MODIFIED:20250121T202739Z
UID:5035-1745139600-1745139600@sudburydistrictdentalsociety.ca
SUMMARY:Dr. Clarke
DESCRIPTION:
URL:https://sudburydistrictdentalsociety.ca/oncall/dr-richards-50/
END:VEVENT
BEGIN:VEVENT
DTSTART;VALUE=DATE:20250420
DTEND;VALUE=DATE:20250422
DTSTAMP:20260423T070245
CREATED:20250101T001443Z
LAST-MODIFIED:20250101T001443Z
UID:5299-1745110800-1745197199@sudburydistrictdentalsociety.ca
SUMMARY:Easter Sunday
DESCRIPTION:
URL:https://sudburydistrictdentalsociety.ca/oncall/easter-sunday-2/
END:VEVENT
BEGIN:VEVENT
DTSTART;TZID=UTC:20250419T090000
DTEND;TZID=UTC:20250419T090000
DTSTAMP:20260423T070245
CREATED:20250101T000129Z
LAST-MODIFIED:20250121T202727Z
UID:5034-1745053200-1745053200@sudburydistrictdentalsociety.ca
SUMMARY:Dr. Clarke
DESCRIPTION:
URL:https://sudburydistrictdentalsociety.ca/oncall/dr-richards-49/
END:VEVENT
BEGIN:VEVENT
DTSTART;TZID=UTC:20250418T090000
DTEND;TZID=UTC:20250418T090000
DTSTAMP:20260423T070245
CREATED:20250101T000128Z
LAST-MODIFIED:20250121T202713Z
UID:5033-1744966800-1744966800@sudburydistrictdentalsociety.ca
SUMMARY:Dr. Clarke
DESCRIPTION:
URL:https://sudburydistrictdentalsociety.ca/oncall/dr-richards-48/
END:VEVENT
BEGIN:VEVENT
DTSTART;VALUE=DATE:20250418
DTEND;VALUE=DATE:20250420
DTSTAMP:20260423T070245
CREATED:20250101T001443Z
LAST-MODIFIED:20250101T001443Z
UID:5298-1744938000-1745024399@sudburydistrictdentalsociety.ca
SUMMARY:Good Friday
DESCRIPTION:
URL:https://sudburydistrictdentalsociety.ca/oncall/good-friday-4/
END:VEVENT
BEGIN:VEVENT
DTSTART;TZID=UTC:20250417T080000
DTEND;TZID=UTC:20250417T080000
DTSTAMP:20260423T070245
CREATED:20250101T000128Z
LAST-MODIFIED:20250101T000128Z
UID:5032-1744876800-1744876800@sudburydistrictdentalsociety.ca
SUMMARY:Dr. Budd
DESCRIPTION:
URL:https://sudburydistrictdentalsociety.ca/oncall/dr-budd-46/
END:VEVENT
BEGIN:VEVENT
DTSTART;TZID=UTC:20250416T080000
DTEND;TZID=UTC:20250416T080000
DTSTAMP:20260423T070245
CREATED:20250101T000128Z
LAST-MODIFIED:20250101T000128Z
UID:5031-1744790400-1744790400@sudburydistrictdentalsociety.ca
SUMMARY:Dr. Wilson
DESCRIPTION:
URL:https://sudburydistrictdentalsociety.ca/oncall/dr-wilson-54/
END:VEVENT
END:VCALENDAR