BEGIN:VCALENDAR
VERSION:2.0
PRODID:-//Sudbury &amp; District Dental Society - ECPv6.15.20//NONSGML v1.0//EN
CALSCALE:GREGORIAN
METHOD:PUBLISH
X-WR-CALNAME:Sudbury &amp; District Dental Society
X-ORIGINAL-URL:https://sudburydistrictdentalsociety.ca
X-WR-CALDESC:Events for Sudbury &amp; District Dental Society
REFRESH-INTERVAL;VALUE=DURATION:PT1H
X-Robots-Tag:noindex
X-PUBLISHED-TTL:PT1H
BEGIN:VTIMEZONE
TZID:UTC
BEGIN:STANDARD
TZOFFSETFROM:+0000
TZOFFSETTO:+0000
TZNAME:UTC
DTSTART:20240101T000000
END:STANDARD
END:VTIMEZONE
BEGIN:VEVENT
DTSTART;TZID=UTC:20251105T080000
DTEND;TZID=UTC:20251105T080000
DTSTAMP:20260422T223818
CREATED:20250101T001129Z
LAST-MODIFIED:20250101T001129Z
UID:5234-1762329600-1762329600@sudburydistrictdentalsociety.ca
SUMMARY:Dr. Huffman
DESCRIPTION:
URL:https://sudburydistrictdentalsociety.ca/oncall/dr-huffman-17/
END:VEVENT
BEGIN:VEVENT
DTSTART;TZID=UTC:20251106T080000
DTEND;TZID=UTC:20251106T080000
DTSTAMP:20260422T223818
CREATED:20250101T001129Z
LAST-MODIFIED:20250101T001129Z
UID:5235-1762416000-1762416000@sudburydistrictdentalsociety.ca
SUMMARY:Dr. Sirkka
DESCRIPTION:
URL:https://sudburydistrictdentalsociety.ca/oncall/dr-sirkka-27/
END:VEVENT
BEGIN:VEVENT
DTSTART;TZID=UTC:20251107T090000
DTEND;TZID=UTC:20251107T090000
DTSTAMP:20260422T223818
CREATED:20250101T001143Z
LAST-MODIFIED:20250101T001143Z
UID:5236-1762506000-1762506000@sudburydistrictdentalsociety.ca
SUMMARY:Dr. Junor
DESCRIPTION:
URL:https://sudburydistrictdentalsociety.ca/oncall/dr-junor-51/
END:VEVENT
BEGIN:VEVENT
DTSTART;TZID=UTC:20251108T090000
DTEND;TZID=UTC:20251108T090000
DTSTAMP:20260422T223818
CREATED:20250101T001143Z
LAST-MODIFIED:20250101T001143Z
UID:5237-1762592400-1762592400@sudburydistrictdentalsociety.ca
SUMMARY:Dr. Junor
DESCRIPTION:
URL:https://sudburydistrictdentalsociety.ca/oncall/dr-junor-52/
END:VEVENT
BEGIN:VEVENT
DTSTART;TZID=UTC:20251109T090000
DTEND;TZID=UTC:20251109T090000
DTSTAMP:20260422T223818
CREATED:20250101T001143Z
LAST-MODIFIED:20250101T001143Z
UID:5238-1762678800-1762678800@sudburydistrictdentalsociety.ca
SUMMARY:Dr. Junor
DESCRIPTION:
URL:https://sudburydistrictdentalsociety.ca/oncall/dr-junor-53/
END:VEVENT
BEGIN:VEVENT
DTSTART;TZID=UTC:20251110T080000
DTEND;TZID=UTC:20251110T080000
DTSTAMP:20260422T223818
CREATED:20250101T001144Z
LAST-MODIFIED:20250101T001144Z
UID:5239-1762761600-1762761600@sudburydistrictdentalsociety.ca
SUMMARY:Dr. Grebe
DESCRIPTION:
URL:https://sudburydistrictdentalsociety.ca/oncall/dr-grebe-143/
END:VEVENT
BEGIN:VEVENT
DTSTART;TZID=UTC:20251111T080000
DTEND;TZID=UTC:20251111T080000
DTSTAMP:20260422T223818
CREATED:20250101T001144Z
LAST-MODIFIED:20250101T001144Z
UID:5240-1762848000-1762848000@sudburydistrictdentalsociety.ca
SUMMARY:Dr. Rain
DESCRIPTION:
URL:https://sudburydistrictdentalsociety.ca/oncall/dr-rain-55/
END:VEVENT
BEGIN:VEVENT
DTSTART;TZID=UTC:20251112T080000
DTEND;TZID=UTC:20251112T080000
DTSTAMP:20260422T223818
CREATED:20250101T001158Z
LAST-MODIFIED:20250101T001158Z
UID:5241-1762934400-1762934400@sudburydistrictdentalsociety.ca
SUMMARY:Dr. Huffman
DESCRIPTION:
URL:https://sudburydistrictdentalsociety.ca/oncall/dr-huffman-18/
END:VEVENT
BEGIN:VEVENT
DTSTART;TZID=UTC:20251113T080000
DTEND;TZID=UTC:20251113T080000
DTSTAMP:20260422T223818
CREATED:20250101T001158Z
LAST-MODIFIED:20250101T001158Z
UID:5242-1763020800-1763020800@sudburydistrictdentalsociety.ca
SUMMARY:Dr. Huffman
DESCRIPTION:
URL:https://sudburydistrictdentalsociety.ca/oncall/dr-huffman-19/
END:VEVENT
BEGIN:VEVENT
DTSTART;TZID=UTC:20251114T090000
DTEND;TZID=UTC:20251114T090000
DTSTAMP:20260422T223818
CREATED:20250101T001158Z
LAST-MODIFIED:20250101T001158Z
UID:5243-1763110800-1763110800@sudburydistrictdentalsociety.ca
SUMMARY:Dr. Huffman
DESCRIPTION:
URL:https://sudburydistrictdentalsociety.ca/oncall/dr-huffman-20/
END:VEVENT
BEGIN:VEVENT
DTSTART;TZID=UTC:20251115T090000
DTEND;TZID=UTC:20251115T090000
DTSTAMP:20260422T223818
CREATED:20250101T001159Z
LAST-MODIFIED:20250101T001159Z
UID:5244-1763197200-1763197200@sudburydistrictdentalsociety.ca
SUMMARY:Dr. Huffman
DESCRIPTION:
URL:https://sudburydistrictdentalsociety.ca/oncall/dr-huffman-21/
END:VEVENT
BEGIN:VEVENT
DTSTART;TZID=UTC:20251116T090000
DTEND;TZID=UTC:20251116T090000
DTSTAMP:20260422T223818
CREATED:20250101T001159Z
LAST-MODIFIED:20250101T001159Z
UID:5245-1763283600-1763283600@sudburydistrictdentalsociety.ca
SUMMARY:Dr. Huffman
DESCRIPTION:
URL:https://sudburydistrictdentalsociety.ca/oncall/dr-huffman-22/
END:VEVENT
BEGIN:VEVENT
DTSTART;TZID=UTC:20251117T080000
DTEND;TZID=UTC:20251117T080000
DTSTAMP:20260422T223818
CREATED:20250101T001213Z
LAST-MODIFIED:20250101T001213Z
UID:5246-1763366400-1763366400@sudburydistrictdentalsociety.ca
SUMMARY:Dr. Venugopal
DESCRIPTION:
URL:https://sudburydistrictdentalsociety.ca/oncall/dr-venugopal-48/
END:VEVENT
BEGIN:VEVENT
DTSTART;TZID=UTC:20251118T080000
DTEND;TZID=UTC:20251118T080000
DTSTAMP:20260422T223818
CREATED:20250101T001213Z
LAST-MODIFIED:20250101T001213Z
UID:5247-1763452800-1763452800@sudburydistrictdentalsociety.ca
SUMMARY:Dr. Venugopal
DESCRIPTION:
URL:https://sudburydistrictdentalsociety.ca/oncall/dr-venugopal-49/
END:VEVENT
BEGIN:VEVENT
DTSTART;TZID=UTC:20251119T080000
DTEND;TZID=UTC:20251119T080000
DTSTAMP:20260422T223818
CREATED:20250101T001213Z
LAST-MODIFIED:20250101T001213Z
UID:5248-1763539200-1763539200@sudburydistrictdentalsociety.ca
SUMMARY:Dr. Venugopal
DESCRIPTION:
URL:https://sudburydistrictdentalsociety.ca/oncall/dr-venugopal-50/
END:VEVENT
BEGIN:VEVENT
DTSTART;TZID=UTC:20251120T080000
DTEND;TZID=UTC:20251120T080000
DTSTAMP:20260422T223818
CREATED:20250101T001214Z
LAST-MODIFIED:20250101T001214Z
UID:5249-1763625600-1763625600@sudburydistrictdentalsociety.ca
SUMMARY:Dr. Venugopal
DESCRIPTION:
URL:https://sudburydistrictdentalsociety.ca/oncall/dr-venugopal-51/
END:VEVENT
BEGIN:VEVENT
DTSTART;TZID=UTC:20251121T090000
DTEND;TZID=UTC:20251121T090000
DTSTAMP:20260422T223818
CREATED:20250101T001214Z
LAST-MODIFIED:20250101T001214Z
UID:5250-1763715600-1763715600@sudburydistrictdentalsociety.ca
SUMMARY:Dr. Venugopal
DESCRIPTION:
URL:https://sudburydistrictdentalsociety.ca/oncall/dr-venugopal-52/
END:VEVENT
BEGIN:VEVENT
DTSTART;TZID=UTC:20251122T090000
DTEND;TZID=UTC:20251122T090000
DTSTAMP:20260422T223818
CREATED:20250101T001228Z
LAST-MODIFIED:20250101T001228Z
UID:5251-1763802000-1763802000@sudburydistrictdentalsociety.ca
SUMMARY:Dr. Venugopal
DESCRIPTION:
URL:https://sudburydistrictdentalsociety.ca/oncall/dr-venugopal-53/
END:VEVENT
BEGIN:VEVENT
DTSTART;TZID=UTC:20251123T090000
DTEND;TZID=UTC:20251123T090000
DTSTAMP:20260422T223818
CREATED:20250101T001228Z
LAST-MODIFIED:20250101T001228Z
UID:5252-1763888400-1763888400@sudburydistrictdentalsociety.ca
SUMMARY:Dr. Venugopal
DESCRIPTION:
URL:https://sudburydistrictdentalsociety.ca/oncall/dr-venugopal-54/
END:VEVENT
BEGIN:VEVENT
DTSTART;TZID=UTC:20251124T080000
DTEND;TZID=UTC:20251124T080000
DTSTAMP:20260422T223818
CREATED:20250101T001228Z
LAST-MODIFIED:20250101T001228Z
UID:5253-1763971200-1763971200@sudburydistrictdentalsociety.ca
SUMMARY:Dr. Carpentier
DESCRIPTION:
URL:https://sudburydistrictdentalsociety.ca/oncall/dr-carpentier-58/
END:VEVENT
BEGIN:VEVENT
DTSTART;TZID=UTC:20251125T080000
DTEND;TZID=UTC:20251125T080000
DTSTAMP:20260422T223818
CREATED:20250101T001229Z
LAST-MODIFIED:20250101T001229Z
UID:5254-1764057600-1764057600@sudburydistrictdentalsociety.ca
SUMMARY:Dr. Virani
DESCRIPTION:
URL:https://sudburydistrictdentalsociety.ca/oncall/dr-virani-29/
END:VEVENT
BEGIN:VEVENT
DTSTART;TZID=UTC:20251126T080000
DTEND;TZID=UTC:20251126T080000
DTSTAMP:20260422T223818
CREATED:20250101T001229Z
LAST-MODIFIED:20250101T001229Z
UID:5255-1764144000-1764144000@sudburydistrictdentalsociety.ca
SUMMARY:Dr. Richards
DESCRIPTION:
URL:https://sudburydistrictdentalsociety.ca/oncall/dr-richards-53/
END:VEVENT
BEGIN:VEVENT
DTSTART;TZID=UTC:20251127T080000
DTEND;TZID=UTC:20251127T080000
DTSTAMP:20260422T223818
CREATED:20250101T001243Z
LAST-MODIFIED:20250101T001243Z
UID:5256-1764230400-1764230400@sudburydistrictdentalsociety.ca
SUMMARY:Dr. Clarke
DESCRIPTION:
URL:https://sudburydistrictdentalsociety.ca/oncall/dr-clarke-52/
END:VEVENT
BEGIN:VEVENT
DTSTART;TZID=UTC:20251128T090000
DTEND;TZID=UTC:20251128T090000
DTSTAMP:20260422T223818
CREATED:20250101T001243Z
LAST-MODIFIED:20250101T001243Z
UID:5257-1764320400-1764320400@sudburydistrictdentalsociety.ca
SUMMARY:Dr. Kosnik
DESCRIPTION:
URL:https://sudburydistrictdentalsociety.ca/oncall/dr-kosnik-26/
END:VEVENT
BEGIN:VEVENT
DTSTART;TZID=UTC:20251129T090000
DTEND;TZID=UTC:20251129T090000
DTSTAMP:20260422T223818
CREATED:20250101T001243Z
LAST-MODIFIED:20250101T001243Z
UID:5258-1764406800-1764406800@sudburydistrictdentalsociety.ca
SUMMARY:Dr. Bubnik
DESCRIPTION:
URL:https://sudburydistrictdentalsociety.ca/oncall/dr-bubnik-53/
END:VEVENT
BEGIN:VEVENT
DTSTART;TZID=UTC:20251130T090000
DTEND;TZID=UTC:20251130T090000
DTSTAMP:20260422T223818
CREATED:20250101T001244Z
LAST-MODIFIED:20250101T001244Z
UID:5259-1764493200-1764493200@sudburydistrictdentalsociety.ca
SUMMARY:Dr. Bubnik
DESCRIPTION:
URL:https://sudburydistrictdentalsociety.ca/oncall/dr-bubnik-54/
END:VEVENT
BEGIN:VEVENT
DTSTART;TZID=UTC:20251201T080000
DTEND;TZID=UTC:20251201T080000
DTSTAMP:20260422T223818
CREATED:20250101T001244Z
LAST-MODIFIED:20250101T001244Z
UID:5260-1764576000-1764576000@sudburydistrictdentalsociety.ca
SUMMARY:Dr. Valiquette
DESCRIPTION:
URL:https://sudburydistrictdentalsociety.ca/oncall/dr-valiquette-24/
END:VEVENT
BEGIN:VEVENT
DTSTART;TZID=UTC:20251202T080000
DTEND;TZID=UTC:20251202T080000
DTSTAMP:20260422T223818
CREATED:20250101T001258Z
LAST-MODIFIED:20250101T001258Z
UID:5261-1764662400-1764662400@sudburydistrictdentalsociety.ca
SUMMARY:Dr. Valiquette
DESCRIPTION:
URL:https://sudburydistrictdentalsociety.ca/oncall/dr-valiquette-25/
END:VEVENT
BEGIN:VEVENT
DTSTART;TZID=UTC:20251203T080000
DTEND;TZID=UTC:20251203T080000
DTSTAMP:20260422T223818
CREATED:20250101T001258Z
LAST-MODIFIED:20250101T001258Z
UID:5262-1764748800-1764748800@sudburydistrictdentalsociety.ca
SUMMARY:Dr. Valiquette
DESCRIPTION:
URL:https://sudburydistrictdentalsociety.ca/oncall/dr-valiquette-26/
END:VEVENT
BEGIN:VEVENT
DTSTART;TZID=UTC:20251204T080000
DTEND;TZID=UTC:20251204T080000
DTSTAMP:20260422T223818
CREATED:20250101T001258Z
LAST-MODIFIED:20250101T001258Z
UID:5263-1764835200-1764835200@sudburydistrictdentalsociety.ca
SUMMARY:Dr. Valiquette
DESCRIPTION:
URL:https://sudburydistrictdentalsociety.ca/oncall/dr-valiquette-27/
END:VEVENT
END:VCALENDAR