BEGIN:VCALENDAR
VERSION:2.0
PRODID:-//Sudbury &amp; District Dental Society - ECPv6.15.20//NONSGML v1.0//EN
CALSCALE:GREGORIAN
METHOD:PUBLISH
X-ORIGINAL-URL:https://sudburydistrictdentalsociety.ca
X-WR-CALDESC:Events for Sudbury &amp; District Dental Society
REFRESH-INTERVAL;VALUE=DURATION:PT1H
X-Robots-Tag:noindex
X-PUBLISHED-TTL:PT1H
BEGIN:VTIMEZONE
TZID:UTC
BEGIN:STANDARD
TZOFFSETFROM:+0000
TZOFFSETTO:+0000
TZNAME:UTC
DTSTART:20230101T000000
END:STANDARD
END:VTIMEZONE
BEGIN:VEVENT
DTSTART;VALUE=DATE:20240902
DTEND;VALUE=DATE:20240904
DTSTAMP:20260423T193749
CREATED:20240121T220727Z
LAST-MODIFIED:20240121T222953Z
UID:4533-1725238800-1725325199@sudburydistrictdentalsociety.ca
SUMMARY:LABOUR DAY
DESCRIPTION:
URL:https://sudburydistrictdentalsociety.ca/oncall/labour-day-3/
END:VEVENT
BEGIN:VEVENT
DTSTART;TZID=UTC:20240902T090000
DTEND;TZID=UTC:20240902T090000
DTSTAMP:20260423T193749
CREATED:20240121T222324Z
LAST-MODIFIED:20240121T222324Z
UID:4783-1725267600-1725267600@sudburydistrictdentalsociety.ca
SUMMARY:Dr. Conaty
DESCRIPTION:
URL:https://sudburydistrictdentalsociety.ca/oncall/dr-conaty-44/
END:VEVENT
BEGIN:VEVENT
DTSTART;TZID=UTC:20240903T080000
DTEND;TZID=UTC:20240903T080000
DTSTAMP:20260423T193749
CREATED:20240121T222338Z
LAST-MODIFIED:20240121T222338Z
UID:4784-1725350400-1725350400@sudburydistrictdentalsociety.ca
SUMMARY:Dr. Carpentier
DESCRIPTION:
URL:https://sudburydistrictdentalsociety.ca/oncall/dr-carpentier-48/
END:VEVENT
BEGIN:VEVENT
DTSTART;TZID=UTC:20240904T080000
DTEND;TZID=UTC:20240904T080000
DTSTAMP:20260423T193749
CREATED:20240121T222338Z
LAST-MODIFIED:20240121T222338Z
UID:4785-1725436800-1725436800@sudburydistrictdentalsociety.ca
SUMMARY:Dr. Wilson
DESCRIPTION:
URL:https://sudburydistrictdentalsociety.ca/oncall/dr-wilson-47/
END:VEVENT
BEGIN:VEVENT
DTSTART;TZID=UTC:20240905T080000
DTEND;TZID=UTC:20240905T080000
DTSTAMP:20260423T193749
CREATED:20240121T222338Z
LAST-MODIFIED:20240121T222338Z
UID:4786-1725523200-1725523200@sudburydistrictdentalsociety.ca
SUMMARY:Dr. Racicot
DESCRIPTION:
URL:https://sudburydistrictdentalsociety.ca/oncall/dr-racicot-46/
END:VEVENT
BEGIN:VEVENT
DTSTART;TZID=UTC:20240906T090000
DTEND;TZID=UTC:20240906T090000
DTSTAMP:20260423T193749
CREATED:20240121T222338Z
LAST-MODIFIED:20240121T222338Z
UID:4787-1725613200-1725613200@sudburydistrictdentalsociety.ca
SUMMARY:Dr. McNicholl
DESCRIPTION:
URL:https://sudburydistrictdentalsociety.ca/oncall/dr-mcnicholl-50/
END:VEVENT
BEGIN:VEVENT
DTSTART;TZID=UTC:20240907T090000
DTEND;TZID=UTC:20240907T090000
DTSTAMP:20260423T193749
CREATED:20240121T222339Z
LAST-MODIFIED:20240121T222339Z
UID:4788-1725699600-1725699600@sudburydistrictdentalsociety.ca
SUMMARY:Dr. McNicholl
DESCRIPTION:
URL:https://sudburydistrictdentalsociety.ca/oncall/dr-mcnicholl-51/
END:VEVENT
BEGIN:VEVENT
DTSTART;TZID=UTC:20240908T090000
DTEND;TZID=UTC:20240908T090000
DTSTAMP:20260423T193749
CREATED:20240121T222353Z
LAST-MODIFIED:20240121T222353Z
UID:4789-1725786000-1725786000@sudburydistrictdentalsociety.ca
SUMMARY:Dr. McNicholl
DESCRIPTION:
URL:https://sudburydistrictdentalsociety.ca/oncall/dr-mcnicholl-52/
END:VEVENT
BEGIN:VEVENT
DTSTART;TZID=UTC:20240909T080000
DTEND;TZID=UTC:20240909T080000
DTSTAMP:20260423T193749
CREATED:20240121T222353Z
LAST-MODIFIED:20240121T222353Z
UID:4790-1725868800-1725868800@sudburydistrictdentalsociety.ca
SUMMARY:Dr. Teijero
DESCRIPTION:
URL:https://sudburydistrictdentalsociety.ca/oncall/dr-teijero-10/
END:VEVENT
BEGIN:VEVENT
DTSTART;TZID=UTC:20240910T080000
DTEND;TZID=UTC:20240910T080000
DTSTAMP:20260423T193749
CREATED:20240121T222353Z
LAST-MODIFIED:20240121T222353Z
UID:4791-1725955200-1725955200@sudburydistrictdentalsociety.ca
SUMMARY:Dr. Teijero
DESCRIPTION:
URL:https://sudburydistrictdentalsociety.ca/oncall/dr-teijero-11/
END:VEVENT
BEGIN:VEVENT
DTSTART;TZID=UTC:20240911T080000
DTEND;TZID=UTC:20240911T080000
DTSTAMP:20260423T193749
CREATED:20240121T222353Z
LAST-MODIFIED:20240121T222353Z
UID:4792-1726041600-1726041600@sudburydistrictdentalsociety.ca
SUMMARY:Dr. Teijero
DESCRIPTION:
URL:https://sudburydistrictdentalsociety.ca/oncall/dr-teijero-12/
END:VEVENT
BEGIN:VEVENT
DTSTART;TZID=UTC:20240912T080000
DTEND;TZID=UTC:20240912T080000
DTSTAMP:20260423T193749
CREATED:20240121T222353Z
LAST-MODIFIED:20240121T222353Z
UID:4793-1726128000-1726128000@sudburydistrictdentalsociety.ca
SUMMARY:Dr. Teijero
DESCRIPTION:
URL:https://sudburydistrictdentalsociety.ca/oncall/dr-teijero-13/
END:VEVENT
BEGIN:VEVENT
DTSTART;TZID=UTC:20240913T090000
DTEND;TZID=UTC:20240913T090000
DTSTAMP:20260423T193749
CREATED:20240121T222408Z
LAST-MODIFIED:20240121T222408Z
UID:4794-1726218000-1726218000@sudburydistrictdentalsociety.ca
SUMMARY:Dr. Teijero
DESCRIPTION:
URL:https://sudburydistrictdentalsociety.ca/oncall/dr-teijero-14/
END:VEVENT
BEGIN:VEVENT
DTSTART;TZID=UTC:20240914T090000
DTEND;TZID=UTC:20240914T090000
DTSTAMP:20260423T193749
CREATED:20240121T222408Z
LAST-MODIFIED:20240121T222408Z
UID:4795-1726304400-1726304400@sudburydistrictdentalsociety.ca
SUMMARY:Dr. Teijero
DESCRIPTION:
URL:https://sudburydistrictdentalsociety.ca/oncall/dr-teijero-15/
END:VEVENT
BEGIN:VEVENT
DTSTART;TZID=UTC:20240915T090000
DTEND;TZID=UTC:20240915T090000
DTSTAMP:20260423T193749
CREATED:20240121T222408Z
LAST-MODIFIED:20240121T222408Z
UID:4796-1726390800-1726390800@sudburydistrictdentalsociety.ca
SUMMARY:Dr. Teijero
DESCRIPTION:
URL:https://sudburydistrictdentalsociety.ca/oncall/dr-teijero-16/
END:VEVENT
BEGIN:VEVENT
DTSTART;TZID=UTC:20240916T080000
DTEND;TZID=UTC:20240916T080000
DTSTAMP:20260423T193749
CREATED:20240121T222408Z
LAST-MODIFIED:20240121T222408Z
UID:4797-1726473600-1726473600@sudburydistrictdentalsociety.ca
SUMMARY:Dr. Virani
DESCRIPTION:
URL:https://sudburydistrictdentalsociety.ca/oncall/dr-virani-20/
END:VEVENT
BEGIN:VEVENT
DTSTART;TZID=UTC:20240917T080000
DTEND;TZID=UTC:20240917T080000
DTSTAMP:20260423T193749
CREATED:20240121T222409Z
LAST-MODIFIED:20240121T222409Z
UID:4798-1726560000-1726560000@sudburydistrictdentalsociety.ca
SUMMARY:Dr. Conaty
DESCRIPTION:
URL:https://sudburydistrictdentalsociety.ca/oncall/dr-conaty-45/
END:VEVENT
BEGIN:VEVENT
DTSTART;TZID=UTC:20240918T080000
DTEND;TZID=UTC:20240918T080000
DTSTAMP:20260423T193749
CREATED:20240121T222423Z
LAST-MODIFIED:20240121T222423Z
UID:4799-1726646400-1726646400@sudburydistrictdentalsociety.ca
SUMMARY:Dr. Reich
DESCRIPTION:
URL:https://sudburydistrictdentalsociety.ca/oncall/dr-reich-47/
END:VEVENT
BEGIN:VEVENT
DTSTART;TZID=UTC:20240919T080000
DTEND;TZID=UTC:20240919T080000
DTSTAMP:20260423T193749
CREATED:20240121T222423Z
LAST-MODIFIED:20240121T222423Z
UID:4800-1726732800-1726732800@sudburydistrictdentalsociety.ca
SUMMARY:Dr. Chintan
DESCRIPTION:
URL:https://sudburydistrictdentalsociety.ca/oncall/dr-chintan-14/
END:VEVENT
BEGIN:VEVENT
DTSTART;TZID=UTC:20240920T090000
DTEND;TZID=UTC:20240920T090000
DTSTAMP:20260423T193749
CREATED:20240121T222423Z
LAST-MODIFIED:20240121T222423Z
UID:4801-1726822800-1726822800@sudburydistrictdentalsociety.ca
SUMMARY:Dr. Vyas
DESCRIPTION:
URL:https://sudburydistrictdentalsociety.ca/oncall/dr-vyas-10/
END:VEVENT
BEGIN:VEVENT
DTSTART;TZID=UTC:20240921T090000
DTEND;TZID=UTC:20240921T090000
DTSTAMP:20260423T193749
CREATED:20240121T222423Z
LAST-MODIFIED:20240121T222423Z
UID:4802-1726909200-1726909200@sudburydistrictdentalsociety.ca
SUMMARY:Dr. Wilson
DESCRIPTION:
URL:https://sudburydistrictdentalsociety.ca/oncall/dr-wilson-48/
END:VEVENT
BEGIN:VEVENT
DTSTART;TZID=UTC:20240922T090000
DTEND;TZID=UTC:20240922T090000
DTSTAMP:20260423T193749
CREATED:20240121T222424Z
LAST-MODIFIED:20240121T222424Z
UID:4803-1726995600-1726995600@sudburydistrictdentalsociety.ca
SUMMARY:Dr. Wilson
DESCRIPTION:
URL:https://sudburydistrictdentalsociety.ca/oncall/dr-wilson-49/
END:VEVENT
BEGIN:VEVENT
DTSTART;TZID=UTC:20240923T080000
DTEND;TZID=UTC:20240923T080000
DTSTAMP:20260423T193749
CREATED:20240121T222438Z
LAST-MODIFIED:20240121T222438Z
UID:4804-1727078400-1727078400@sudburydistrictdentalsociety.ca
SUMMARY:Dr. Vyas
DESCRIPTION:
URL:https://sudburydistrictdentalsociety.ca/oncall/dr-vyas-11/
END:VEVENT
BEGIN:VEVENT
DTSTART;TZID=UTC:20240924T080000
DTEND;TZID=UTC:20240924T080000
DTSTAMP:20260423T193749
CREATED:20240121T222438Z
LAST-MODIFIED:20240121T222438Z
UID:4805-1727164800-1727164800@sudburydistrictdentalsociety.ca
SUMMARY:Dr. Amos
DESCRIPTION:
URL:https://sudburydistrictdentalsociety.ca/oncall/dr-amos-18/
END:VEVENT
BEGIN:VEVENT
DTSTART;TZID=UTC:20240925T080000
DTEND;TZID=UTC:20240925T080000
DTSTAMP:20260423T193749
CREATED:20240121T222438Z
LAST-MODIFIED:20240121T222438Z
UID:4806-1727251200-1727251200@sudburydistrictdentalsociety.ca
SUMMARY:Dr. Carpentier
DESCRIPTION:
URL:https://sudburydistrictdentalsociety.ca/oncall/dr-carpentier-49/
END:VEVENT
BEGIN:VEVENT
DTSTART;TZID=UTC:20240926T080000
DTEND;TZID=UTC:20240926T080000
DTSTAMP:20260423T193749
CREATED:20240121T222438Z
LAST-MODIFIED:20240121T222438Z
UID:4807-1727337600-1727337600@sudburydistrictdentalsociety.ca
SUMMARY:Dr. Casson
DESCRIPTION:
URL:https://sudburydistrictdentalsociety.ca/oncall/dr-casson-5/
END:VEVENT
BEGIN:VEVENT
DTSTART;TZID=UTC:20240927T090000
DTEND;TZID=UTC:20240927T090000
DTSTAMP:20260423T193749
CREATED:20240121T222439Z
LAST-MODIFIED:20240121T222439Z
UID:4808-1727427600-1727427600@sudburydistrictdentalsociety.ca
SUMMARY:Dr. Racicot
DESCRIPTION:
URL:https://sudburydistrictdentalsociety.ca/oncall/dr-racicot-47/
END:VEVENT
BEGIN:VEVENT
DTSTART;TZID=UTC:20240928T090000
DTEND;TZID=UTC:20240928T090000
DTSTAMP:20260423T193749
CREATED:20240121T222453Z
LAST-MODIFIED:20240121T222453Z
UID:4809-1727514000-1727514000@sudburydistrictdentalsociety.ca
SUMMARY:Dr. Racicot
DESCRIPTION:
URL:https://sudburydistrictdentalsociety.ca/oncall/dr-racicot-48/
END:VEVENT
BEGIN:VEVENT
DTSTART;TZID=UTC:20240929T090000
DTEND;TZID=UTC:20240929T090000
DTSTAMP:20260423T193749
CREATED:20240121T222453Z
LAST-MODIFIED:20240121T222453Z
UID:4810-1727600400-1727600400@sudburydistrictdentalsociety.ca
SUMMARY:Dr. Racicot
DESCRIPTION:
URL:https://sudburydistrictdentalsociety.ca/oncall/dr-racicot-49/
END:VEVENT
BEGIN:VEVENT
DTSTART;TZID=UTC:20240930T080000
DTEND;TZID=UTC:20240930T080000
DTSTAMP:20260423T193749
CREATED:20240121T222453Z
LAST-MODIFIED:20240121T222453Z
UID:4811-1727683200-1727683200@sudburydistrictdentalsociety.ca
SUMMARY:Dr. Vyas
DESCRIPTION:
URL:https://sudburydistrictdentalsociety.ca/oncall/dr-vyas-12/
END:VEVENT
END:VCALENDAR