BEGIN:VCALENDAR
VERSION:2.0
PRODID:-//Sudbury &amp; District Dental Society - ECPv6.15.20//NONSGML v1.0//EN
CALSCALE:GREGORIAN
METHOD:PUBLISH
X-WR-CALNAME:Sudbury &amp; District Dental Society
X-ORIGINAL-URL:https://sudburydistrictdentalsociety.ca
X-WR-CALDESC:Events for Sudbury &amp; District Dental Society
REFRESH-INTERVAL;VALUE=DURATION:PT1H
X-Robots-Tag:noindex
X-PUBLISHED-TTL:PT1H
BEGIN:VTIMEZONE
TZID:UTC
BEGIN:STANDARD
TZOFFSETFROM:+0000
TZOFFSETTO:+0000
TZNAME:UTC
DTSTART:20230101T000000
END:STANDARD
END:VTIMEZONE
BEGIN:VEVENT
DTSTART;TZID=UTC:20241019T090000
DTEND;TZID=UTC:20241019T090000
DTSTAMP:20260423T193701
CREATED:20240121T222553Z
LAST-MODIFIED:20240121T222553Z
UID:4830-1729328400-1729328400@sudburydistrictdentalsociety.ca
SUMMARY:Dr. Huffman
DESCRIPTION:
URL:https://sudburydistrictdentalsociety.ca/oncall/dr-huffman-13/
END:VEVENT
BEGIN:VEVENT
DTSTART;TZID=UTC:20241020T090000
DTEND;TZID=UTC:20241020T090000
DTSTAMP:20260423T193701
CREATED:20240121T222553Z
LAST-MODIFIED:20240121T222553Z
UID:4831-1729414800-1729414800@sudburydistrictdentalsociety.ca
SUMMARY:Dr. Huffman
DESCRIPTION:
URL:https://sudburydistrictdentalsociety.ca/oncall/dr-huffman-14/
END:VEVENT
BEGIN:VEVENT
DTSTART;TZID=UTC:20241021T080000
DTEND;TZID=UTC:20241021T080000
DTSTAMP:20260423T193701
CREATED:20240121T222553Z
LAST-MODIFIED:20240121T222553Z
UID:4832-1729497600-1729497600@sudburydistrictdentalsociety.ca
SUMMARY:Dr. Deol
DESCRIPTION:
URL:https://sudburydistrictdentalsociety.ca/oncall/dr-deol-35/
END:VEVENT
BEGIN:VEVENT
DTSTART;TZID=UTC:20241022T080000
DTEND;TZID=UTC:20241022T080000
DTSTAMP:20260423T193701
CREATED:20240121T222554Z
LAST-MODIFIED:20240121T222554Z
UID:4833-1729584000-1729584000@sudburydistrictdentalsociety.ca
SUMMARY:Dr. Virani
DESCRIPTION:
URL:https://sudburydistrictdentalsociety.ca/oncall/dr-virani-21/
END:VEVENT
BEGIN:VEVENT
DTSTART;TZID=UTC:20241023T080000
DTEND;TZID=UTC:20241023T080000
DTSTAMP:20260423T193701
CREATED:20240121T222608Z
LAST-MODIFIED:20240121T222608Z
UID:4834-1729670400-1729670400@sudburydistrictdentalsociety.ca
SUMMARY:Dr. Virani
DESCRIPTION:
URL:https://sudburydistrictdentalsociety.ca/oncall/dr-virani-22/
END:VEVENT
BEGIN:VEVENT
DTSTART;TZID=UTC:20241024T080000
DTEND;TZID=UTC:20241024T080000
DTSTAMP:20260423T193701
CREATED:20240121T222608Z
LAST-MODIFIED:20240121T222608Z
UID:4835-1729756800-1729756800@sudburydistrictdentalsociety.ca
SUMMARY:Dr. Casson
DESCRIPTION:
URL:https://sudburydistrictdentalsociety.ca/oncall/dr-casson-6/
END:VEVENT
BEGIN:VEVENT
DTSTART;TZID=UTC:20241025T090000
DTEND;TZID=UTC:20241025T090000
DTSTAMP:20260423T193701
CREATED:20240121T222608Z
LAST-MODIFIED:20240121T222608Z
UID:4836-1729846800-1729846800@sudburydistrictdentalsociety.ca
SUMMARY:Dr. Racicot
DESCRIPTION:
URL:https://sudburydistrictdentalsociety.ca/oncall/dr-racicot-50/
END:VEVENT
BEGIN:VEVENT
DTSTART;TZID=UTC:20241026T090000
DTEND;TZID=UTC:20241026T090000
DTSTAMP:20260423T193701
CREATED:20240121T222608Z
LAST-MODIFIED:20240121T222608Z
UID:4837-1729933200-1729933200@sudburydistrictdentalsociety.ca
SUMMARY:Dr. Karthikeyan
DESCRIPTION:
URL:https://sudburydistrictdentalsociety.ca/oncall/dr-karthikeyan-13/
END:VEVENT
BEGIN:VEVENT
DTSTART;TZID=UTC:20241027T090000
DTEND;TZID=UTC:20241027T090000
DTSTAMP:20260423T193701
CREATED:20240121T222609Z
LAST-MODIFIED:20240121T222609Z
UID:4838-1730019600-1730019600@sudburydistrictdentalsociety.ca
SUMMARY:Dr. Keenan
DESCRIPTION:
URL:https://sudburydistrictdentalsociety.ca/oncall/dr-keenan-51/
END:VEVENT
BEGIN:VEVENT
DTSTART;TZID=UTC:20241028T080000
DTEND;TZID=UTC:20241028T080000
DTSTAMP:20260423T193701
CREATED:20240121T222623Z
LAST-MODIFIED:20240121T222623Z
UID:4839-1730102400-1730102400@sudburydistrictdentalsociety.ca
SUMMARY:Dr. Bubnik
DESCRIPTION:
URL:https://sudburydistrictdentalsociety.ca/oncall/dr-bubnik-45/
END:VEVENT
BEGIN:VEVENT
DTSTART;TZID=UTC:20241029T080000
DTEND;TZID=UTC:20241029T080000
DTSTAMP:20260423T193701
CREATED:20240121T222623Z
LAST-MODIFIED:20240121T222623Z
UID:4840-1730188800-1730188800@sudburydistrictdentalsociety.ca
SUMMARY:Dr. Chintan
DESCRIPTION:
URL:https://sudburydistrictdentalsociety.ca/oncall/dr-chintan-16/
END:VEVENT
BEGIN:VEVENT
DTSTART;TZID=UTC:20241030T080000
DTEND;TZID=UTC:20241030T080000
DTSTAMP:20260423T193701
CREATED:20240121T222623Z
LAST-MODIFIED:20240121T222623Z
UID:4841-1730275200-1730275200@sudburydistrictdentalsociety.ca
SUMMARY:Dr. Clarke
DESCRIPTION:
URL:https://sudburydistrictdentalsociety.ca/oncall/dr-clarke-45/
END:VEVENT
BEGIN:VEVENT
DTSTART;TZID=UTC:20241031T080000
DTEND;TZID=UTC:20241031T080000
DTSTAMP:20260423T193701
CREATED:20240121T222623Z
LAST-MODIFIED:20240121T222623Z
UID:4842-1730361600-1730361600@sudburydistrictdentalsociety.ca
SUMMARY:Dr. Carpentier
DESCRIPTION:
URL:https://sudburydistrictdentalsociety.ca/oncall/dr-carpentier-50/
END:VEVENT
BEGIN:VEVENT
DTSTART;TZID=UTC:20241101T090000
DTEND;TZID=UTC:20241101T090000
DTSTAMP:20260423T193701
CREATED:20240121T222624Z
LAST-MODIFIED:20240121T222624Z
UID:4843-1730451600-1730451600@sudburydistrictdentalsociety.ca
SUMMARY:Dr. Wilson
DESCRIPTION:
URL:https://sudburydistrictdentalsociety.ca/oncall/dr-wilson-51/
END:VEVENT
BEGIN:VEVENT
DTSTART;TZID=UTC:20241102T090000
DTEND;TZID=UTC:20241102T090000
DTSTAMP:20260423T193701
CREATED:20240121T222638Z
LAST-MODIFIED:20240121T222638Z
UID:4844-1730538000-1730538000@sudburydistrictdentalsociety.ca
SUMMARY:Dr. Wells
DESCRIPTION:
URL:https://sudburydistrictdentalsociety.ca/oncall/dr-wells-38/
END:VEVENT
BEGIN:VEVENT
DTSTART;TZID=UTC:20241103T090000
DTEND;TZID=UTC:20241103T090000
DTSTAMP:20260423T193701
CREATED:20240121T222638Z
LAST-MODIFIED:20240121T222638Z
UID:4845-1730624400-1730624400@sudburydistrictdentalsociety.ca
SUMMARY:Dr. Wells
DESCRIPTION:
URL:https://sudburydistrictdentalsociety.ca/oncall/dr-wells-39/
END:VEVENT
BEGIN:VEVENT
DTSTART;TZID=UTC:20241104T080000
DTEND;TZID=UTC:20241104T080000
DTSTAMP:20260423T193701
CREATED:20240121T222638Z
LAST-MODIFIED:20240121T222638Z
UID:4846-1730707200-1730707200@sudburydistrictdentalsociety.ca
SUMMARY:Dr. Venugopal
DESCRIPTION:
URL:https://sudburydistrictdentalsociety.ca/oncall/dr-venugopal-39/
END:VEVENT
BEGIN:VEVENT
DTSTART;TZID=UTC:20241105T080000
DTEND;TZID=UTC:20241105T080000
DTSTAMP:20260423T193701
CREATED:20240121T222638Z
LAST-MODIFIED:20240121T222638Z
UID:4847-1730793600-1730793600@sudburydistrictdentalsociety.ca
SUMMARY:Dr. Venugopal
DESCRIPTION:
URL:https://sudburydistrictdentalsociety.ca/oncall/dr-venugopal-40/
END:VEVENT
BEGIN:VEVENT
DTSTART;TZID=UTC:20241106T080000
DTEND;TZID=UTC:20241106T080000
DTSTAMP:20260423T193701
CREATED:20240121T222639Z
LAST-MODIFIED:20240121T222639Z
UID:4848-1730880000-1730880000@sudburydistrictdentalsociety.ca
SUMMARY:Dr. Venugopal
DESCRIPTION:
URL:https://sudburydistrictdentalsociety.ca/oncall/dr-venugopal-41/
END:VEVENT
BEGIN:VEVENT
DTSTART;TZID=UTC:20241107T080000
DTEND;TZID=UTC:20241107T080000
DTSTAMP:20260423T193701
CREATED:20240121T222653Z
LAST-MODIFIED:20240121T222653Z
UID:4849-1730966400-1730966400@sudburydistrictdentalsociety.ca
SUMMARY:Dr. Venugopal
DESCRIPTION:
URL:https://sudburydistrictdentalsociety.ca/oncall/dr-venugopal-42/
END:VEVENT
BEGIN:VEVENT
DTSTART;TZID=UTC:20241108T090000
DTEND;TZID=UTC:20241108T090000
DTSTAMP:20260423T193701
CREATED:20240121T222653Z
LAST-MODIFIED:20240121T222653Z
UID:4850-1731056400-1731056400@sudburydistrictdentalsociety.ca
SUMMARY:Dr. Venugopal
DESCRIPTION:
URL:https://sudburydistrictdentalsociety.ca/oncall/dr-venugopal-43/
END:VEVENT
BEGIN:VEVENT
DTSTART;TZID=UTC:20241109T090000
DTEND;TZID=UTC:20241109T090000
DTSTAMP:20260423T193701
CREATED:20240121T222653Z
LAST-MODIFIED:20240121T222653Z
UID:4851-1731142800-1731142800@sudburydistrictdentalsociety.ca
SUMMARY:Dr. Venugopal
DESCRIPTION:
URL:https://sudburydistrictdentalsociety.ca/oncall/dr-venugopal-44/
END:VEVENT
BEGIN:VEVENT
DTSTART;TZID=UTC:20241110T090000
DTEND;TZID=UTC:20241110T090000
DTSTAMP:20260423T193701
CREATED:20240121T222653Z
LAST-MODIFIED:20240121T222653Z
UID:4852-1731229200-1731229200@sudburydistrictdentalsociety.ca
SUMMARY:Dr. Venugopal
DESCRIPTION:
URL:https://sudburydistrictdentalsociety.ca/oncall/dr-venugopal-45/
END:VEVENT
BEGIN:VEVENT
DTSTART;TZID=UTC:20241111T080000
DTEND;TZID=UTC:20241111T080000
DTSTAMP:20260423T193701
CREATED:20240121T222654Z
LAST-MODIFIED:20240121T222654Z
UID:4853-1731312000-1731312000@sudburydistrictdentalsociety.ca
SUMMARY:Dr. Kosnik
DESCRIPTION:
URL:https://sudburydistrictdentalsociety.ca/oncall/dr-kosnik-19/
END:VEVENT
BEGIN:VEVENT
DTSTART;TZID=UTC:20241112T080000
DTEND;TZID=UTC:20241112T080000
DTSTAMP:20260423T193701
CREATED:20240121T222708Z
LAST-MODIFIED:20240121T222708Z
UID:4854-1731398400-1731398400@sudburydistrictdentalsociety.ca
SUMMARY:Dr. Kosnik
DESCRIPTION:
URL:https://sudburydistrictdentalsociety.ca/oncall/dr-kosnik-20/
END:VEVENT
BEGIN:VEVENT
DTSTART;TZID=UTC:20241113T080000
DTEND;TZID=UTC:20241113T080000
DTSTAMP:20260423T193701
CREATED:20240121T222708Z
LAST-MODIFIED:20240121T222708Z
UID:4855-1731484800-1731484800@sudburydistrictdentalsociety.ca
SUMMARY:Dr. Kosnik
DESCRIPTION:
URL:https://sudburydistrictdentalsociety.ca/oncall/dr-kosnik-21/
END:VEVENT
BEGIN:VEVENT
DTSTART;TZID=UTC:20241114T080000
DTEND;TZID=UTC:20241114T080000
DTSTAMP:20260423T193701
CREATED:20240121T222708Z
LAST-MODIFIED:20240121T222708Z
UID:4856-1731571200-1731571200@sudburydistrictdentalsociety.ca
SUMMARY:Dr. Kosnik
DESCRIPTION:
URL:https://sudburydistrictdentalsociety.ca/oncall/dr-kosnik-22/
END:VEVENT
BEGIN:VEVENT
DTSTART;TZID=UTC:20241115T090000
DTEND;TZID=UTC:20241115T090000
DTSTAMP:20260423T193701
CREATED:20240121T222708Z
LAST-MODIFIED:20240121T222708Z
UID:4857-1731661200-1731661200@sudburydistrictdentalsociety.ca
SUMMARY:Dr. Kosnik
DESCRIPTION:
URL:https://sudburydistrictdentalsociety.ca/oncall/dr-kosnik-23/
END:VEVENT
BEGIN:VEVENT
DTSTART;TZID=UTC:20241116T090000
DTEND;TZID=UTC:20241116T090000
DTSTAMP:20260423T193701
CREATED:20240121T222709Z
LAST-MODIFIED:20240121T222709Z
UID:4858-1731747600-1731747600@sudburydistrictdentalsociety.ca
SUMMARY:Dr. Kosnik
DESCRIPTION:
URL:https://sudburydistrictdentalsociety.ca/oncall/dr-kosnik-24/
END:VEVENT
BEGIN:VEVENT
DTSTART;TZID=UTC:20241117T090000
DTEND;TZID=UTC:20241117T090000
DTSTAMP:20260423T193701
CREATED:20240121T222723Z
LAST-MODIFIED:20240121T222723Z
UID:4859-1731834000-1731834000@sudburydistrictdentalsociety.ca
SUMMARY:Dr. Kosnik
DESCRIPTION:
URL:https://sudburydistrictdentalsociety.ca/oncall/dr-kosnik-25/
END:VEVENT
END:VCALENDAR