BEGIN:VCALENDAR
VERSION:2.0
PRODID:-//Sudbury &amp; District Dental Society - ECPv6.15.20//NONSGML v1.0//EN
CALSCALE:GREGORIAN
METHOD:PUBLISH
X-WR-CALNAME:Sudbury &amp; District Dental Society
X-ORIGINAL-URL:https://sudburydistrictdentalsociety.ca
X-WR-CALDESC:Events for Sudbury &amp; District Dental Society
REFRESH-INTERVAL;VALUE=DURATION:PT1H
X-Robots-Tag:noindex
X-PUBLISHED-TTL:PT1H
BEGIN:VTIMEZONE
TZID:UTC
BEGIN:STANDARD
TZOFFSETFROM:+0000
TZOFFSETTO:+0000
TZNAME:UTC
DTSTART:20250101T000000
END:STANDARD
END:VTIMEZONE
BEGIN:VEVENT
DTSTART;TZID=UTC:20261012T090000
DTEND;TZID=UTC:20261012T090000
DTSTAMP:20260422T223847
CREATED:20260114T194222Z
LAST-MODIFIED:20260114T194222Z
UID:5610-1791795600-1791795600@sudburydistrictdentalsociety.ca
SUMMARY:Dr. Siddiqui
DESCRIPTION:
URL:https://sudburydistrictdentalsociety.ca/oncall/dr-siddiqui-7/
END:VEVENT
BEGIN:VEVENT
DTSTART;TZID=UTC:20261013T080000
DTEND;TZID=UTC:20261013T080000
DTSTAMP:20260422T223847
CREATED:20260114T194238Z
LAST-MODIFIED:20260114T194238Z
UID:5611-1791878400-1791878400@sudburydistrictdentalsociety.ca
SUMMARY:Dr. Wells
DESCRIPTION:
URL:https://sudburydistrictdentalsociety.ca/oncall/dr-wells-54/
END:VEVENT
BEGIN:VEVENT
DTSTART;TZID=UTC:20261014T080000
DTEND;TZID=UTC:20261014T080000
DTSTAMP:20260422T223847
CREATED:20260114T194238Z
LAST-MODIFIED:20260114T194238Z
UID:5612-1791964800-1791964800@sudburydistrictdentalsociety.ca
SUMMARY:Dr. Virani
DESCRIPTION:
URL:https://sudburydistrictdentalsociety.ca/oncall/dr-virani-35/
END:VEVENT
BEGIN:VEVENT
DTSTART;TZID=UTC:20261015T080000
DTEND;TZID=UTC:20261015T080000
DTSTAMP:20260422T223847
CREATED:20260114T194239Z
LAST-MODIFIED:20260114T194239Z
UID:5613-1792051200-1792051200@sudburydistrictdentalsociety.ca
SUMMARY:Dr. McNicholl
DESCRIPTION:
URL:https://sudburydistrictdentalsociety.ca/oncall/dr-mcnicholl-65/
END:VEVENT
BEGIN:VEVENT
DTSTART;TZID=UTC:20261016T090000
DTEND;TZID=UTC:20261016T090000
DTSTAMP:20260422T223847
CREATED:20260114T194239Z
LAST-MODIFIED:20260114T194239Z
UID:5614-1792141200-1792141200@sudburydistrictdentalsociety.ca
SUMMARY:Dr. McNicholl
DESCRIPTION:
URL:https://sudburydistrictdentalsociety.ca/oncall/dr-mcnicholl-66/
END:VEVENT
BEGIN:VEVENT
DTSTART;TZID=UTC:20261017T090000
DTEND;TZID=UTC:20261017T090000
DTSTAMP:20260422T223847
CREATED:20260114T194240Z
LAST-MODIFIED:20260114T194240Z
UID:5615-1792227600-1792227600@sudburydistrictdentalsociety.ca
SUMMARY:Dr. McNicholl
DESCRIPTION:
URL:https://sudburydistrictdentalsociety.ca/oncall/dr-mcnicholl-67/
END:VEVENT
BEGIN:VEVENT
DTSTART;TZID=UTC:20261018T090000
DTEND;TZID=UTC:20261018T090000
DTSTAMP:20260422T223847
CREATED:20260114T194300Z
LAST-MODIFIED:20260114T194300Z
UID:5616-1792314000-1792314000@sudburydistrictdentalsociety.ca
SUMMARY:Dr. McNicholl
DESCRIPTION:
URL:https://sudburydistrictdentalsociety.ca/oncall/dr-mcnicholl-68/
END:VEVENT
BEGIN:VEVENT
DTSTART;TZID=UTC:20261019T080000
DTEND;TZID=UTC:20261019T080000
DTSTAMP:20260422T223847
CREATED:20260114T194300Z
LAST-MODIFIED:20260114T194300Z
UID:5617-1792396800-1792396800@sudburydistrictdentalsociety.ca
SUMMARY:Dr. Carpentier
DESCRIPTION:
URL:https://sudburydistrictdentalsociety.ca/oncall/dr-carpentier-65/
END:VEVENT
BEGIN:VEVENT
DTSTART;TZID=UTC:20261020T080000
DTEND;TZID=UTC:20261020T080000
DTSTAMP:20260422T223847
CREATED:20260114T194301Z
LAST-MODIFIED:20260114T194301Z
UID:5618-1792483200-1792483200@sudburydistrictdentalsociety.ca
SUMMARY:Dr. Jenny Ho
DESCRIPTION:
URL:https://sudburydistrictdentalsociety.ca/oncall/dr-jenny-ho/
END:VEVENT
BEGIN:VEVENT
DTSTART;TZID=UTC:20261021T080000
DTEND;TZID=UTC:20261021T080000
DTSTAMP:20260422T223847
CREATED:20260114T194302Z
LAST-MODIFIED:20260114T194302Z
UID:5619-1792569600-1792569600@sudburydistrictdentalsociety.ca
SUMMARY:Dr. Jenny Ho
DESCRIPTION:
URL:https://sudburydistrictdentalsociety.ca/oncall/dr-jenny-ho-2/
END:VEVENT
BEGIN:VEVENT
DTSTART;TZID=UTC:20261022T080000
DTEND;TZID=UTC:20261022T080000
DTSTAMP:20260422T223847
CREATED:20260114T194302Z
LAST-MODIFIED:20260114T194302Z
UID:5620-1792656000-1792656000@sudburydistrictdentalsociety.ca
SUMMARY:Dr. Jenny Ho
DESCRIPTION:
URL:https://sudburydistrictdentalsociety.ca/oncall/dr-jenny-ho-3/
END:VEVENT
BEGIN:VEVENT
DTSTART;TZID=UTC:20261023T090000
DTEND;TZID=UTC:20261023T090000
DTSTAMP:20260422T223847
CREATED:20260114T194500Z
LAST-MODIFIED:20260114T194500Z
UID:5621-1792746000-1792746000@sudburydistrictdentalsociety.ca
SUMMARY:Dr. Tassone
DESCRIPTION:
URL:https://sudburydistrictdentalsociety.ca/oncall/dr-tassone-64/
END:VEVENT
BEGIN:VEVENT
DTSTART;TZID=UTC:20261024T090000
DTEND;TZID=UTC:20261024T090000
DTSTAMP:20260422T223847
CREATED:20260114T194501Z
LAST-MODIFIED:20260114T194501Z
UID:5622-1792832400-1792832400@sudburydistrictdentalsociety.ca
SUMMARY:Dr. Sirkka
DESCRIPTION:
URL:https://sudburydistrictdentalsociety.ca/oncall/dr-sirkka-35/
END:VEVENT
BEGIN:VEVENT
DTSTART;TZID=UTC:20261025T090000
DTEND;TZID=UTC:20261025T090000
DTSTAMP:20260422T223847
CREATED:20260114T194501Z
LAST-MODIFIED:20260114T194501Z
UID:5623-1792918800-1792918800@sudburydistrictdentalsociety.ca
SUMMARY:Dr. Lapalme
DESCRIPTION:
URL:https://sudburydistrictdentalsociety.ca/oncall/dr-lapalme-60/
END:VEVENT
BEGIN:VEVENT
DTSTART;TZID=UTC:20261026T080000
DTEND;TZID=UTC:20261026T080000
DTSTAMP:20260422T223847
CREATED:20260114T194502Z
LAST-MODIFIED:20260114T194502Z
UID:5624-1793001600-1793001600@sudburydistrictdentalsociety.ca
SUMMARY:Dr. Lapalme
DESCRIPTION:
URL:https://sudburydistrictdentalsociety.ca/oncall/dr-lapalme-61/
END:VEVENT
BEGIN:VEVENT
DTSTART;TZID=UTC:20261027T080000
DTEND;TZID=UTC:20261027T080000
DTSTAMP:20260422T223847
CREATED:20260114T194503Z
LAST-MODIFIED:20260114T194503Z
UID:5625-1793088000-1793088000@sudburydistrictdentalsociety.ca
SUMMARY:Dr. Lapalme
DESCRIPTION:
URL:https://sudburydistrictdentalsociety.ca/oncall/dr-lapalme-62/
END:VEVENT
BEGIN:VEVENT
DTSTART;TZID=UTC:20261028T080000
DTEND;TZID=UTC:20261028T080000
DTSTAMP:20260422T223847
CREATED:20260114T194701Z
LAST-MODIFIED:20260114T194701Z
UID:5626-1793174400-1793174400@sudburydistrictdentalsociety.ca
SUMMARY:Dr. Lapalme
DESCRIPTION:
URL:https://sudburydistrictdentalsociety.ca/oncall/dr-lapalme-63/
END:VEVENT
BEGIN:VEVENT
DTSTART;TZID=UTC:20261029T080000
DTEND;TZID=UTC:20261029T080000
DTSTAMP:20260422T223847
CREATED:20260114T194702Z
LAST-MODIFIED:20260114T194702Z
UID:5627-1793260800-1793260800@sudburydistrictdentalsociety.ca
SUMMARY:Dr. Lapalme
DESCRIPTION:
URL:https://sudburydistrictdentalsociety.ca/oncall/dr-lapalme-64/
END:VEVENT
BEGIN:VEVENT
DTSTART;TZID=UTC:20261030T090000
DTEND;TZID=UTC:20261030T090000
DTSTAMP:20260422T223847
CREATED:20260114T194702Z
LAST-MODIFIED:20260114T194702Z
UID:5628-1793350800-1793350800@sudburydistrictdentalsociety.ca
SUMMARY:Dr. Lapalme
DESCRIPTION:
URL:https://sudburydistrictdentalsociety.ca/oncall/dr-lapalme-65/
END:VEVENT
BEGIN:VEVENT
DTSTART;TZID=UTC:20261031T090000
DTEND;TZID=UTC:20261031T090000
DTSTAMP:20260422T223847
CREATED:20260114T194703Z
LAST-MODIFIED:20260114T194703Z
UID:5629-1793437200-1793437200@sudburydistrictdentalsociety.ca
SUMMARY:Dr. Lapalme
DESCRIPTION:
URL:https://sudburydistrictdentalsociety.ca/oncall/dr-lapalme-66/
END:VEVENT
BEGIN:VEVENT
DTSTART;TZID=UTC:20261101T090000
DTEND;TZID=UTC:20261101T090000
DTSTAMP:20260422T223847
CREATED:20260114T194704Z
LAST-MODIFIED:20260114T194704Z
UID:5630-1793523600-1793523600@sudburydistrictdentalsociety.ca
SUMMARY:Dr. Reich
DESCRIPTION:
URL:https://sudburydistrictdentalsociety.ca/oncall/dr-reich-62/
END:VEVENT
BEGIN:VEVENT
DTSTART;TZID=UTC:20261102T080000
DTEND;TZID=UTC:20261102T080000
DTSTAMP:20260422T223847
CREATED:20260114T194902Z
LAST-MODIFIED:20260114T194902Z
UID:5631-1793606400-1793606400@sudburydistrictdentalsociety.ca
SUMMARY:Dr. Carpentier
DESCRIPTION:
URL:https://sudburydistrictdentalsociety.ca/oncall/dr-carpentier-66/
END:VEVENT
BEGIN:VEVENT
DTSTART;TZID=UTC:20261103T080000
DTEND;TZID=UTC:20261103T080000
DTSTAMP:20260422T223847
CREATED:20260114T194903Z
LAST-MODIFIED:20260219T151620Z
UID:5632-1793692800-1793692800@sudburydistrictdentalsociety.ca
SUMMARY:Dr. Trottier
DESCRIPTION:
URL:https://sudburydistrictdentalsociety.ca/oncall/dr-casson-18/
END:VEVENT
BEGIN:VEVENT
DTSTART;TZID=UTC:20261104T080000
DTEND;TZID=UTC:20261104T080000
DTSTAMP:20260422T223847
CREATED:20260114T194903Z
LAST-MODIFIED:20260114T194903Z
UID:5633-1793779200-1793779200@sudburydistrictdentalsociety.ca
SUMMARY:Dr. Valiquette
DESCRIPTION:
URL:https://sudburydistrictdentalsociety.ca/oncall/dr-valiquette-32/
END:VEVENT
BEGIN:VEVENT
DTSTART;TZID=UTC:20261105T080000
DTEND;TZID=UTC:20261105T080000
DTSTAMP:20260422T223847
CREATED:20260114T194904Z
LAST-MODIFIED:20260114T194904Z
UID:5634-1793865600-1793865600@sudburydistrictdentalsociety.ca
SUMMARY:Dr. Montpellier
DESCRIPTION:
URL:https://sudburydistrictdentalsociety.ca/oncall/dr-montpellier-57/
END:VEVENT
BEGIN:VEVENT
DTSTART;TZID=UTC:20261106T090000
DTEND;TZID=UTC:20261106T090000
DTSTAMP:20260422T223847
CREATED:20260114T194905Z
LAST-MODIFIED:20260114T194905Z
UID:5635-1793955600-1793955600@sudburydistrictdentalsociety.ca
SUMMARY:Dr. Valiquette
DESCRIPTION:
URL:https://sudburydistrictdentalsociety.ca/oncall/dr-valiquette-33/
END:VEVENT
BEGIN:VEVENT
DTSTART;TZID=UTC:20261107T090000
DTEND;TZID=UTC:20261107T090000
DTSTAMP:20260422T223847
CREATED:20260114T195103Z
LAST-MODIFIED:20260114T195103Z
UID:5636-1794042000-1794042000@sudburydistrictdentalsociety.ca
SUMMARY:Dr. Valiquette
DESCRIPTION:
URL:https://sudburydistrictdentalsociety.ca/oncall/dr-valiquette-34/
END:VEVENT
BEGIN:VEVENT
DTSTART;TZID=UTC:20261108T090000
DTEND;TZID=UTC:20261108T090000
DTSTAMP:20260422T223847
CREATED:20260114T195104Z
LAST-MODIFIED:20260114T195104Z
UID:5637-1794128400-1794128400@sudburydistrictdentalsociety.ca
SUMMARY:Dr. Valiquette
DESCRIPTION:
URL:https://sudburydistrictdentalsociety.ca/oncall/dr-valiquette-35/
END:VEVENT
BEGIN:VEVENT
DTSTART;TZID=UTC:20261109T080000
DTEND;TZID=UTC:20261109T080000
DTSTAMP:20260422T223847
CREATED:20260114T195104Z
LAST-MODIFIED:20260114T195104Z
UID:5638-1794211200-1794211200@sudburydistrictdentalsociety.ca
SUMMARY:Dr. Valiquette
DESCRIPTION:
URL:https://sudburydistrictdentalsociety.ca/oncall/dr-valiquette-36/
END:VEVENT
BEGIN:VEVENT
DTSTART;TZID=UTC:20261110T080000
DTEND;TZID=UTC:20261110T080000
DTSTAMP:20260422T223847
CREATED:20260114T195105Z
LAST-MODIFIED:20260114T195105Z
UID:5639-1794297600-1794297600@sudburydistrictdentalsociety.ca
SUMMARY:Dr. Valiquette
DESCRIPTION:
URL:https://sudburydistrictdentalsociety.ca/oncall/dr-valiquette-37/
END:VEVENT
END:VCALENDAR