BEGIN:VCALENDAR
VERSION:2.0
PRODID:-//Sudbury &amp; District Dental Society - ECPv6.15.20//NONSGML v1.0//EN
CALSCALE:GREGORIAN
METHOD:PUBLISH
X-ORIGINAL-URL:https://sudburydistrictdentalsociety.ca
X-WR-CALDESC:Events for Sudbury &amp; District Dental Society
REFRESH-INTERVAL;VALUE=DURATION:PT1H
X-Robots-Tag:noindex
X-PUBLISHED-TTL:PT1H
BEGIN:VTIMEZONE
TZID:UTC
BEGIN:STANDARD
TZOFFSETFROM:+0000
TZOFFSETTO:+0000
TZNAME:UTC
DTSTART:20240101T000000
END:STANDARD
END:VTIMEZONE
BEGIN:VEVENT
DTSTART;TZID=UTC:20251211T080000
DTEND;TZID=UTC:20251211T080000
DTSTAMP:20260422T224115
CREATED:20250101T001314Z
LAST-MODIFIED:20250101T001314Z
UID:5270-1765440000-1765440000@sudburydistrictdentalsociety.ca
SUMMARY:Dr. Racicot
DESCRIPTION:
URL:https://sudburydistrictdentalsociety.ca/oncall/dr-racicot-58/
END:VEVENT
BEGIN:VEVENT
DTSTART;TZID=UTC:20251212T090000
DTEND;TZID=UTC:20251212T090000
DTSTAMP:20260422T224115
CREATED:20250101T001328Z
LAST-MODIFIED:20250101T001328Z
UID:5271-1765530000-1765530000@sudburydistrictdentalsociety.ca
SUMMARY:Dr. Gerhart
DESCRIPTION:
URL:https://sudburydistrictdentalsociety.ca/oncall/dr-gerhart-56/
END:VEVENT
BEGIN:VEVENT
DTSTART;TZID=UTC:20251213T090000
DTEND;TZID=UTC:20251213T090000
DTSTAMP:20260422T224115
CREATED:20250101T001328Z
LAST-MODIFIED:20250101T001328Z
UID:5272-1765616400-1765616400@sudburydistrictdentalsociety.ca
SUMMARY:Dr. Gerhart
DESCRIPTION:
URL:https://sudburydistrictdentalsociety.ca/oncall/dr-gerhart-57/
END:VEVENT
BEGIN:VEVENT
DTSTART;TZID=UTC:20251214T090000
DTEND;TZID=UTC:20251214T090000
DTSTAMP:20260422T224115
CREATED:20250101T001328Z
LAST-MODIFIED:20250101T001328Z
UID:5273-1765702800-1765702800@sudburydistrictdentalsociety.ca
SUMMARY:Dr. Gerhart
DESCRIPTION:
URL:https://sudburydistrictdentalsociety.ca/oncall/dr-gerhart-58/
END:VEVENT
BEGIN:VEVENT
DTSTART;TZID=UTC:20251215T080000
DTEND;TZID=UTC:20251215T080000
DTSTAMP:20260422T224115
CREATED:20250101T001329Z
LAST-MODIFIED:20250101T001329Z
UID:5274-1765785600-1765785600@sudburydistrictdentalsociety.ca
SUMMARY:Dr. Kosnik
DESCRIPTION:
URL:https://sudburydistrictdentalsociety.ca/oncall/dr-kosnik-27/
END:VEVENT
BEGIN:VEVENT
DTSTART;TZID=UTC:20251216T080000
DTEND;TZID=UTC:20251216T080000
DTSTAMP:20260422T224115
CREATED:20250101T001329Z
LAST-MODIFIED:20250101T001329Z
UID:5275-1765872000-1765872000@sudburydistrictdentalsociety.ca
SUMMARY:Dr. Kosnik
DESCRIPTION:
URL:https://sudburydistrictdentalsociety.ca/oncall/dr-kosnik-28/
END:VEVENT
BEGIN:VEVENT
DTSTART;TZID=UTC:20251217T080000
DTEND;TZID=UTC:20251217T080000
DTSTAMP:20260422T224115
CREATED:20250101T001343Z
LAST-MODIFIED:20250101T001343Z
UID:5276-1765958400-1765958400@sudburydistrictdentalsociety.ca
SUMMARY:Dr. Kosnik
DESCRIPTION:
URL:https://sudburydistrictdentalsociety.ca/oncall/dr-kosnik-29/
END:VEVENT
BEGIN:VEVENT
DTSTART;TZID=UTC:20251218T080000
DTEND;TZID=UTC:20251218T080000
DTSTAMP:20260422T224115
CREATED:20250101T001343Z
LAST-MODIFIED:20250101T001343Z
UID:5277-1766044800-1766044800@sudburydistrictdentalsociety.ca
SUMMARY:Dr. Kosnik
DESCRIPTION:
URL:https://sudburydistrictdentalsociety.ca/oncall/dr-kosnik-30/
END:VEVENT
BEGIN:VEVENT
DTSTART;TZID=UTC:20251219T090000
DTEND;TZID=UTC:20251219T090000
DTSTAMP:20260422T224115
CREATED:20250101T001343Z
LAST-MODIFIED:20250101T001343Z
UID:5278-1766134800-1766134800@sudburydistrictdentalsociety.ca
SUMMARY:Dr. Kosnik
DESCRIPTION:
URL:https://sudburydistrictdentalsociety.ca/oncall/dr-kosnik-31/
END:VEVENT
BEGIN:VEVENT
DTSTART;TZID=UTC:20251220T090000
DTEND;TZID=UTC:20251220T090000
DTSTAMP:20260422T224115
CREATED:20250101T001344Z
LAST-MODIFIED:20250101T001344Z
UID:5279-1766221200-1766221200@sudburydistrictdentalsociety.ca
SUMMARY:Dr. Kosnik
DESCRIPTION:
URL:https://sudburydistrictdentalsociety.ca/oncall/dr-kosnik-32/
END:VEVENT
BEGIN:VEVENT
DTSTART;TZID=UTC:20251221T090000
DTEND;TZID=UTC:20251221T090000
DTSTAMP:20260422T224115
CREATED:20250101T001344Z
LAST-MODIFIED:20250101T001344Z
UID:5280-1766307600-1766307600@sudburydistrictdentalsociety.ca
SUMMARY:Dr. Kosnik
DESCRIPTION:
URL:https://sudburydistrictdentalsociety.ca/oncall/dr-kosnik-33/
END:VEVENT
BEGIN:VEVENT
DTSTART;TZID=UTC:20251222T080000
DTEND;TZID=UTC:20251222T080000
DTSTAMP:20260422T224115
CREATED:20250101T001358Z
LAST-MODIFIED:20250101T001358Z
UID:5281-1766390400-1766390400@sudburydistrictdentalsociety.ca
SUMMARY:Dr. Clarke
DESCRIPTION:
URL:https://sudburydistrictdentalsociety.ca/oncall/dr-clarke-53/
END:VEVENT
BEGIN:VEVENT
DTSTART;TZID=UTC:20251223T080000
DTEND;TZID=UTC:20251223T080000
DTSTAMP:20260422T224115
CREATED:20250101T001359Z
LAST-MODIFIED:20250101T001359Z
UID:5282-1766476800-1766476800@sudburydistrictdentalsociety.ca
SUMMARY:Dr. Richards
DESCRIPTION:
URL:https://sudburydistrictdentalsociety.ca/oncall/dr-richards-54/
END:VEVENT
BEGIN:VEVENT
DTSTART;TZID=UTC:20251224T080000
DTEND;TZID=UTC:20251224T080000
DTSTAMP:20260422T224115
CREATED:20250101T001359Z
LAST-MODIFIED:20250101T001359Z
UID:5283-1766563200-1766563200@sudburydistrictdentalsociety.ca
SUMMARY:Dr. Martic
DESCRIPTION:
URL:https://sudburydistrictdentalsociety.ca/oncall/dr-martic-60/
END:VEVENT
BEGIN:VEVENT
DTSTART;VALUE=DATE:20251225
DTEND;VALUE=DATE:20251227
DTSTAMP:20260422T224115
CREATED:20250101T001359Z
LAST-MODIFIED:20250101T001359Z
UID:5284-1766624400-1766710799@sudburydistrictdentalsociety.ca
SUMMARY:NO ONE
DESCRIPTION:
URL:https://sudburydistrictdentalsociety.ca/oncall/no-one-2/
END:VEVENT
BEGIN:VEVENT
DTSTART;VALUE=DATE:20251225
DTEND;VALUE=DATE:20251227
DTSTAMP:20260422T224115
CREATED:20250101T001428Z
LAST-MODIFIED:20250101T001428Z
UID:5292-1766624400-1766710799@sudburydistrictdentalsociety.ca
SUMMARY:Christmas Day
DESCRIPTION:
URL:https://sudburydistrictdentalsociety.ca/oncall/christmas-day-3/
END:VEVENT
BEGIN:VEVENT
DTSTART;VALUE=DATE:20251226
DTEND;VALUE=DATE:20251228
DTSTAMP:20260422T224115
CREATED:20250101T001458Z
LAST-MODIFIED:20250101T001458Z
UID:5301-1766710800-1766797199@sudburydistrictdentalsociety.ca
SUMMARY:Boxing Day
DESCRIPTION:
URL:https://sudburydistrictdentalsociety.ca/oncall/boxing-day-3/
END:VEVENT
BEGIN:VEVENT
DTSTART;TZID=UTC:20251226T090000
DTEND;TZID=UTC:20251226T090000
DTSTAMP:20260422T224115
CREATED:20250101T001359Z
LAST-MODIFIED:20250101T001359Z
UID:5285-1766739600-1766739600@sudburydistrictdentalsociety.ca
SUMMARY:Dr. Carpentier
DESCRIPTION:
URL:https://sudburydistrictdentalsociety.ca/oncall/dr-carpentier-59/
END:VEVENT
BEGIN:VEVENT
DTSTART;TZID=UTC:20251227T090000
DTEND;TZID=UTC:20251227T090000
DTSTAMP:20260422T224115
CREATED:20250101T001413Z
LAST-MODIFIED:20250101T001413Z
UID:5286-1766826000-1766826000@sudburydistrictdentalsociety.ca
SUMMARY:Dr. Patel
DESCRIPTION:
URL:https://sudburydistrictdentalsociety.ca/oncall/dr-patel-7/
END:VEVENT
BEGIN:VEVENT
DTSTART;TZID=UTC:20251228T090000
DTEND;TZID=UTC:20251228T090000
DTSTAMP:20260422T224115
CREATED:20250101T001413Z
LAST-MODIFIED:20250101T001413Z
UID:5287-1766912400-1766912400@sudburydistrictdentalsociety.ca
SUMMARY:Dr. Lewis
DESCRIPTION:
URL:https://sudburydistrictdentalsociety.ca/oncall/dr-lewis-50/
END:VEVENT
BEGIN:VEVENT
DTSTART;TZID=UTC:20251229T080000
DTEND;TZID=UTC:20251229T080000
DTSTAMP:20260422T224115
CREATED:20250101T001413Z
LAST-MODIFIED:20250101T001413Z
UID:5288-1766995200-1766995200@sudburydistrictdentalsociety.ca
SUMMARY:Dr. Budd
DESCRIPTION:
URL:https://sudburydistrictdentalsociety.ca/oncall/dr-budd-52/
END:VEVENT
BEGIN:VEVENT
DTSTART;TZID=UTC:20251230T080000
DTEND;TZID=UTC:20251230T080000
DTSTAMP:20260422T224115
CREATED:20250101T001414Z
LAST-MODIFIED:20250101T001414Z
UID:5289-1767081600-1767081600@sudburydistrictdentalsociety.ca
SUMMARY:Dr. Casson
DESCRIPTION:
URL:https://sudburydistrictdentalsociety.ca/oncall/dr-casson-13/
END:VEVENT
BEGIN:VEVENT
DTSTART;TZID=UTC:20251231T080000
DTEND;TZID=UTC:20251231T080000
DTSTAMP:20260422T224115
CREATED:20250101T001414Z
LAST-MODIFIED:20250101T001414Z
UID:5290-1767168000-1767168000@sudburydistrictdentalsociety.ca
SUMMARY:Dr. Keenan
DESCRIPTION:
URL:https://sudburydistrictdentalsociety.ca/oncall/dr-keenan-59/
END:VEVENT
BEGIN:VEVENT
DTSTART;VALUE=DATE:20260101
DTEND;VALUE=DATE:20260103
DTSTAMP:20260422T224115
CREATED:20260114T174514Z
LAST-MODIFIED:20260114T174514Z
UID:5326-1767229200-1767315599@sudburydistrictdentalsociety.ca
SUMMARY:NO ONE
DESCRIPTION:
URL:https://sudburydistrictdentalsociety.ca/oncall/no-one-3/
END:VEVENT
BEGIN:VEVENT
DTSTART;VALUE=DATE:20260101
DTEND;VALUE=DATE:20260103
DTSTAMP:20260422T224115
CREATED:20260114T201857Z
LAST-MODIFIED:20260114T201857Z
UID:5691-1767229200-1767315599@sudburydistrictdentalsociety.ca
SUMMARY:New Year's Day
DESCRIPTION:
URL:https://sudburydistrictdentalsociety.ca/oncall/new-years-day-4/
END:VEVENT
BEGIN:VEVENT
DTSTART;TZID=UTC:20260102T090000
DTEND;TZID=UTC:20260102T090000
DTSTAMP:20260422T224115
CREATED:20260114T174515Z
LAST-MODIFIED:20260114T174515Z
UID:5327-1767344400-1767344400@sudburydistrictdentalsociety.ca
SUMMARY:Dr. Casson
DESCRIPTION:
URL:https://sudburydistrictdentalsociety.ca/oncall/dr-casson-14/
END:VEVENT
BEGIN:VEVENT
DTSTART;TZID=UTC:20260103T090000
DTEND;TZID=UTC:20260103T090000
DTSTAMP:20260422T224115
CREATED:20260114T174516Z
LAST-MODIFIED:20260114T174516Z
UID:5328-1767430800-1767430800@sudburydistrictdentalsociety.ca
SUMMARY:Dr. Casson
DESCRIPTION:
URL:https://sudburydistrictdentalsociety.ca/oncall/dr-casson-15/
END:VEVENT
BEGIN:VEVENT
DTSTART;TZID=UTC:20260104T090000
DTEND;TZID=UTC:20260104T090000
DTSTAMP:20260422T224115
CREATED:20260114T174517Z
LAST-MODIFIED:20260114T174517Z
UID:5329-1767517200-1767517200@sudburydistrictdentalsociety.ca
SUMMARY:Dr. Casson
DESCRIPTION:
URL:https://sudburydistrictdentalsociety.ca/oncall/dr-casson-16/
END:VEVENT
BEGIN:VEVENT
DTSTART;TZID=UTC:20260105T080000
DTEND;TZID=UTC:20260105T080000
DTSTAMP:20260422T224115
CREATED:20260114T174517Z
LAST-MODIFIED:20260114T174517Z
UID:5330-1767600000-1767600000@sudburydistrictdentalsociety.ca
SUMMARY:Dr. Virani
DESCRIPTION:
URL:https://sudburydistrictdentalsociety.ca/oncall/dr-virani-30/
END:VEVENT
BEGIN:VEVENT
DTSTART;TZID=UTC:20260106T080000
DTEND;TZID=UTC:20260106T080000
DTSTAMP:20260422T224115
CREATED:20260114T174521Z
LAST-MODIFIED:20260114T174521Z
UID:5331-1767686400-1767686400@sudburydistrictdentalsociety.ca
SUMMARY:Dr. Leclair
DESCRIPTION:
URL:https://sudburydistrictdentalsociety.ca/oncall/dr-leclair-66/
END:VEVENT
END:VCALENDAR