BEGIN:VCALENDAR
VERSION:2.0
PRODID:-//Sudbury &amp; District Dental Society - ECPv6.15.20//NONSGML v1.0//EN
CALSCALE:GREGORIAN
METHOD:PUBLISH
X-WR-CALNAME:Sudbury &amp; District Dental Society
X-ORIGINAL-URL:https://sudburydistrictdentalsociety.ca
X-WR-CALDESC:Events for Sudbury &amp; District Dental Society
REFRESH-INTERVAL;VALUE=DURATION:PT1H
X-Robots-Tag:noindex
X-PUBLISHED-TTL:PT1H
BEGIN:VTIMEZONE
TZID:UTC
BEGIN:STANDARD
TZOFFSETFROM:+0000
TZOFFSETTO:+0000
TZNAME:UTC
DTSTART:20250101T000000
END:STANDARD
END:VTIMEZONE
BEGIN:VEVENT
DTSTART;TZID=UTC:20260206T090000
DTEND;TZID=UTC:20260206T090000
DTSTAMP:20260422T211010
CREATED:20260114T175206Z
LAST-MODIFIED:20260114T175206Z
UID:5362-1770368400-1770368400@sudburydistrictdentalsociety.ca
SUMMARY:Dr. Teijeiro
DESCRIPTION:
URL:https://sudburydistrictdentalsociety.ca/oncall/dr-teijeiro-95/
END:VEVENT
BEGIN:VEVENT
DTSTART;TZID=UTC:20260207T090000
DTEND;TZID=UTC:20260207T090000
DTSTAMP:20260422T211010
CREATED:20260114T175207Z
LAST-MODIFIED:20260114T175207Z
UID:5363-1770454800-1770454800@sudburydistrictdentalsociety.ca
SUMMARY:Dr. Teijeiro
DESCRIPTION:
URL:https://sudburydistrictdentalsociety.ca/oncall/dr-teijeiro-96/
END:VEVENT
BEGIN:VEVENT
DTSTART;TZID=UTC:20260208T090000
DTEND;TZID=UTC:20260208T090000
DTSTAMP:20260422T211010
CREATED:20260114T175208Z
LAST-MODIFIED:20260114T175208Z
UID:5364-1770541200-1770541200@sudburydistrictdentalsociety.ca
SUMMARY:Dr. Teijeiro
DESCRIPTION:
URL:https://sudburydistrictdentalsociety.ca/oncall/dr-teijeiro-97/
END:VEVENT
BEGIN:VEVENT
DTSTART;TZID=UTC:20260209T080000
DTEND;TZID=UTC:20260209T080000
DTSTAMP:20260422T211010
CREATED:20260114T175209Z
LAST-MODIFIED:20260114T175209Z
UID:5365-1770624000-1770624000@sudburydistrictdentalsociety.ca
SUMMARY:Dr. Sirkka
DESCRIPTION:
URL:https://sudburydistrictdentalsociety.ca/oncall/dr-sirkka-28/
END:VEVENT
BEGIN:VEVENT
DTSTART;TZID=UTC:20260210T080000
DTEND;TZID=UTC:20260210T080000
DTSTAMP:20260422T211010
CREATED:20260114T175406Z
LAST-MODIFIED:20260114T175406Z
UID:5366-1770710400-1770710400@sudburydistrictdentalsociety.ca
SUMMARY:Dr. Teijeiro
DESCRIPTION:
URL:https://sudburydistrictdentalsociety.ca/oncall/dr-teijeiro-98/
END:VEVENT
BEGIN:VEVENT
DTSTART;TZID=UTC:20260211T080000
DTEND;TZID=UTC:20260211T080000
DTSTAMP:20260422T211010
CREATED:20260114T175407Z
LAST-MODIFIED:20260114T175407Z
UID:5367-1770796800-1770796800@sudburydistrictdentalsociety.ca
SUMMARY:Dr. Teijeiro
DESCRIPTION:
URL:https://sudburydistrictdentalsociety.ca/oncall/dr-teijeiro-99/
END:VEVENT
BEGIN:VEVENT
DTSTART;TZID=UTC:20260212T080000
DTEND;TZID=UTC:20260212T080000
DTSTAMP:20260422T211010
CREATED:20260114T175407Z
LAST-MODIFIED:20260114T175407Z
UID:5368-1770883200-1770883200@sudburydistrictdentalsociety.ca
SUMMARY:Dr. Teijeiro
DESCRIPTION:
URL:https://sudburydistrictdentalsociety.ca/oncall/dr-teijeiro-100/
END:VEVENT
BEGIN:VEVENT
DTSTART;TZID=UTC:20260213T090000
DTEND;TZID=UTC:20260213T090000
DTSTAMP:20260422T211010
CREATED:20260114T175408Z
LAST-MODIFIED:20260114T175408Z
UID:5369-1770973200-1770973200@sudburydistrictdentalsociety.ca
SUMMARY:Dr. Rogers
DESCRIPTION:
URL:https://sudburydistrictdentalsociety.ca/oncall/dr-rogers-50/
END:VEVENT
BEGIN:VEVENT
DTSTART;TZID=UTC:20260214T090000
DTEND;TZID=UTC:20260214T090000
DTSTAMP:20260422T211010
CREATED:20260114T175408Z
LAST-MODIFIED:20260114T175408Z
UID:5370-1771059600-1771059600@sudburydistrictdentalsociety.ca
SUMMARY:Dr. Rogers
DESCRIPTION:
URL:https://sudburydistrictdentalsociety.ca/oncall/dr-rogers-51/
END:VEVENT
BEGIN:VEVENT
DTSTART;TZID=UTC:20260215T090000
DTEND;TZID=UTC:20260215T090000
DTSTAMP:20260422T211010
CREATED:20260114T175550Z
LAST-MODIFIED:20260114T175550Z
UID:5371-1771146000-1771146000@sudburydistrictdentalsociety.ca
SUMMARY:Dr. Rogers
DESCRIPTION:
URL:https://sudburydistrictdentalsociety.ca/oncall/dr-rogers-52/
END:VEVENT
BEGIN:VEVENT
DTSTART;VALUE=DATE:20260216
DTEND;VALUE=DATE:20260218
DTSTAMP:20260422T211010
CREATED:20260114T203756Z
LAST-MODIFIED:20260114T203756Z
UID:5700-1771203600-1771289999@sudburydistrictdentalsociety.ca
SUMMARY:Family Day
DESCRIPTION:
URL:https://sudburydistrictdentalsociety.ca/oncall/family-day-5/
END:VEVENT
BEGIN:VEVENT
DTSTART;TZID=UTC:20260216T090000
DTEND;TZID=UTC:20260216T090000
DTSTAMP:20260422T211010
CREATED:20260114T175551Z
LAST-MODIFIED:20260114T175551Z
UID:5372-1771232400-1771232400@sudburydistrictdentalsociety.ca
SUMMARY:Dr. Rogers
DESCRIPTION:
URL:https://sudburydistrictdentalsociety.ca/oncall/dr-rogers-53/
END:VEVENT
BEGIN:VEVENT
DTSTART;TZID=UTC:20260217T080000
DTEND;TZID=UTC:20260217T080000
DTSTAMP:20260422T211010
CREATED:20260114T175551Z
LAST-MODIFIED:20260114T175551Z
UID:5373-1771315200-1771315200@sudburydistrictdentalsociety.ca
SUMMARY:Dr. Rogers
DESCRIPTION:
URL:https://sudburydistrictdentalsociety.ca/oncall/dr-rogers-54/
END:VEVENT
BEGIN:VEVENT
DTSTART;TZID=UTC:20260218T080000
DTEND;TZID=UTC:20260218T080000
DTSTAMP:20260422T211010
CREATED:20260114T175552Z
LAST-MODIFIED:20260114T175552Z
UID:5374-1771401600-1771401600@sudburydistrictdentalsociety.ca
SUMMARY:Dr. Rogers
DESCRIPTION:
URL:https://sudburydistrictdentalsociety.ca/oncall/dr-rogers-55/
END:VEVENT
BEGIN:VEVENT
DTSTART;TZID=UTC:20260219T080000
DTEND;TZID=UTC:20260219T080000
DTSTAMP:20260422T211010
CREATED:20260114T175553Z
LAST-MODIFIED:20260114T175553Z
UID:5375-1771488000-1771488000@sudburydistrictdentalsociety.ca
SUMMARY:Dr. Rogers
DESCRIPTION:
URL:https://sudburydistrictdentalsociety.ca/oncall/dr-rogers-56/
END:VEVENT
BEGIN:VEVENT
DTSTART;TZID=UTC:20260220T090000
DTEND;TZID=UTC:20260220T090000
DTSTAMP:20260422T211010
CREATED:20260114T175750Z
LAST-MODIFIED:20260114T175750Z
UID:5376-1771578000-1771578000@sudburydistrictdentalsociety.ca
SUMMARY:Dr. Medarametla
DESCRIPTION:
URL:https://sudburydistrictdentalsociety.ca/oncall/dr-medarametla-9/
END:VEVENT
BEGIN:VEVENT
DTSTART;TZID=UTC:20260221T090000
DTEND;TZID=UTC:20260221T090000
DTSTAMP:20260422T211010
CREATED:20260114T175750Z
LAST-MODIFIED:20260114T175750Z
UID:5377-1771664400-1771664400@sudburydistrictdentalsociety.ca
SUMMARY:Dr. McNicholl
DESCRIPTION:
URL:https://sudburydistrictdentalsociety.ca/oncall/dr-mcnicholl-61/
END:VEVENT
BEGIN:VEVENT
DTSTART;TZID=UTC:20260222T090000
DTEND;TZID=UTC:20260222T090000
DTSTAMP:20260422T211010
CREATED:20260114T175751Z
LAST-MODIFIED:20260114T175751Z
UID:5378-1771750800-1771750800@sudburydistrictdentalsociety.ca
SUMMARY:Dr. Paige
DESCRIPTION:
URL:https://sudburydistrictdentalsociety.ca/oncall/dr-paige-35/
END:VEVENT
BEGIN:VEVENT
DTSTART;TZID=UTC:20260223T080000
DTEND;TZID=UTC:20260223T080000
DTSTAMP:20260422T211010
CREATED:20260114T175752Z
LAST-MODIFIED:20260114T175752Z
UID:5379-1771833600-1771833600@sudburydistrictdentalsociety.ca
SUMMARY:Dr. Bubnik
DESCRIPTION:
URL:https://sudburydistrictdentalsociety.ca/oncall/dr-bubnik-55/
END:VEVENT
BEGIN:VEVENT
DTSTART;TZID=UTC:20260224T080000
DTEND;TZID=UTC:20260224T080000
DTSTAMP:20260422T211010
CREATED:20260114T175752Z
LAST-MODIFIED:20260114T175752Z
UID:5380-1771920000-1771920000@sudburydistrictdentalsociety.ca
SUMMARY:Dr. Huffman
DESCRIPTION:
URL:https://sudburydistrictdentalsociety.ca/oncall/dr-huffman-23/
END:VEVENT
BEGIN:VEVENT
DTSTART;TZID=UTC:20260225T080000
DTEND;TZID=UTC:20260225T080000
DTSTAMP:20260422T211010
CREATED:20260114T175951Z
LAST-MODIFIED:20260114T175951Z
UID:5381-1772006400-1772006400@sudburydistrictdentalsociety.ca
SUMMARY:Dr. Huffman
DESCRIPTION:
URL:https://sudburydistrictdentalsociety.ca/oncall/dr-huffman-24/
END:VEVENT
BEGIN:VEVENT
DTSTART;TZID=UTC:20260226T080000
DTEND;TZID=UTC:20260226T080000
DTSTAMP:20260422T211010
CREATED:20260114T175951Z
LAST-MODIFIED:20260114T175951Z
UID:5382-1772092800-1772092800@sudburydistrictdentalsociety.ca
SUMMARY:Dr. Huffman
DESCRIPTION:
URL:https://sudburydistrictdentalsociety.ca/oncall/dr-huffman-25/
END:VEVENT
BEGIN:VEVENT
DTSTART;TZID=UTC:20260227T090000
DTEND;TZID=UTC:20260227T090000
DTSTAMP:20260422T211010
CREATED:20260114T175952Z
LAST-MODIFIED:20260114T175952Z
UID:5383-1772182800-1772182800@sudburydistrictdentalsociety.ca
SUMMARY:Dr. Sirkka
DESCRIPTION:
URL:https://sudburydistrictdentalsociety.ca/oncall/dr-sirkka-29/
END:VEVENT
BEGIN:VEVENT
DTSTART;TZID=UTC:20260228T090000
DTEND;TZID=UTC:20260228T090000
DTSTAMP:20260422T211010
CREATED:20260114T175953Z
LAST-MODIFIED:20260114T175953Z
UID:5384-1772269200-1772269200@sudburydistrictdentalsociety.ca
SUMMARY:Dr. Sirkka
DESCRIPTION:
URL:https://sudburydistrictdentalsociety.ca/oncall/dr-sirkka-30/
END:VEVENT
BEGIN:VEVENT
DTSTART;TZID=UTC:20260301T090000
DTEND;TZID=UTC:20260301T090000
DTSTAMP:20260422T211010
CREATED:20260114T175953Z
LAST-MODIFIED:20260114T175953Z
UID:5385-1772355600-1772355600@sudburydistrictdentalsociety.ca
SUMMARY:Dr. Sirkka
DESCRIPTION:
URL:https://sudburydistrictdentalsociety.ca/oncall/dr-sirkka-31/
END:VEVENT
BEGIN:VEVENT
DTSTART;TZID=UTC:20260302T080000
DTEND;TZID=UTC:20260302T080000
DTSTAMP:20260422T211010
CREATED:20260114T180152Z
LAST-MODIFIED:20260114T180152Z
UID:5386-1772438400-1772438400@sudburydistrictdentalsociety.ca
SUMMARY:Dr. Sirkka
DESCRIPTION:
URL:https://sudburydistrictdentalsociety.ca/oncall/dr-sirkka-32/
END:VEVENT
BEGIN:VEVENT
DTSTART;TZID=UTC:20260303T080000
DTEND;TZID=UTC:20260303T080000
DTSTAMP:20260422T211010
CREATED:20260114T180152Z
LAST-MODIFIED:20260114T180152Z
UID:5387-1772524800-1772524800@sudburydistrictdentalsociety.ca
SUMMARY:Dr. Sirkka
DESCRIPTION:
URL:https://sudburydistrictdentalsociety.ca/oncall/dr-sirkka-33/
END:VEVENT
BEGIN:VEVENT
DTSTART;TZID=UTC:20260304T080000
DTEND;TZID=UTC:20260304T080000
DTSTAMP:20260422T211010
CREATED:20260114T180153Z
LAST-MODIFIED:20260114T180153Z
UID:5388-1772611200-1772611200@sudburydistrictdentalsociety.ca
SUMMARY:Dr. Huffman
DESCRIPTION:
URL:https://sudburydistrictdentalsociety.ca/oncall/dr-huffman-26/
END:VEVENT
BEGIN:VEVENT
DTSTART;TZID=UTC:20260305T080000
DTEND;TZID=UTC:20260305T080000
DTSTAMP:20260422T211010
CREATED:20260114T180154Z
LAST-MODIFIED:20260114T180154Z
UID:5389-1772697600-1772697600@sudburydistrictdentalsociety.ca
SUMMARY:Dr. Sirkka
DESCRIPTION:
URL:https://sudburydistrictdentalsociety.ca/oncall/dr-sirkka-34/
END:VEVENT
BEGIN:VEVENT
DTSTART;TZID=UTC:20260306T090000
DTEND;TZID=UTC:20260306T090000
DTSTAMP:20260422T211010
CREATED:20260114T180154Z
LAST-MODIFIED:20260114T180154Z
UID:5390-1772787600-1772787600@sudburydistrictdentalsociety.ca
SUMMARY:Dr. Deol
DESCRIPTION:
URL:https://sudburydistrictdentalsociety.ca/oncall/dr-deol-46/
END:VEVENT
END:VCALENDAR