BEGIN:VCALENDAR
VERSION:2.0
PRODID:-//Sudbury &amp; District Dental Society - ECPv6.15.20//NONSGML v1.0//EN
CALSCALE:GREGORIAN
METHOD:PUBLISH
X-WR-CALNAME:Sudbury &amp; District Dental Society
X-ORIGINAL-URL:https://sudburydistrictdentalsociety.ca
X-WR-CALDESC:Events for Sudbury &amp; District Dental Society
REFRESH-INTERVAL;VALUE=DURATION:PT1H
X-Robots-Tag:noindex
X-PUBLISHED-TTL:PT1H
BEGIN:VTIMEZONE
TZID:UTC
BEGIN:STANDARD
TZOFFSETFROM:+0000
TZOFFSETTO:+0000
TZNAME:UTC
DTSTART:20250101T000000
END:STANDARD
END:VTIMEZONE
BEGIN:VEVENT
DTSTART;TZID=UTC:20260307T090000
DTEND;TZID=UTC:20260307T090000
DTSTAMP:20260422T223829
CREATED:20260114T180353Z
LAST-MODIFIED:20260114T180353Z
UID:5391-1772874000-1772874000@sudburydistrictdentalsociety.ca
SUMMARY:Dr. Deol
DESCRIPTION:
URL:https://sudburydistrictdentalsociety.ca/oncall/dr-deol-47/
END:VEVENT
BEGIN:VEVENT
DTSTART;TZID=UTC:20260308T090000
DTEND;TZID=UTC:20260308T090000
DTSTAMP:20260422T223829
CREATED:20260114T180354Z
LAST-MODIFIED:20260114T180354Z
UID:5392-1772960400-1772960400@sudburydistrictdentalsociety.ca
SUMMARY:Dr. Deol
DESCRIPTION:
URL:https://sudburydistrictdentalsociety.ca/oncall/dr-deol-48/
END:VEVENT
BEGIN:VEVENT
DTSTART;TZID=UTC:20260309T080000
DTEND;TZID=UTC:20260309T080000
DTSTAMP:20260422T223829
CREATED:20260114T180354Z
LAST-MODIFIED:20260114T180354Z
UID:5393-1773043200-1773043200@sudburydistrictdentalsociety.ca
SUMMARY:Dr. Medarametla
DESCRIPTION:
URL:https://sudburydistrictdentalsociety.ca/oncall/dr-medarametla-10/
END:VEVENT
BEGIN:VEVENT
DTSTART;TZID=UTC:20260310T080000
DTEND;TZID=UTC:20260310T080000
DTSTAMP:20260422T223829
CREATED:20260114T180355Z
LAST-MODIFIED:20260114T180355Z
UID:5394-1773129600-1773129600@sudburydistrictdentalsociety.ca
SUMMARY:Dr. Medarametla
DESCRIPTION:
URL:https://sudburydistrictdentalsociety.ca/oncall/dr-medarametla-11/
END:VEVENT
BEGIN:VEVENT
DTSTART;TZID=UTC:20260311T080000
DTEND;TZID=UTC:20260311T080000
DTSTAMP:20260422T223829
CREATED:20260114T180356Z
LAST-MODIFIED:20260114T180356Z
UID:5395-1773216000-1773216000@sudburydistrictdentalsociety.ca
SUMMARY:Dr. Medarametla
DESCRIPTION:
URL:https://sudburydistrictdentalsociety.ca/oncall/dr-medarametla-12/
END:VEVENT
BEGIN:VEVENT
DTSTART;TZID=UTC:20260312T080000
DTEND;TZID=UTC:20260312T080000
DTSTAMP:20260422T223829
CREATED:20260114T180433Z
LAST-MODIFIED:20260114T180433Z
UID:5396-1773302400-1773302400@sudburydistrictdentalsociety.ca
SUMMARY:Dr. Medarametla
DESCRIPTION:
URL:https://sudburydistrictdentalsociety.ca/oncall/dr-medarametla-13/
END:VEVENT
BEGIN:VEVENT
DTSTART;TZID=UTC:20260313T090000
DTEND;TZID=UTC:20260313T090000
DTSTAMP:20260422T223829
CREATED:20260114T180434Z
LAST-MODIFIED:20260114T180434Z
UID:5397-1773392400-1773392400@sudburydistrictdentalsociety.ca
SUMMARY:Dr. Martic
DESCRIPTION:
URL:https://sudburydistrictdentalsociety.ca/oncall/dr-martic-61/
END:VEVENT
BEGIN:VEVENT
DTSTART;TZID=UTC:20260314T090000
DTEND;TZID=UTC:20260314T090000
DTSTAMP:20260422T223829
CREATED:20260114T180435Z
LAST-MODIFIED:20260114T180435Z
UID:5398-1773478800-1773478800@sudburydistrictdentalsociety.ca
SUMMARY:Dr. Martic
DESCRIPTION:
URL:https://sudburydistrictdentalsociety.ca/oncall/dr-martic-62/
END:VEVENT
BEGIN:VEVENT
DTSTART;TZID=UTC:20260315T090000
DTEND;TZID=UTC:20260315T090000
DTSTAMP:20260422T223829
CREATED:20260114T180435Z
LAST-MODIFIED:20260114T180435Z
UID:5399-1773565200-1773565200@sudburydistrictdentalsociety.ca
SUMMARY:Dr. Martic
DESCRIPTION:
URL:https://sudburydistrictdentalsociety.ca/oncall/dr-martic-63/
END:VEVENT
BEGIN:VEVENT
DTSTART;TZID=UTC:20260316T080000
DTEND;TZID=UTC:20260316T080000
DTSTAMP:20260422T223829
CREATED:20260114T180436Z
LAST-MODIFIED:20260114T180436Z
UID:5400-1773648000-1773648000@sudburydistrictdentalsociety.ca
SUMMARY:Dr. Martic
DESCRIPTION:
URL:https://sudburydistrictdentalsociety.ca/oncall/dr-martic-64/
END:VEVENT
BEGIN:VEVENT
DTSTART;TZID=UTC:20260317T080000
DTEND;TZID=UTC:20260317T080000
DTSTAMP:20260422T223829
CREATED:20260114T180449Z
LAST-MODIFIED:20260114T180449Z
UID:5401-1773734400-1773734400@sudburydistrictdentalsociety.ca
SUMMARY:Dr. Martic
DESCRIPTION:
URL:https://sudburydistrictdentalsociety.ca/oncall/dr-martic-65/
END:VEVENT
BEGIN:VEVENT
DTSTART;TZID=UTC:20260318T080000
DTEND;TZID=UTC:20260318T080000
DTSTAMP:20260422T223829
CREATED:20260114T180449Z
LAST-MODIFIED:20260114T180449Z
UID:5402-1773820800-1773820800@sudburydistrictdentalsociety.ca
SUMMARY:Dr. Martic
DESCRIPTION:
URL:https://sudburydistrictdentalsociety.ca/oncall/dr-martic-66/
END:VEVENT
BEGIN:VEVENT
DTSTART;TZID=UTC:20260319T080000
DTEND;TZID=UTC:20260319T080000
DTSTAMP:20260422T223829
CREATED:20260114T180450Z
LAST-MODIFIED:20260114T180450Z
UID:5403-1773907200-1773907200@sudburydistrictdentalsociety.ca
SUMMARY:Dr. Martic
DESCRIPTION:
URL:https://sudburydistrictdentalsociety.ca/oncall/dr-martic-67/
END:VEVENT
BEGIN:VEVENT
DTSTART;TZID=UTC:20260320T090000
DTEND;TZID=UTC:20260320T090000
DTSTAMP:20260422T223829
CREATED:20260114T180451Z
LAST-MODIFIED:20260114T180451Z
UID:5404-1773997200-1773997200@sudburydistrictdentalsociety.ca
SUMMARY:Dr. Keenan
DESCRIPTION:
URL:https://sudburydistrictdentalsociety.ca/oncall/dr-keenan-60/
END:VEVENT
BEGIN:VEVENT
DTSTART;TZID=UTC:20260321T090000
DTEND;TZID=UTC:20260321T090000
DTSTAMP:20260422T223829
CREATED:20260114T180451Z
LAST-MODIFIED:20260114T180451Z
UID:5405-1774083600-1774083600@sudburydistrictdentalsociety.ca
SUMMARY:Dr. Keenan
DESCRIPTION:
URL:https://sudburydistrictdentalsociety.ca/oncall/dr-keenan-61/
END:VEVENT
BEGIN:VEVENT
DTSTART;TZID=UTC:20260322T090000
DTEND;TZID=UTC:20260322T090000
DTSTAMP:20260422T223829
CREATED:20260114T180650Z
LAST-MODIFIED:20260114T180650Z
UID:5406-1774170000-1774170000@sudburydistrictdentalsociety.ca
SUMMARY:Dr. Keenan
DESCRIPTION:
URL:https://sudburydistrictdentalsociety.ca/oncall/dr-keenan-62/
END:VEVENT
BEGIN:VEVENT
DTSTART;TZID=UTC:20260323T080000
DTEND;TZID=UTC:20260323T080000
DTSTAMP:20260422T223829
CREATED:20260114T180651Z
LAST-MODIFIED:20260114T180651Z
UID:5407-1774252800-1774252800@sudburydistrictdentalsociety.ca
SUMMARY:Dr. Keenan
DESCRIPTION:
URL:https://sudburydistrictdentalsociety.ca/oncall/dr-keenan-63/
END:VEVENT
BEGIN:VEVENT
DTSTART;TZID=UTC:20260324T080000
DTEND;TZID=UTC:20260324T080000
DTSTAMP:20260422T223829
CREATED:20260114T180651Z
LAST-MODIFIED:20260114T180651Z
UID:5408-1774339200-1774339200@sudburydistrictdentalsociety.ca
SUMMARY:Dr. Keenan
DESCRIPTION:
URL:https://sudburydistrictdentalsociety.ca/oncall/dr-keenan-64/
END:VEVENT
BEGIN:VEVENT
DTSTART;TZID=UTC:20260325T080000
DTEND;TZID=UTC:20260325T080000
DTSTAMP:20260422T223829
CREATED:20260114T180652Z
LAST-MODIFIED:20260114T180652Z
UID:5409-1774425600-1774425600@sudburydistrictdentalsociety.ca
SUMMARY:Dr. Keenan
DESCRIPTION:
URL:https://sudburydistrictdentalsociety.ca/oncall/dr-keenan-65/
END:VEVENT
BEGIN:VEVENT
DTSTART;TZID=UTC:20260326T080000
DTEND;TZID=UTC:20260326T080000
DTSTAMP:20260422T223829
CREATED:20260114T180653Z
LAST-MODIFIED:20260114T180653Z
UID:5410-1774512000-1774512000@sudburydistrictdentalsociety.ca
SUMMARY:Dr. Keenan
DESCRIPTION:
URL:https://sudburydistrictdentalsociety.ca/oncall/dr-keenan-66/
END:VEVENT
BEGIN:VEVENT
DTSTART;TZID=UTC:20260327T090000
DTEND;TZID=UTC:20260327T090000
DTSTAMP:20260422T223829
CREATED:20260114T180851Z
LAST-MODIFIED:20260114T180851Z
UID:5411-1774602000-1774602000@sudburydistrictdentalsociety.ca
SUMMARY:Dr. Trottier
DESCRIPTION:
URL:https://sudburydistrictdentalsociety.ca/oncall/dr-trottier-57/
END:VEVENT
BEGIN:VEVENT
DTSTART;TZID=UTC:20260328T090000
DTEND;TZID=UTC:20260328T090000
DTSTAMP:20260422T223829
CREATED:20260114T180852Z
LAST-MODIFIED:20260114T180852Z
UID:5412-1774688400-1774688400@sudburydistrictdentalsociety.ca
SUMMARY:Dr. Trottier
DESCRIPTION:
URL:https://sudburydistrictdentalsociety.ca/oncall/dr-trottier-58/
END:VEVENT
BEGIN:VEVENT
DTSTART;TZID=UTC:20260329T090000
DTEND;TZID=UTC:20260329T090000
DTSTAMP:20260422T223829
CREATED:20260114T180852Z
LAST-MODIFIED:20260114T180852Z
UID:5413-1774774800-1774774800@sudburydistrictdentalsociety.ca
SUMMARY:Dr. Trottier
DESCRIPTION:
URL:https://sudburydistrictdentalsociety.ca/oncall/dr-trottier-59/
END:VEVENT
BEGIN:VEVENT
DTSTART;TZID=UTC:20260330T080000
DTEND;TZID=UTC:20260330T080000
DTSTAMP:20260422T223829
CREATED:20260114T180853Z
LAST-MODIFIED:20260114T180853Z
UID:5414-1774857600-1774857600@sudburydistrictdentalsociety.ca
SUMMARY:Dr. Richards
DESCRIPTION:
URL:https://sudburydistrictdentalsociety.ca/oncall/dr-richards-55/
END:VEVENT
BEGIN:VEVENT
DTSTART;TZID=UTC:20260331T080000
DTEND;TZID=UTC:20260331T080000
DTSTAMP:20260422T223829
CREATED:20260114T180853Z
LAST-MODIFIED:20260114T180853Z
UID:5415-1774944000-1774944000@sudburydistrictdentalsociety.ca
SUMMARY:Dr. Janicijevic
DESCRIPTION:
URL:https://sudburydistrictdentalsociety.ca/oncall/dr-janicijevic-34/
END:VEVENT
BEGIN:VEVENT
DTSTART;TZID=UTC:20260401T080000
DTEND;TZID=UTC:20260401T080000
DTSTAMP:20260422T223829
CREATED:20260114T181052Z
LAST-MODIFIED:20260114T181052Z
UID:5416-1775030400-1775030400@sudburydistrictdentalsociety.ca
SUMMARY:Dr. Wilson
DESCRIPTION:
URL:https://sudburydistrictdentalsociety.ca/oncall/dr-wilson-59/
END:VEVENT
BEGIN:VEVENT
DTSTART;TZID=UTC:20260402T080000
DTEND;TZID=UTC:20260402T080000
DTSTAMP:20260422T223829
CREATED:20260114T181053Z
LAST-MODIFIED:20260114T181053Z
UID:5417-1775116800-1775116800@sudburydistrictdentalsociety.ca
SUMMARY:Dr. Casson
DESCRIPTION:
URL:https://sudburydistrictdentalsociety.ca/oncall/dr-casson-17/
END:VEVENT
BEGIN:VEVENT
DTSTART;VALUE=DATE:20260403
DTEND;VALUE=DATE:20260405
DTSTAMP:20260422T223829
CREATED:20260114T203755Z
LAST-MODIFIED:20260114T203755Z
UID:5698-1775178000-1775264399@sudburydistrictdentalsociety.ca
SUMMARY:Good Friday
DESCRIPTION:
URL:https://sudburydistrictdentalsociety.ca/oncall/good-friday-5/
END:VEVENT
BEGIN:VEVENT
DTSTART;TZID=UTC:20260403T090000
DTEND;TZID=UTC:20260403T090000
DTSTAMP:20260422T223829
CREATED:20260114T181053Z
LAST-MODIFIED:20260114T181053Z
UID:5418-1775206800-1775206800@sudburydistrictdentalsociety.ca
SUMMARY:Dr. Janicijevic
DESCRIPTION:
URL:https://sudburydistrictdentalsociety.ca/oncall/dr-janicijevic-35/
END:VEVENT
BEGIN:VEVENT
DTSTART;TZID=UTC:20260404T090000
DTEND;TZID=UTC:20260404T090000
DTSTAMP:20260422T223829
CREATED:20260114T181054Z
LAST-MODIFIED:20260114T181054Z
UID:5419-1775293200-1775293200@sudburydistrictdentalsociety.ca
SUMMARY:Dr. Janicijevic
DESCRIPTION:
URL:https://sudburydistrictdentalsociety.ca/oncall/dr-janicijevic-36/
END:VEVENT
END:VCALENDAR