BEGIN:VCALENDAR
VERSION:2.0
PRODID:-//Sudbury &amp; District Dental Society - ECPv6.15.20//NONSGML v1.0//EN
CALSCALE:GREGORIAN
METHOD:PUBLISH
X-WR-CALNAME:Sudbury &amp; District Dental Society
X-ORIGINAL-URL:https://sudburydistrictdentalsociety.ca
X-WR-CALDESC:Events for Sudbury &amp; District Dental Society
REFRESH-INTERVAL;VALUE=DURATION:PT1H
X-Robots-Tag:noindex
X-PUBLISHED-TTL:PT1H
BEGIN:VTIMEZONE
TZID:UTC
BEGIN:STANDARD
TZOFFSETFROM:+0000
TZOFFSETTO:+0000
TZNAME:UTC
DTSTART:20250101T000000
END:STANDARD
END:VTIMEZONE
BEGIN:VEVENT
DTSTART;TZID=UTC:20260325T080000
DTEND;TZID=UTC:20260325T080000
DTSTAMP:20260422T211010
CREATED:20260114T180652Z
LAST-MODIFIED:20260114T180652Z
UID:5409-1774425600-1774425600@sudburydistrictdentalsociety.ca
SUMMARY:Dr. Keenan
DESCRIPTION:
URL:https://sudburydistrictdentalsociety.ca/oncall/dr-keenan-65/
END:VEVENT
BEGIN:VEVENT
DTSTART;TZID=UTC:20260326T080000
DTEND;TZID=UTC:20260326T080000
DTSTAMP:20260422T211010
CREATED:20260114T180653Z
LAST-MODIFIED:20260114T180653Z
UID:5410-1774512000-1774512000@sudburydistrictdentalsociety.ca
SUMMARY:Dr. Keenan
DESCRIPTION:
URL:https://sudburydistrictdentalsociety.ca/oncall/dr-keenan-66/
END:VEVENT
BEGIN:VEVENT
DTSTART;TZID=UTC:20260327T090000
DTEND;TZID=UTC:20260327T090000
DTSTAMP:20260422T211010
CREATED:20260114T180851Z
LAST-MODIFIED:20260114T180851Z
UID:5411-1774602000-1774602000@sudburydistrictdentalsociety.ca
SUMMARY:Dr. Trottier
DESCRIPTION:
URL:https://sudburydistrictdentalsociety.ca/oncall/dr-trottier-57/
END:VEVENT
BEGIN:VEVENT
DTSTART;TZID=UTC:20260328T090000
DTEND;TZID=UTC:20260328T090000
DTSTAMP:20260422T211010
CREATED:20260114T180852Z
LAST-MODIFIED:20260114T180852Z
UID:5412-1774688400-1774688400@sudburydistrictdentalsociety.ca
SUMMARY:Dr. Trottier
DESCRIPTION:
URL:https://sudburydistrictdentalsociety.ca/oncall/dr-trottier-58/
END:VEVENT
BEGIN:VEVENT
DTSTART;TZID=UTC:20260329T090000
DTEND;TZID=UTC:20260329T090000
DTSTAMP:20260422T211010
CREATED:20260114T180852Z
LAST-MODIFIED:20260114T180852Z
UID:5413-1774774800-1774774800@sudburydistrictdentalsociety.ca
SUMMARY:Dr. Trottier
DESCRIPTION:
URL:https://sudburydistrictdentalsociety.ca/oncall/dr-trottier-59/
END:VEVENT
BEGIN:VEVENT
DTSTART;TZID=UTC:20260330T080000
DTEND;TZID=UTC:20260330T080000
DTSTAMP:20260422T211010
CREATED:20260114T180853Z
LAST-MODIFIED:20260114T180853Z
UID:5414-1774857600-1774857600@sudburydistrictdentalsociety.ca
SUMMARY:Dr. Richards
DESCRIPTION:
URL:https://sudburydistrictdentalsociety.ca/oncall/dr-richards-55/
END:VEVENT
BEGIN:VEVENT
DTSTART;TZID=UTC:20260331T080000
DTEND;TZID=UTC:20260331T080000
DTSTAMP:20260422T211010
CREATED:20260114T180853Z
LAST-MODIFIED:20260114T180853Z
UID:5415-1774944000-1774944000@sudburydistrictdentalsociety.ca
SUMMARY:Dr. Janicijevic
DESCRIPTION:
URL:https://sudburydistrictdentalsociety.ca/oncall/dr-janicijevic-34/
END:VEVENT
BEGIN:VEVENT
DTSTART;TZID=UTC:20260401T080000
DTEND;TZID=UTC:20260401T080000
DTSTAMP:20260422T211010
CREATED:20260114T181052Z
LAST-MODIFIED:20260114T181052Z
UID:5416-1775030400-1775030400@sudburydistrictdentalsociety.ca
SUMMARY:Dr. Wilson
DESCRIPTION:
URL:https://sudburydistrictdentalsociety.ca/oncall/dr-wilson-59/
END:VEVENT
BEGIN:VEVENT
DTSTART;TZID=UTC:20260402T080000
DTEND;TZID=UTC:20260402T080000
DTSTAMP:20260422T211010
CREATED:20260114T181053Z
LAST-MODIFIED:20260114T181053Z
UID:5417-1775116800-1775116800@sudburydistrictdentalsociety.ca
SUMMARY:Dr. Casson
DESCRIPTION:
URL:https://sudburydistrictdentalsociety.ca/oncall/dr-casson-17/
END:VEVENT
BEGIN:VEVENT
DTSTART;VALUE=DATE:20260403
DTEND;VALUE=DATE:20260405
DTSTAMP:20260422T211010
CREATED:20260114T203755Z
LAST-MODIFIED:20260114T203755Z
UID:5698-1775178000-1775264399@sudburydistrictdentalsociety.ca
SUMMARY:Good Friday
DESCRIPTION:
URL:https://sudburydistrictdentalsociety.ca/oncall/good-friday-5/
END:VEVENT
BEGIN:VEVENT
DTSTART;TZID=UTC:20260403T090000
DTEND;TZID=UTC:20260403T090000
DTSTAMP:20260422T211010
CREATED:20260114T181053Z
LAST-MODIFIED:20260114T181053Z
UID:5418-1775206800-1775206800@sudburydistrictdentalsociety.ca
SUMMARY:Dr. Janicijevic
DESCRIPTION:
URL:https://sudburydistrictdentalsociety.ca/oncall/dr-janicijevic-35/
END:VEVENT
BEGIN:VEVENT
DTSTART;TZID=UTC:20260404T090000
DTEND;TZID=UTC:20260404T090000
DTSTAMP:20260422T211010
CREATED:20260114T181054Z
LAST-MODIFIED:20260114T181054Z
UID:5419-1775293200-1775293200@sudburydistrictdentalsociety.ca
SUMMARY:Dr. Janicijevic
DESCRIPTION:
URL:https://sudburydistrictdentalsociety.ca/oncall/dr-janicijevic-36/
END:VEVENT
BEGIN:VEVENT
DTSTART;TZID=UTC:20260405T090000
DTEND;TZID=UTC:20260405T090000
DTSTAMP:20260422T211010
CREATED:20260114T181054Z
LAST-MODIFIED:20260114T181054Z
UID:5420-1775379600-1775379600@sudburydistrictdentalsociety.ca
SUMMARY:Dr. Janicijevic
DESCRIPTION:
URL:https://sudburydistrictdentalsociety.ca/oncall/dr-janicijevic-37/
END:VEVENT
BEGIN:VEVENT
DTSTART;VALUE=DATE:20260406
DTEND;VALUE=DATE:20260408
DTSTAMP:20260422T211010
CREATED:20260114T203756Z
LAST-MODIFIED:20260114T203756Z
UID:5699-1775437200-1775523599@sudburydistrictdentalsociety.ca
SUMMARY:Easter Sunday
DESCRIPTION:
URL:https://sudburydistrictdentalsociety.ca/oncall/easter-sunday-3/
END:VEVENT
BEGIN:VEVENT
DTSTART;TZID=UTC:20260406T090000
DTEND;TZID=UTC:20260406T090000
DTSTAMP:20260422T211010
CREATED:20260114T181253Z
LAST-MODIFIED:20260114T181253Z
UID:5421-1775466000-1775466000@sudburydistrictdentalsociety.ca
SUMMARY:Dr. Huffman
DESCRIPTION:
URL:https://sudburydistrictdentalsociety.ca/oncall/dr-huffman-27/
END:VEVENT
BEGIN:VEVENT
DTSTART;TZID=UTC:20260407T080000
DTEND;TZID=UTC:20260407T080000
DTSTAMP:20260422T211010
CREATED:20260114T181254Z
LAST-MODIFIED:20260114T181254Z
UID:5422-1775548800-1775548800@sudburydistrictdentalsociety.ca
SUMMARY:Dr. Janicijevic
DESCRIPTION:
URL:https://sudburydistrictdentalsociety.ca/oncall/dr-janicijevic-38/
END:VEVENT
BEGIN:VEVENT
DTSTART;TZID=UTC:20260408T080000
DTEND;TZID=UTC:20260408T080000
DTSTAMP:20260422T211010
CREATED:20260114T181254Z
LAST-MODIFIED:20260114T181254Z
UID:5423-1775635200-1775635200@sudburydistrictdentalsociety.ca
SUMMARY:Dr. Janicijevic
DESCRIPTION:
URL:https://sudburydistrictdentalsociety.ca/oncall/dr-janicijevic-39/
END:VEVENT
BEGIN:VEVENT
DTSTART;TZID=UTC:20260409T080000
DTEND;TZID=UTC:20260409T080000
DTSTAMP:20260422T211010
CREATED:20260114T181255Z
LAST-MODIFIED:20260114T181255Z
UID:5424-1775721600-1775721600@sudburydistrictdentalsociety.ca
SUMMARY:Dr. Wilson
DESCRIPTION:
URL:https://sudburydistrictdentalsociety.ca/oncall/dr-wilson-60/
END:VEVENT
BEGIN:VEVENT
DTSTART;TZID=UTC:20260410T090000
DTEND;TZID=UTC:20260410T090000
DTSTAMP:20260422T211010
CREATED:20260114T181255Z
LAST-MODIFIED:20260114T181255Z
UID:5425-1775811600-1775811600@sudburydistrictdentalsociety.ca
SUMMARY:Dr. Junor
DESCRIPTION:
URL:https://sudburydistrictdentalsociety.ca/oncall/dr-junor-56/
END:VEVENT
BEGIN:VEVENT
DTSTART;TZID=UTC:20260411T090000
DTEND;TZID=UTC:20260411T090000
DTSTAMP:20260422T211010
CREATED:20260114T181454Z
LAST-MODIFIED:20260114T181454Z
UID:5426-1775898000-1775898000@sudburydistrictdentalsociety.ca
SUMMARY:Dr. Junor
DESCRIPTION:
URL:https://sudburydistrictdentalsociety.ca/oncall/dr-junor-57/
END:VEVENT
BEGIN:VEVENT
DTSTART;TZID=UTC:20260412T090000
DTEND;TZID=UTC:20260412T090000
DTSTAMP:20260422T211010
CREATED:20260114T181454Z
LAST-MODIFIED:20260114T181454Z
UID:5427-1775984400-1775984400@sudburydistrictdentalsociety.ca
SUMMARY:Dr. Junor
DESCRIPTION:
URL:https://sudburydistrictdentalsociety.ca/oncall/dr-junor-58/
END:VEVENT
BEGIN:VEVENT
DTSTART;TZID=UTC:20260413T080000
DTEND;TZID=UTC:20260413T080000
DTSTAMP:20260422T211010
CREATED:20260114T181455Z
LAST-MODIFIED:20260114T181455Z
UID:5428-1776067200-1776067200@sudburydistrictdentalsociety.ca
SUMMARY:Dr. Bubnik
DESCRIPTION:
URL:https://sudburydistrictdentalsociety.ca/oncall/dr-bubnik-56/
END:VEVENT
BEGIN:VEVENT
DTSTART;TZID=UTC:20260414T080000
DTEND;TZID=UTC:20260414T080000
DTSTAMP:20260422T211010
CREATED:20260114T181455Z
LAST-MODIFIED:20260114T181455Z
UID:5429-1776153600-1776153600@sudburydistrictdentalsociety.ca
SUMMARY:Dr. Janicijevic
DESCRIPTION:
URL:https://sudburydistrictdentalsociety.ca/oncall/dr-janicijevic-40/
END:VEVENT
BEGIN:VEVENT
DTSTART;TZID=UTC:20260415T080000
DTEND;TZID=UTC:20260415T080000
DTSTAMP:20260422T211010
CREATED:20260114T181456Z
LAST-MODIFIED:20260114T181456Z
UID:5430-1776240000-1776240000@sudburydistrictdentalsociety.ca
SUMMARY:Dr. Richards
DESCRIPTION:
URL:https://sudburydistrictdentalsociety.ca/oncall/dr-richards-56/
END:VEVENT
BEGIN:VEVENT
DTSTART;TZID=UTC:20260416T080000
DTEND;TZID=UTC:20260416T080000
DTSTAMP:20260422T211010
CREATED:20260114T181923Z
LAST-MODIFIED:20260114T181923Z
UID:5431-1776326400-1776326400@sudburydistrictdentalsociety.ca
SUMMARY:Dr. Trottier
DESCRIPTION:
URL:https://sudburydistrictdentalsociety.ca/oncall/dr-trottier-60/
END:VEVENT
BEGIN:VEVENT
DTSTART;TZID=UTC:20260417T090000
DTEND;TZID=UTC:20260417T090000
DTSTAMP:20260422T211010
CREATED:20260114T181924Z
LAST-MODIFIED:20260114T181924Z
UID:5432-1776416400-1776416400@sudburydistrictdentalsociety.ca
SUMMARY:Dr. Gerhart
DESCRIPTION:
URL:https://sudburydistrictdentalsociety.ca/oncall/dr-gerhart-59/
END:VEVENT
BEGIN:VEVENT
DTSTART;TZID=UTC:20260418T090000
DTEND;TZID=UTC:20260418T090000
DTSTAMP:20260422T211010
CREATED:20260114T181924Z
LAST-MODIFIED:20260114T181924Z
UID:5433-1776502800-1776502800@sudburydistrictdentalsociety.ca
SUMMARY:Dr. Gerhart
DESCRIPTION:
URL:https://sudburydistrictdentalsociety.ca/oncall/dr-gerhart-60/
END:VEVENT
BEGIN:VEVENT
DTSTART;TZID=UTC:20260419T090000
DTEND;TZID=UTC:20260419T090000
DTSTAMP:20260422T211010
CREATED:20260114T181925Z
LAST-MODIFIED:20260114T181925Z
UID:5434-1776589200-1776589200@sudburydistrictdentalsociety.ca
SUMMARY:Dr. Gerhart
DESCRIPTION:
URL:https://sudburydistrictdentalsociety.ca/oncall/dr-gerhart-61/
END:VEVENT
BEGIN:VEVENT
DTSTART;TZID=UTC:20260420T080000
DTEND;TZID=UTC:20260420T080000
DTSTAMP:20260422T211010
CREATED:20260114T181925Z
LAST-MODIFIED:20260114T181925Z
UID:5435-1776672000-1776672000@sudburydistrictdentalsociety.ca
SUMMARY:Dr. Gerhart
DESCRIPTION:
URL:https://sudburydistrictdentalsociety.ca/oncall/dr-gerhart-62/
END:VEVENT
BEGIN:VEVENT
DTSTART;TZID=UTC:20260421T080000
DTEND;TZID=UTC:20260421T080000
DTSTAMP:20260422T211010
CREATED:20260114T181938Z
LAST-MODIFIED:20260114T181938Z
UID:5436-1776758400-1776758400@sudburydistrictdentalsociety.ca
SUMMARY:Dr. Gerhart
DESCRIPTION:
URL:https://sudburydistrictdentalsociety.ca/oncall/dr-gerhart-63/
END:VEVENT
END:VCALENDAR