BEGIN:VCALENDAR
VERSION:2.0
PRODID:-//Sudbury &amp; District Dental Society - ECPv6.15.20//NONSGML v1.0//EN
CALSCALE:GREGORIAN
METHOD:PUBLISH
X-ORIGINAL-URL:https://sudburydistrictdentalsociety.ca
X-WR-CALDESC:Events for Sudbury &amp; District Dental Society
REFRESH-INTERVAL;VALUE=DURATION:PT1H
X-Robots-Tag:noindex
X-PUBLISHED-TTL:PT1H
BEGIN:VTIMEZONE
TZID:UTC
BEGIN:STANDARD
TZOFFSETFROM:+0000
TZOFFSETTO:+0000
TZNAME:UTC
DTSTART:20250101T000000
END:STANDARD
END:VTIMEZONE
BEGIN:VEVENT
DTSTART;TZID=UTC:20260602T080000
DTEND;TZID=UTC:20260602T080000
DTSTAMP:20260422T224108
CREATED:20260114T185150Z
LAST-MODIFIED:20260114T185150Z
UID:5478-1780387200-1780387200@sudburydistrictdentalsociety.ca
SUMMARY:Dr. Virani
DESCRIPTION:
URL:https://sudburydistrictdentalsociety.ca/oncall/dr-virani-32/
END:VEVENT
BEGIN:VEVENT
DTSTART;TZID=UTC:20260603T080000
DTEND;TZID=UTC:20260603T080000
DTSTAMP:20260422T224108
CREATED:20260114T185151Z
LAST-MODIFIED:20260114T185151Z
UID:5479-1780473600-1780473600@sudburydistrictdentalsociety.ca
SUMMARY:Dr. Waszczylo
DESCRIPTION:
URL:https://sudburydistrictdentalsociety.ca/oncall/dr-waszczylo-56/
END:VEVENT
BEGIN:VEVENT
DTSTART;TZID=UTC:20260604T080000
DTEND;TZID=UTC:20260604T080000
DTSTAMP:20260422T224108
CREATED:20260114T185151Z
LAST-MODIFIED:20260114T185151Z
UID:5480-1780560000-1780560000@sudburydistrictdentalsociety.ca
SUMMARY:Dr. Waszczylo
DESCRIPTION:
URL:https://sudburydistrictdentalsociety.ca/oncall/dr-waszczylo-57/
END:VEVENT
BEGIN:VEVENT
DTSTART;TZID=UTC:20260605T090000
DTEND;TZID=UTC:20260605T090000
DTSTAMP:20260422T224108
CREATED:20260114T185349Z
LAST-MODIFIED:20260114T185349Z
UID:5481-1780650000-1780650000@sudburydistrictdentalsociety.ca
SUMMARY:Dr. Paige
DESCRIPTION:
URL:https://sudburydistrictdentalsociety.ca/oncall/dr-paige-36/
END:VEVENT
BEGIN:VEVENT
DTSTART;TZID=UTC:20260606T090000
DTEND;TZID=UTC:20260606T090000
DTSTAMP:20260422T224108
CREATED:20260114T185349Z
LAST-MODIFIED:20260114T185349Z
UID:5482-1780736400-1780736400@sudburydistrictdentalsociety.ca
SUMMARY:Dr. Paige
DESCRIPTION:
URL:https://sudburydistrictdentalsociety.ca/oncall/dr-paige-37/
END:VEVENT
BEGIN:VEVENT
DTSTART;TZID=UTC:20260607T090000
DTEND;TZID=UTC:20260607T090000
DTSTAMP:20260422T224108
CREATED:20260114T185350Z
LAST-MODIFIED:20260114T185350Z
UID:5483-1780822800-1780822800@sudburydistrictdentalsociety.ca
SUMMARY:Dr. Paige
DESCRIPTION:
URL:https://sudburydistrictdentalsociety.ca/oncall/dr-paige-38/
END:VEVENT
BEGIN:VEVENT
DTSTART;TZID=UTC:20260608T080000
DTEND;TZID=UTC:20260608T080000
DTSTAMP:20260422T224108
CREATED:20260114T185350Z
LAST-MODIFIED:20260114T185350Z
UID:5484-1780905600-1780905600@sudburydistrictdentalsociety.ca
SUMMARY:Dr. Paige
DESCRIPTION:
URL:https://sudburydistrictdentalsociety.ca/oncall/dr-paige-39/
END:VEVENT
BEGIN:VEVENT
DTSTART;TZID=UTC:20260609T080000
DTEND;TZID=UTC:20260609T080000
DTSTAMP:20260422T224108
CREATED:20260114T185351Z
LAST-MODIFIED:20260114T185351Z
UID:5485-1780992000-1780992000@sudburydistrictdentalsociety.ca
SUMMARY:Dr. Paige
DESCRIPTION:
URL:https://sudburydistrictdentalsociety.ca/oncall/dr-paige-40/
END:VEVENT
BEGIN:VEVENT
DTSTART;TZID=UTC:20260610T080000
DTEND;TZID=UTC:20260610T080000
DTSTAMP:20260422T224108
CREATED:20260114T185550Z
LAST-MODIFIED:20260114T185550Z
UID:5486-1781078400-1781078400@sudburydistrictdentalsociety.ca
SUMMARY:Dr. Paige
DESCRIPTION:
URL:https://sudburydistrictdentalsociety.ca/oncall/dr-paige-41/
END:VEVENT
BEGIN:VEVENT
DTSTART;TZID=UTC:20260611T080000
DTEND;TZID=UTC:20260611T080000
DTSTAMP:20260422T224108
CREATED:20260114T185551Z
LAST-MODIFIED:20260114T185551Z
UID:5487-1781164800-1781164800@sudburydistrictdentalsociety.ca
SUMMARY:Dr. Paige
DESCRIPTION:
URL:https://sudburydistrictdentalsociety.ca/oncall/dr-paige-42/
END:VEVENT
BEGIN:VEVENT
DTSTART;TZID=UTC:20260612T090000
DTEND;TZID=UTC:20260612T090000
DTSTAMP:20260422T224108
CREATED:20260114T185551Z
LAST-MODIFIED:20260114T185551Z
UID:5488-1781254800-1781254800@sudburydistrictdentalsociety.ca
SUMMARY:Dr. Ho
DESCRIPTION:
URL:https://sudburydistrictdentalsociety.ca/oncall/dr-ho-63/
END:VEVENT
BEGIN:VEVENT
DTSTART;TZID=UTC:20260613T090000
DTEND;TZID=UTC:20260613T090000
DTSTAMP:20260422T224108
CREATED:20260114T185552Z
LAST-MODIFIED:20260114T185552Z
UID:5489-1781341200-1781341200@sudburydistrictdentalsociety.ca
SUMMARY:Dr. Ho
DESCRIPTION:
URL:https://sudburydistrictdentalsociety.ca/oncall/dr-ho-64/
END:VEVENT
BEGIN:VEVENT
DTSTART;TZID=UTC:20260614T090000
DTEND;TZID=UTC:20260614T090000
DTSTAMP:20260422T224108
CREATED:20260114T185553Z
LAST-MODIFIED:20260114T185553Z
UID:5490-1781427600-1781427600@sudburydistrictdentalsociety.ca
SUMMARY:Dr. Ho
DESCRIPTION:
URL:https://sudburydistrictdentalsociety.ca/oncall/dr-ho-65/
END:VEVENT
BEGIN:VEVENT
DTSTART;TZID=UTC:20260615T080000
DTEND;TZID=UTC:20260615T080000
DTSTAMP:20260422T224108
CREATED:20260114T185751Z
LAST-MODIFIED:20260114T185751Z
UID:5491-1781510400-1781510400@sudburydistrictdentalsociety.ca
SUMMARY:Dr. Bubnik
DESCRIPTION:
URL:https://sudburydistrictdentalsociety.ca/oncall/dr-bubnik-57/
END:VEVENT
BEGIN:VEVENT
DTSTART;TZID=UTC:20260616T080000
DTEND;TZID=UTC:20260616T080000
DTSTAMP:20260422T224108
CREATED:20260114T185752Z
LAST-MODIFIED:20260114T185752Z
UID:5492-1781596800-1781596800@sudburydistrictdentalsociety.ca
SUMMARY:Dr. McNicholl
DESCRIPTION:
URL:https://sudburydistrictdentalsociety.ca/oncall/dr-mcnicholl-62/
END:VEVENT
BEGIN:VEVENT
DTSTART;TZID=UTC:20260617T080000
DTEND;TZID=UTC:20260617T080000
DTSTAMP:20260422T224108
CREATED:20260114T185752Z
LAST-MODIFIED:20260114T185752Z
UID:5493-1781683200-1781683200@sudburydistrictdentalsociety.ca
SUMMARY:Dr. McNicholl
DESCRIPTION:
URL:https://sudburydistrictdentalsociety.ca/oncall/dr-mcnicholl-63/
END:VEVENT
BEGIN:VEVENT
DTSTART;TZID=UTC:20260618T080000
DTEND;TZID=UTC:20260618T080000
DTSTAMP:20260422T224108
CREATED:20260114T185753Z
LAST-MODIFIED:20260114T185753Z
UID:5494-1781769600-1781769600@sudburydistrictdentalsociety.ca
SUMMARY:Dr. Wilson
DESCRIPTION:
URL:https://sudburydistrictdentalsociety.ca/oncall/dr-wilson-61/
END:VEVENT
BEGIN:VEVENT
DTSTART;TZID=UTC:20260619T090000
DTEND;TZID=UTC:20260619T090000
DTSTAMP:20260422T224108
CREATED:20260114T185753Z
LAST-MODIFIED:20260114T185753Z
UID:5495-1781859600-1781859600@sudburydistrictdentalsociety.ca
SUMMARY:Dr. Bubnik
DESCRIPTION:
URL:https://sudburydistrictdentalsociety.ca/oncall/dr-bubnik-58/
END:VEVENT
BEGIN:VEVENT
DTSTART;TZID=UTC:20260620T090000
DTEND;TZID=UTC:20260620T090000
DTSTAMP:20260422T224108
CREATED:20260114T185952Z
LAST-MODIFIED:20260114T185952Z
UID:5496-1781946000-1781946000@sudburydistrictdentalsociety.ca
SUMMARY:Dr. Bubnik
DESCRIPTION:
URL:https://sudburydistrictdentalsociety.ca/oncall/dr-bubnik-59/
END:VEVENT
BEGIN:VEVENT
DTSTART;TZID=UTC:20260621T090000
DTEND;TZID=UTC:20260621T090000
DTSTAMP:20260422T224108
CREATED:20260114T185953Z
LAST-MODIFIED:20260114T185953Z
UID:5497-1782032400-1782032400@sudburydistrictdentalsociety.ca
SUMMARY:Dr. Bubnik
DESCRIPTION:
URL:https://sudburydistrictdentalsociety.ca/oncall/dr-bubnik-60/
END:VEVENT
BEGIN:VEVENT
DTSTART;TZID=UTC:20260622T080000
DTEND;TZID=UTC:20260622T080000
DTSTAMP:20260422T224108
CREATED:20260114T185953Z
LAST-MODIFIED:20260114T185953Z
UID:5498-1782115200-1782115200@sudburydistrictdentalsociety.ca
SUMMARY:Dr. Tassone
DESCRIPTION:
URL:https://sudburydistrictdentalsociety.ca/oncall/dr-tassone-56/
END:VEVENT
BEGIN:VEVENT
DTSTART;TZID=UTC:20260623T080000
DTEND;TZID=UTC:20260623T080000
DTSTAMP:20260422T224108
CREATED:20260114T185954Z
LAST-MODIFIED:20260114T185954Z
UID:5499-1782201600-1782201600@sudburydistrictdentalsociety.ca
SUMMARY:Dr. McNicholl
DESCRIPTION:
URL:https://sudburydistrictdentalsociety.ca/oncall/dr-mcnicholl-64/
END:VEVENT
BEGIN:VEVENT
DTSTART;TZID=UTC:20260624T080000
DTEND;TZID=UTC:20260624T080000
DTSTAMP:20260422T224108
CREATED:20260114T185955Z
LAST-MODIFIED:20260114T185955Z
UID:5500-1782288000-1782288000@sudburydistrictdentalsociety.ca
SUMMARY:Dr. Ho
DESCRIPTION:
URL:https://sudburydistrictdentalsociety.ca/oncall/dr-ho-66/
END:VEVENT
BEGIN:VEVENT
DTSTART;TZID=UTC:20260625T080000
DTEND;TZID=UTC:20260625T080000
DTSTAMP:20260422T224108
CREATED:20260114T190153Z
LAST-MODIFIED:20260114T190153Z
UID:5501-1782374400-1782374400@sudburydistrictdentalsociety.ca
SUMMARY:Dr. Tassone
DESCRIPTION:
URL:https://sudburydistrictdentalsociety.ca/oncall/dr-tassone-57/
END:VEVENT
BEGIN:VEVENT
DTSTART;TZID=UTC:20260626T090000
DTEND;TZID=UTC:20260626T090000
DTSTAMP:20260422T224108
CREATED:20260114T190154Z
LAST-MODIFIED:20260114T190154Z
UID:5502-1782464400-1782464400@sudburydistrictdentalsociety.ca
SUMMARY:Dr. Tassone
DESCRIPTION:
URL:https://sudburydistrictdentalsociety.ca/oncall/dr-tassone-58/
END:VEVENT
BEGIN:VEVENT
DTSTART;TZID=UTC:20260627T090000
DTEND;TZID=UTC:20260627T090000
DTSTAMP:20260422T224108
CREATED:20260114T190154Z
LAST-MODIFIED:20260114T190154Z
UID:5503-1782550800-1782550800@sudburydistrictdentalsociety.ca
SUMMARY:Dr. Tassone
DESCRIPTION:
URL:https://sudburydistrictdentalsociety.ca/oncall/dr-tassone-59/
END:VEVENT
BEGIN:VEVENT
DTSTART;TZID=UTC:20260628T090000
DTEND;TZID=UTC:20260628T090000
DTSTAMP:20260422T224108
CREATED:20260114T190155Z
LAST-MODIFIED:20260114T190155Z
UID:5504-1782637200-1782637200@sudburydistrictdentalsociety.ca
SUMMARY:Dr. Tassone
DESCRIPTION:
URL:https://sudburydistrictdentalsociety.ca/oncall/dr-tassone-60/
END:VEVENT
BEGIN:VEVENT
DTSTART;TZID=UTC:20260629T080000
DTEND;TZID=UTC:20260629T080000
DTSTAMP:20260422T224108
CREATED:20260114T190156Z
LAST-MODIFIED:20260114T190156Z
UID:5505-1782720000-1782720000@sudburydistrictdentalsociety.ca
SUMMARY:Dr. Tassone
DESCRIPTION:
URL:https://sudburydistrictdentalsociety.ca/oncall/dr-tassone-61/
END:VEVENT
BEGIN:VEVENT
DTSTART;TZID=UTC:20260630T090000
DTEND;TZID=UTC:20260630T090000
DTSTAMP:20260422T224108
CREATED:20260114T190553Z
LAST-MODIFIED:20260114T190553Z
UID:5506-1782810000-1782810000@sudburydistrictdentalsociety.ca
SUMMARY:Dr. Tassone
DESCRIPTION:
URL:https://sudburydistrictdentalsociety.ca/oncall/dr-tassone-62/
END:VEVENT
BEGIN:VEVENT
DTSTART;VALUE=DATE:20260701
DTEND;VALUE=DATE:20260703
DTSTAMP:20260422T224108
CREATED:20260114T203754Z
LAST-MODIFIED:20260114T203754Z
UID:5696-1782867600-1782953999@sudburydistrictdentalsociety.ca
SUMMARY:Canada Day
DESCRIPTION:
URL:https://sudburydistrictdentalsociety.ca/oncall/canada-day-5/
END:VEVENT
END:VCALENDAR