BEGIN:VCALENDAR
VERSION:2.0
PRODID:-//Sudbury &amp; District Dental Society - ECPv6.15.20//NONSGML v1.0//EN
CALSCALE:GREGORIAN
METHOD:PUBLISH
X-ORIGINAL-URL:https://sudburydistrictdentalsociety.ca
X-WR-CALDESC:Events for Sudbury &amp; District Dental Society
REFRESH-INTERVAL;VALUE=DURATION:PT1H
X-Robots-Tag:noindex
X-PUBLISHED-TTL:PT1H
BEGIN:VTIMEZONE
TZID:UTC
BEGIN:STANDARD
TZOFFSETFROM:+0000
TZOFFSETTO:+0000
TZNAME:UTC
DTSTART:20250101T000000
END:STANDARD
END:VTIMEZONE
BEGIN:VEVENT
DTSTART;TZID=UTC:20260810T080000
DTEND;TZID=UTC:20260810T080000
DTSTAMP:20260422T224037
CREATED:20260114T192929Z
LAST-MODIFIED:20260114T192929Z
UID:5547-1786348800-1786348800@sudburydistrictdentalsociety.ca
SUMMARY:Dr. McElligott
DESCRIPTION:
URL:https://sudburydistrictdentalsociety.ca/oncall/dr-mcelligott-4/
END:VEVENT
BEGIN:VEVENT
DTSTART;TZID=UTC:20260811T080000
DTEND;TZID=UTC:20260811T080000
DTSTAMP:20260422T224037
CREATED:20260114T192929Z
LAST-MODIFIED:20260114T192929Z
UID:5548-1786435200-1786435200@sudburydistrictdentalsociety.ca
SUMMARY:Dr. McElligott
DESCRIPTION:
URL:https://sudburydistrictdentalsociety.ca/oncall/dr-mcelligott-5/
END:VEVENT
BEGIN:VEVENT
DTSTART;TZID=UTC:20260812T080000
DTEND;TZID=UTC:20260812T080000
DTSTAMP:20260422T224037
CREATED:20260114T192930Z
LAST-MODIFIED:20260114T192930Z
UID:5549-1786521600-1786521600@sudburydistrictdentalsociety.ca
SUMMARY:Dr. Deol
DESCRIPTION:
URL:https://sudburydistrictdentalsociety.ca/oncall/dr-deol-52/
END:VEVENT
BEGIN:VEVENT
DTSTART;TZID=UTC:20260813T080000
DTEND;TZID=UTC:20260813T080000
DTSTAMP:20260422T224037
CREATED:20260114T192931Z
LAST-MODIFIED:20260114T192931Z
UID:5550-1786608000-1786608000@sudburydistrictdentalsociety.ca
SUMMARY:Dr. Virani
DESCRIPTION:
URL:https://sudburydistrictdentalsociety.ca/oncall/dr-virani-33/
END:VEVENT
BEGIN:VEVENT
DTSTART;TZID=UTC:20260814T090000
DTEND;TZID=UTC:20260814T090000
DTSTAMP:20260422T224037
CREATED:20260114T193012Z
LAST-MODIFIED:20260114T193012Z
UID:5551-1786698000-1786698000@sudburydistrictdentalsociety.ca
SUMMARY:Dr. Richards
DESCRIPTION:
URL:https://sudburydistrictdentalsociety.ca/oncall/dr-richards-57/
END:VEVENT
BEGIN:VEVENT
DTSTART;TZID=UTC:20260815T090000
DTEND;TZID=UTC:20260815T090000
DTSTAMP:20260422T224037
CREATED:20260114T193013Z
LAST-MODIFIED:20260114T193013Z
UID:5552-1786784400-1786784400@sudburydistrictdentalsociety.ca
SUMMARY:Dr. Richards
DESCRIPTION:
URL:https://sudburydistrictdentalsociety.ca/oncall/dr-richards-58/
END:VEVENT
BEGIN:VEVENT
DTSTART;TZID=UTC:20260816T090000
DTEND;TZID=UTC:20260816T090000
DTSTAMP:20260422T224037
CREATED:20260114T193014Z
LAST-MODIFIED:20260114T193014Z
UID:5553-1786870800-1786870800@sudburydistrictdentalsociety.ca
SUMMARY:Dr. Richards
DESCRIPTION:
URL:https://sudburydistrictdentalsociety.ca/oncall/dr-richards-59/
END:VEVENT
BEGIN:VEVENT
DTSTART;TZID=UTC:20260817T080000
DTEND;TZID=UTC:20260817T080000
DTSTAMP:20260422T224037
CREATED:20260114T193014Z
LAST-MODIFIED:20260114T193014Z
UID:5554-1786953600-1786953600@sudburydistrictdentalsociety.ca
SUMMARY:Dr. McElligott
DESCRIPTION:
URL:https://sudburydistrictdentalsociety.ca/oncall/dr-mcelligott-6/
END:VEVENT
BEGIN:VEVENT
DTSTART;TZID=UTC:20260818T080000
DTEND;TZID=UTC:20260818T080000
DTSTAMP:20260422T224037
CREATED:20260114T193015Z
LAST-MODIFIED:20260114T193015Z
UID:5555-1787040000-1787040000@sudburydistrictdentalsociety.ca
SUMMARY:Dr. McElligott
DESCRIPTION:
URL:https://sudburydistrictdentalsociety.ca/oncall/dr-mcelligott-7/
END:VEVENT
BEGIN:VEVENT
DTSTART;TZID=UTC:20260819T080000
DTEND;TZID=UTC:20260819T080000
DTSTAMP:20260422T224037
CREATED:20260114T193213Z
LAST-MODIFIED:20260114T193213Z
UID:5556-1787126400-1787126400@sudburydistrictdentalsociety.ca
SUMMARY:Dr. Mate
DESCRIPTION:
URL:https://sudburydistrictdentalsociety.ca/oncall/dr-mate-44/
END:VEVENT
BEGIN:VEVENT
DTSTART;TZID=UTC:20260820T080000
DTEND;TZID=UTC:20260820T080000
DTSTAMP:20260422T224037
CREATED:20260114T193213Z
LAST-MODIFIED:20260114T193213Z
UID:5557-1787212800-1787212800@sudburydistrictdentalsociety.ca
SUMMARY:Dr. Carpentier
DESCRIPTION:
URL:https://sudburydistrictdentalsociety.ca/oncall/dr-carpentier-63/
END:VEVENT
BEGIN:VEVENT
DTSTART;TZID=UTC:20260821T090000
DTEND;TZID=UTC:20260821T090000
DTSTAMP:20260422T224037
CREATED:20260114T193214Z
LAST-MODIFIED:20260114T193214Z
UID:5558-1787302800-1787302800@sudburydistrictdentalsociety.ca
SUMMARY:Dr. Montpellier
DESCRIPTION:
URL:https://sudburydistrictdentalsociety.ca/oncall/dr-montpellier-53/
END:VEVENT
BEGIN:VEVENT
DTSTART;TZID=UTC:20260822T090000
DTEND;TZID=UTC:20260822T090000
DTSTAMP:20260422T224037
CREATED:20260114T193215Z
LAST-MODIFIED:20260114T193215Z
UID:5559-1787389200-1787389200@sudburydistrictdentalsociety.ca
SUMMARY:Dr. Montpellier
DESCRIPTION:
URL:https://sudburydistrictdentalsociety.ca/oncall/dr-montpellier-54/
END:VEVENT
BEGIN:VEVENT
DTSTART;TZID=UTC:20260823T090000
DTEND;TZID=UTC:20260823T090000
DTSTAMP:20260422T224037
CREATED:20260114T193215Z
LAST-MODIFIED:20260114T193215Z
UID:5560-1787475600-1787475600@sudburydistrictdentalsociety.ca
SUMMARY:Dr. Montpellier
DESCRIPTION:
URL:https://sudburydistrictdentalsociety.ca/oncall/dr-montpellier-55/
END:VEVENT
BEGIN:VEVENT
DTSTART;TZID=UTC:20260824T080000
DTEND;TZID=UTC:20260824T080000
DTSTAMP:20260422T224037
CREATED:20260114T193414Z
LAST-MODIFIED:20260114T193414Z
UID:5561-1787558400-1787558400@sudburydistrictdentalsociety.ca
SUMMARY:Dr. Clarke
DESCRIPTION:
URL:https://sudburydistrictdentalsociety.ca/oncall/dr-clarke-54/
END:VEVENT
BEGIN:VEVENT
DTSTART;TZID=UTC:20260825T080000
DTEND;TZID=UTC:20260825T080000
DTSTAMP:20260422T224037
CREATED:20260114T193414Z
LAST-MODIFIED:20260114T193414Z
UID:5562-1787644800-1787644800@sudburydistrictdentalsociety.ca
SUMMARY:Dr. Clarke
DESCRIPTION:
URL:https://sudburydistrictdentalsociety.ca/oncall/dr-clarke-55/
END:VEVENT
BEGIN:VEVENT
DTSTART;TZID=UTC:20260826T080000
DTEND;TZID=UTC:20260826T080000
DTSTAMP:20260422T224037
CREATED:20260114T193415Z
LAST-MODIFIED:20260114T193415Z
UID:5563-1787731200-1787731200@sudburydistrictdentalsociety.ca
SUMMARY:Dr. Clarke
DESCRIPTION:
URL:https://sudburydistrictdentalsociety.ca/oncall/dr-clarke-56/
END:VEVENT
BEGIN:VEVENT
DTSTART;TZID=UTC:20260827T080000
DTEND;TZID=UTC:20260827T080000
DTSTAMP:20260422T224037
CREATED:20260114T193415Z
LAST-MODIFIED:20260114T193415Z
UID:5564-1787817600-1787817600@sudburydistrictdentalsociety.ca
SUMMARY:Dr. Clarke
DESCRIPTION:
URL:https://sudburydistrictdentalsociety.ca/oncall/dr-clarke-57/
END:VEVENT
BEGIN:VEVENT
DTSTART;TZID=UTC:20260828T090000
DTEND;TZID=UTC:20260828T090000
DTSTAMP:20260422T224037
CREATED:20260114T193416Z
LAST-MODIFIED:20260114T193416Z
UID:5565-1787907600-1787907600@sudburydistrictdentalsociety.ca
SUMMARY:Dr. Clarke
DESCRIPTION:
URL:https://sudburydistrictdentalsociety.ca/oncall/dr-clarke-58/
END:VEVENT
BEGIN:VEVENT
DTSTART;TZID=UTC:20260829T090000
DTEND;TZID=UTC:20260829T090000
DTSTAMP:20260422T224037
CREATED:20260114T193530Z
LAST-MODIFIED:20260114T193530Z
UID:5566-1787994000-1787994000@sudburydistrictdentalsociety.ca
SUMMARY:Dr. Clarke
DESCRIPTION:
URL:https://sudburydistrictdentalsociety.ca/oncall/dr-clarke-59/
END:VEVENT
BEGIN:VEVENT
DTSTART;TZID=UTC:20260830T090000
DTEND;TZID=UTC:20260830T090000
DTSTAMP:20260422T224037
CREATED:20260114T193530Z
LAST-MODIFIED:20260114T193530Z
UID:5567-1788080400-1788080400@sudburydistrictdentalsociety.ca
SUMMARY:Dr. Clarke
DESCRIPTION:
URL:https://sudburydistrictdentalsociety.ca/oncall/dr-clarke-60/
END:VEVENT
BEGIN:VEVENT
DTSTART;TZID=UTC:20260831T090000
DTEND;TZID=UTC:20260831T090000
DTSTAMP:20260422T224037
CREATED:20260114T193531Z
LAST-MODIFIED:20260114T193531Z
UID:5568-1788166800-1788166800@sudburydistrictdentalsociety.ca
SUMMARY:Dr. Wells
DESCRIPTION:
URL:https://sudburydistrictdentalsociety.ca/oncall/dr-wells-52/
END:VEVENT
BEGIN:VEVENT
DTSTART;VALUE=DATE:20260901
DTEND;VALUE=DATE:20260903
DTSTAMP:20260422T224037
CREATED:20260114T201858Z
LAST-MODIFIED:20260114T201858Z
UID:5694-1788224400-1788310799@sudburydistrictdentalsociety.ca
SUMMARY:Labour Day
DESCRIPTION:
URL:https://sudburydistrictdentalsociety.ca/oncall/labour-day-5/
END:VEVENT
BEGIN:VEVENT
DTSTART;TZID=UTC:20260901T080000
DTEND;TZID=UTC:20260901T080000
DTSTAMP:20260422T224037
CREATED:20260114T193531Z
LAST-MODIFIED:20260114T193531Z
UID:5569-1788249600-1788249600@sudburydistrictdentalsociety.ca
SUMMARY:Dr. Montpellier
DESCRIPTION:
URL:https://sudburydistrictdentalsociety.ca/oncall/dr-montpellier-56/
END:VEVENT
BEGIN:VEVENT
DTSTART;TZID=UTC:20260902T080000
DTEND;TZID=UTC:20260902T080000
DTSTAMP:20260422T224037
CREATED:20260114T193532Z
LAST-MODIFIED:20260114T193532Z
UID:5570-1788336000-1788336000@sudburydistrictdentalsociety.ca
SUMMARY:Dr. Richards
DESCRIPTION:
URL:https://sudburydistrictdentalsociety.ca/oncall/dr-richards-60/
END:VEVENT
BEGIN:VEVENT
DTSTART;TZID=UTC:20260903T080000
DTEND;TZID=UTC:20260903T080000
DTSTAMP:20260422T224037
CREATED:20260114T193703Z
LAST-MODIFIED:20260114T193703Z
UID:5571-1788422400-1788422400@sudburydistrictdentalsociety.ca
SUMMARY:Dr. Kosnik
DESCRIPTION:
URL:https://sudburydistrictdentalsociety.ca/oncall/dr-kosnik-34/
END:VEVENT
BEGIN:VEVENT
DTSTART;TZID=UTC:20260904T090000
DTEND;TZID=UTC:20260904T090000
DTSTAMP:20260422T224037
CREATED:20260114T193704Z
LAST-MODIFIED:20260114T193704Z
UID:5572-1788512400-1788512400@sudburydistrictdentalsociety.ca
SUMMARY:Dr. Deol
DESCRIPTION:
URL:https://sudburydistrictdentalsociety.ca/oncall/dr-deol-53/
END:VEVENT
BEGIN:VEVENT
DTSTART;TZID=UTC:20260905T090000
DTEND;TZID=UTC:20260905T090000
DTSTAMP:20260422T224037
CREATED:20260114T193705Z
LAST-MODIFIED:20260114T193705Z
UID:5573-1788598800-1788598800@sudburydistrictdentalsociety.ca
SUMMARY:Dr. Kosnik
DESCRIPTION:
URL:https://sudburydistrictdentalsociety.ca/oncall/dr-kosnik-35/
END:VEVENT
BEGIN:VEVENT
DTSTART;TZID=UTC:20260906T090000
DTEND;TZID=UTC:20260906T090000
DTSTAMP:20260422T224037
CREATED:20260114T193705Z
LAST-MODIFIED:20260114T193705Z
UID:5574-1788685200-1788685200@sudburydistrictdentalsociety.ca
SUMMARY:Dr. Kosnik
DESCRIPTION:
URL:https://sudburydistrictdentalsociety.ca/oncall/dr-kosnik-36/
END:VEVENT
BEGIN:VEVENT
DTSTART;TZID=UTC:20260907T090000
DTEND;TZID=UTC:20260907T090000
DTSTAMP:20260422T224037
CREATED:20260114T193706Z
LAST-MODIFIED:20260114T193706Z
UID:5575-1788771600-1788771600@sudburydistrictdentalsociety.ca
SUMMARY:Dr. Kosnik
DESCRIPTION:
URL:https://sudburydistrictdentalsociety.ca/oncall/dr-kosnik-37/
END:VEVENT
END:VCALENDAR