BEGIN:VCALENDAR
VERSION:2.0
PRODID:-//Sudbury &amp; District Dental Society - ECPv6.15.20//NONSGML v1.0//EN
CALSCALE:GREGORIAN
METHOD:PUBLISH
X-WR-CALNAME:Sudbury &amp; District Dental Society
X-ORIGINAL-URL:https://sudburydistrictdentalsociety.ca
X-WR-CALDESC:Events for Sudbury &amp; District Dental Society
REFRESH-INTERVAL;VALUE=DURATION:PT1H
X-Robots-Tag:noindex
X-PUBLISHED-TTL:PT1H
BEGIN:VTIMEZONE
TZID:UTC
BEGIN:STANDARD
TZOFFSETFROM:+0000
TZOFFSETTO:+0000
TZNAME:UTC
DTSTART:20250101T000000
END:STANDARD
END:VTIMEZONE
BEGIN:VEVENT
DTSTART;TZID=UTC:20260204T080000
DTEND;TZID=UTC:20260204T080000
DTSTAMP:20260422T223341
CREATED:20260114T175141Z
LAST-MODIFIED:20260114T175141Z
UID:5360-1770192000-1770192000@sudburydistrictdentalsociety.ca
SUMMARY:Dr. Amos
DESCRIPTION:
URL:https://sudburydistrictdentalsociety.ca/oncall/dr-amos-30/
END:VEVENT
BEGIN:VEVENT
DTSTART;TZID=UTC:20260203T080000
DTEND;TZID=UTC:20260203T080000
DTSTAMP:20260422T223341
CREATED:20260114T175140Z
LAST-MODIFIED:20260114T175140Z
UID:5359-1770105600-1770105600@sudburydistrictdentalsociety.ca
SUMMARY:Dr. Amos
DESCRIPTION:
URL:https://sudburydistrictdentalsociety.ca/oncall/dr-amos-29/
END:VEVENT
BEGIN:VEVENT
DTSTART;TZID=UTC:20260202T080000
DTEND;TZID=UTC:20260202T080000
DTSTAMP:20260422T223341
CREATED:20260114T175139Z
LAST-MODIFIED:20260114T175139Z
UID:5358-1770019200-1770019200@sudburydistrictdentalsociety.ca
SUMMARY:Dr. Junor
DESCRIPTION:
URL:https://sudburydistrictdentalsociety.ca/oncall/dr-junor-55/
END:VEVENT
BEGIN:VEVENT
DTSTART;TZID=UTC:20260201T090000
DTEND;TZID=UTC:20260201T090000
DTSTAMP:20260422T223341
CREATED:20260114T175139Z
LAST-MODIFIED:20260114T175139Z
UID:5357-1769936400-1769936400@sudburydistrictdentalsociety.ca
SUMMARY:Dr. Amos
DESCRIPTION:
URL:https://sudburydistrictdentalsociety.ca/oncall/dr-amos-28/
END:VEVENT
BEGIN:VEVENT
DTSTART;TZID=UTC:20260131T090000
DTEND;TZID=UTC:20260131T090000
DTSTAMP:20260422T223341
CREATED:20260114T175138Z
LAST-MODIFIED:20260114T175138Z
UID:5356-1769850000-1769850000@sudburydistrictdentalsociety.ca
SUMMARY:Dr. Amos
DESCRIPTION:
URL:https://sudburydistrictdentalsociety.ca/oncall/dr-amos-27/
END:VEVENT
BEGIN:VEVENT
DTSTART;TZID=UTC:20260130T090000
DTEND;TZID=UTC:20260130T090000
DTSTAMP:20260422T223341
CREATED:20260114T174940Z
LAST-MODIFIED:20260114T174940Z
UID:5355-1769763600-1769763600@sudburydistrictdentalsociety.ca
SUMMARY:Dr. Amos
DESCRIPTION:
URL:https://sudburydistrictdentalsociety.ca/oncall/dr-amos-26/
END:VEVENT
BEGIN:VEVENT
DTSTART;TZID=UTC:20260129T080000
DTEND;TZID=UTC:20260129T080000
DTSTAMP:20260422T223341
CREATED:20260114T174939Z
LAST-MODIFIED:20260219T151646Z
UID:5354-1769673600-1769673600@sudburydistrictdentalsociety.ca
SUMMARY:Dr. Casson
DESCRIPTION:
URL:https://sudburydistrictdentalsociety.ca/oncall/dr-trottier-56/
END:VEVENT
BEGIN:VEVENT
DTSTART;TZID=UTC:20260128T080000
DTEND;TZID=UTC:20260128T080000
DTSTAMP:20260422T223341
CREATED:20260114T174938Z
LAST-MODIFIED:20260114T174938Z
UID:5353-1769587200-1769587200@sudburydistrictdentalsociety.ca
SUMMARY:Dr. Leclair
DESCRIPTION:
URL:https://sudburydistrictdentalsociety.ca/oncall/dr-leclair-72/
END:VEVENT
BEGIN:VEVENT
DTSTART;TZID=UTC:20260127T080000
DTEND;TZID=UTC:20260127T080000
DTSTAMP:20260422T223341
CREATED:20260114T174938Z
LAST-MODIFIED:20260114T174938Z
UID:5352-1769500800-1769500800@sudburydistrictdentalsociety.ca
SUMMARY:Dr. Leclair
DESCRIPTION:
URL:https://sudburydistrictdentalsociety.ca/oncall/dr-leclair-71/
END:VEVENT
BEGIN:VEVENT
DTSTART;TZID=UTC:20260126T080000
DTEND;TZID=UTC:20260126T080000
DTSTAMP:20260422T223341
CREATED:20260114T174937Z
LAST-MODIFIED:20260114T174937Z
UID:5351-1769414400-1769414400@sudburydistrictdentalsociety.ca
SUMMARY:Dr. Leclair
DESCRIPTION:
URL:https://sudburydistrictdentalsociety.ca/oncall/dr-leclair-70/
END:VEVENT
BEGIN:VEVENT
DTSTART;TZID=UTC:20260125T090000
DTEND;TZID=UTC:20260125T090000
DTSTAMP:20260422T223341
CREATED:20260114T174923Z
LAST-MODIFIED:20260114T174923Z
UID:5350-1769331600-1769331600@sudburydistrictdentalsociety.ca
SUMMARY:Dr. Leclair
DESCRIPTION:
URL:https://sudburydistrictdentalsociety.ca/oncall/dr-leclair-69/
END:VEVENT
BEGIN:VEVENT
DTSTART;TZID=UTC:20260124T090000
DTEND;TZID=UTC:20260124T090000
DTSTAMP:20260422T223341
CREATED:20260114T174923Z
LAST-MODIFIED:20260114T174923Z
UID:5349-1769245200-1769245200@sudburydistrictdentalsociety.ca
SUMMARY:Dr. Leclair
DESCRIPTION:
URL:https://sudburydistrictdentalsociety.ca/oncall/dr-leclair-68/
END:VEVENT
BEGIN:VEVENT
DTSTART;TZID=UTC:20260123T090000
DTEND;TZID=UTC:20260123T090000
DTSTAMP:20260422T223341
CREATED:20260114T174922Z
LAST-MODIFIED:20260114T174922Z
UID:5348-1769158800-1769158800@sudburydistrictdentalsociety.ca
SUMMARY:Dr. Leclair
DESCRIPTION:
URL:https://sudburydistrictdentalsociety.ca/oncall/dr-leclair-67/
END:VEVENT
BEGIN:VEVENT
DTSTART;TZID=UTC:20260122T080000
DTEND;TZID=UTC:20260122T080000
DTSTAMP:20260422T223341
CREATED:20260114T174921Z
LAST-MODIFIED:20260114T174921Z
UID:5347-1769068800-1769068800@sudburydistrictdentalsociety.ca
SUMMARY:Dr. Bootwala
DESCRIPTION:
URL:https://sudburydistrictdentalsociety.ca/oncall/dr-bootwala-7/
END:VEVENT
BEGIN:VEVENT
DTSTART;TZID=UTC:20260121T080000
DTEND;TZID=UTC:20260121T080000
DTSTAMP:20260422T223341
CREATED:20260114T174921Z
LAST-MODIFIED:20260114T174921Z
UID:5346-1768982400-1768982400@sudburydistrictdentalsociety.ca
SUMMARY:Dr. Bootwala
DESCRIPTION:
URL:https://sudburydistrictdentalsociety.ca/oncall/dr-bootwala-6/
END:VEVENT
BEGIN:VEVENT
DTSTART;TZID=UTC:20260120T080000
DTEND;TZID=UTC:20260120T080000
DTSTAMP:20260422T223341
CREATED:20260114T174723Z
LAST-MODIFIED:20260114T174723Z
UID:5345-1768896000-1768896000@sudburydistrictdentalsociety.ca
SUMMARY:Dr. Bootwala
DESCRIPTION:
URL:https://sudburydistrictdentalsociety.ca/oncall/dr-bootwala-5/
END:VEVENT
BEGIN:VEVENT
DTSTART;TZID=UTC:20260119T080000
DTEND;TZID=UTC:20260119T080000
DTSTAMP:20260422T223341
CREATED:20260114T174723Z
LAST-MODIFIED:20260114T174723Z
UID:5344-1768809600-1768809600@sudburydistrictdentalsociety.ca
SUMMARY:Dr. Bootwala
DESCRIPTION:
URL:https://sudburydistrictdentalsociety.ca/oncall/dr-bootwala-4/
END:VEVENT
BEGIN:VEVENT
DTSTART;TZID=UTC:20260118T090000
DTEND;TZID=UTC:20260118T090000
DTSTAMP:20260422T223341
CREATED:20260114T174722Z
LAST-MODIFIED:20260114T174722Z
UID:5343-1768726800-1768726800@sudburydistrictdentalsociety.ca
SUMMARY:Dr. Bootwala
DESCRIPTION:
URL:https://sudburydistrictdentalsociety.ca/oncall/dr-bootwala-3/
END:VEVENT
BEGIN:VEVENT
DTSTART;TZID=UTC:20260117T090000
DTEND;TZID=UTC:20260117T090000
DTSTAMP:20260422T223341
CREATED:20260114T174721Z
LAST-MODIFIED:20260114T174721Z
UID:5342-1768640400-1768640400@sudburydistrictdentalsociety.ca
SUMMARY:Dr. Bootwala
DESCRIPTION:
URL:https://sudburydistrictdentalsociety.ca/oncall/dr-bootwala-2/
END:VEVENT
BEGIN:VEVENT
DTSTART;TZID=UTC:20260116T090000
DTEND;TZID=UTC:20260116T090000
DTSTAMP:20260422T223341
CREATED:20260114T174721Z
LAST-MODIFIED:20260114T174721Z
UID:5341-1768554000-1768554000@sudburydistrictdentalsociety.ca
SUMMARY:Dr. Bootwala
DESCRIPTION:
URL:https://sudburydistrictdentalsociety.ca/oncall/dr-bootwala/
END:VEVENT
BEGIN:VEVENT
DTSTART;TZID=UTC:20260115T080000
DTEND;TZID=UTC:20260115T080000
DTSTAMP:20260422T223341
CREATED:20260114T174539Z
LAST-MODIFIED:20260114T174539Z
UID:5340-1768464000-1768464000@sudburydistrictdentalsociety.ca
SUMMARY:Dr. Floreani
DESCRIPTION:
URL:https://sudburydistrictdentalsociety.ca/oncall/dr-floreani-52/
END:VEVENT
BEGIN:VEVENT
DTSTART;TZID=UTC:20260114T080000
DTEND;TZID=UTC:20260114T080000
DTSTAMP:20260422T223341
CREATED:20260114T174539Z
LAST-MODIFIED:20260114T174539Z
UID:5339-1768377600-1768377600@sudburydistrictdentalsociety.ca
SUMMARY:Dr. Floreani
DESCRIPTION:
URL:https://sudburydistrictdentalsociety.ca/oncall/dr-floreani-51/
END:VEVENT
BEGIN:VEVENT
DTSTART;TZID=UTC:20260113T080000
DTEND;TZID=UTC:20260113T080000
DTSTAMP:20260422T223341
CREATED:20260114T174538Z
LAST-MODIFIED:20260114T174538Z
UID:5338-1768291200-1768291200@sudburydistrictdentalsociety.ca
SUMMARY:Dr. Floreani
DESCRIPTION:
URL:https://sudburydistrictdentalsociety.ca/oncall/dr-floreani-50/
END:VEVENT
BEGIN:VEVENT
DTSTART;TZID=UTC:20260112T080000
DTEND;TZID=UTC:20260112T080000
DTSTAMP:20260422T223341
CREATED:20260114T174538Z
LAST-MODIFIED:20260114T174538Z
UID:5337-1768204800-1768204800@sudburydistrictdentalsociety.ca
SUMMARY:Dr. Floreani
DESCRIPTION:
URL:https://sudburydistrictdentalsociety.ca/oncall/dr-floreani-49/
END:VEVENT
BEGIN:VEVENT
DTSTART;TZID=UTC:20260111T090000
DTEND;TZID=UTC:20260111T090000
DTSTAMP:20260422T223341
CREATED:20260114T174537Z
LAST-MODIFIED:20260114T174537Z
UID:5336-1768122000-1768122000@sudburydistrictdentalsociety.ca
SUMMARY:Dr. DeGurse
DESCRIPTION:
URL:https://sudburydistrictdentalsociety.ca/oncall/dr-degurse-18/
END:VEVENT
BEGIN:VEVENT
DTSTART;TZID=UTC:20260110T090000
DTEND;TZID=UTC:20260110T090000
DTSTAMP:20260422T223341
CREATED:20260114T174523Z
LAST-MODIFIED:20260114T174523Z
UID:5335-1768035600-1768035600@sudburydistrictdentalsociety.ca
SUMMARY:Dr. DeGurse
DESCRIPTION:
URL:https://sudburydistrictdentalsociety.ca/oncall/dr-degurse-17/
END:VEVENT
BEGIN:VEVENT
DTSTART;TZID=UTC:20260109T090000
DTEND;TZID=UTC:20260109T090000
DTSTAMP:20260422T223341
CREATED:20260114T174523Z
LAST-MODIFIED:20260114T174523Z
UID:5334-1767949200-1767949200@sudburydistrictdentalsociety.ca
SUMMARY:Dr. DeGurse
DESCRIPTION:
URL:https://sudburydistrictdentalsociety.ca/oncall/dr-degurse-16/
END:VEVENT
BEGIN:VEVENT
DTSTART;TZID=UTC:20260108T080000
DTEND;TZID=UTC:20260108T080000
DTSTAMP:20260422T223341
CREATED:20260114T174522Z
LAST-MODIFIED:20260114T174522Z
UID:5333-1767859200-1767859200@sudburydistrictdentalsociety.ca
SUMMARY:Dr. Amos
DESCRIPTION:
URL:https://sudburydistrictdentalsociety.ca/oncall/dr-amos-25/
END:VEVENT
BEGIN:VEVENT
DTSTART;TZID=UTC:20260107T080000
DTEND;TZID=UTC:20260107T080000
DTSTAMP:20260422T223341
CREATED:20260114T174522Z
LAST-MODIFIED:20260114T174522Z
UID:5332-1767772800-1767772800@sudburydistrictdentalsociety.ca
SUMMARY:Dr. Teijeiro
DESCRIPTION:
URL:https://sudburydistrictdentalsociety.ca/oncall/dr-teijeiro-94/
END:VEVENT
BEGIN:VEVENT
DTSTART;TZID=UTC:20260106T080000
DTEND;TZID=UTC:20260106T080000
DTSTAMP:20260422T223341
CREATED:20260114T174521Z
LAST-MODIFIED:20260114T174521Z
UID:5331-1767686400-1767686400@sudburydistrictdentalsociety.ca
SUMMARY:Dr. Leclair
DESCRIPTION:
URL:https://sudburydistrictdentalsociety.ca/oncall/dr-leclair-66/
END:VEVENT
END:VCALENDAR