BEGIN:VCALENDAR
VERSION:2.0
PRODID:-//Sudbury &amp; District Dental Society - ECPv6.15.20//NONSGML v1.0//EN
CALSCALE:GREGORIAN
METHOD:PUBLISH
X-WR-CALNAME:Sudbury &amp; District Dental Society
X-ORIGINAL-URL:https://sudburydistrictdentalsociety.ca
X-WR-CALDESC:Events for Sudbury &amp; District Dental Society
REFRESH-INTERVAL;VALUE=DURATION:PT1H
X-Robots-Tag:noindex
X-PUBLISHED-TTL:PT1H
BEGIN:VTIMEZONE
TZID:UTC
BEGIN:STANDARD
TZOFFSETFROM:+0000
TZOFFSETTO:+0000
TZNAME:UTC
DTSTART:20250101T000000
END:STANDARD
END:VTIMEZONE
BEGIN:VEVENT
DTSTART;VALUE=DATE:20260701
DTEND;VALUE=DATE:20260703
DTSTAMP:20260422T225658
CREATED:20260114T203754Z
LAST-MODIFIED:20260114T203754Z
UID:5696-1782867600-1782953999@sudburydistrictdentalsociety.ca
SUMMARY:Canada Day
DESCRIPTION:
URL:https://sudburydistrictdentalsociety.ca/oncall/canada-day-5/
END:VEVENT
BEGIN:VEVENT
DTSTART;TZID=UTC:20260701T090000
DTEND;TZID=UTC:20260701T090000
DTSTAMP:20260422T225658
CREATED:20260114T190554Z
LAST-MODIFIED:20260114T190554Z
UID:5507-1782896400-1782896400@sudburydistrictdentalsociety.ca
SUMMARY:Dr. Reich
DESCRIPTION:
URL:https://sudburydistrictdentalsociety.ca/oncall/dr-reich-55/
END:VEVENT
BEGIN:VEVENT
DTSTART;TZID=UTC:20260702T080000
DTEND;TZID=UTC:20260702T080000
DTSTAMP:20260422T225658
CREATED:20260114T190555Z
LAST-MODIFIED:20260114T190555Z
UID:5508-1782979200-1782979200@sudburydistrictdentalsociety.ca
SUMMARY:Dr. Racicot
DESCRIPTION:
URL:https://sudburydistrictdentalsociety.ca/oncall/dr-racicot-59/
END:VEVENT
BEGIN:VEVENT
DTSTART;TZID=UTC:20260703T090000
DTEND;TZID=UTC:20260703T090000
DTSTAMP:20260422T225658
CREATED:20260114T190556Z
LAST-MODIFIED:20260114T190556Z
UID:5509-1783069200-1783069200@sudburydistrictdentalsociety.ca
SUMMARY:Dr. Racicot
DESCRIPTION:
URL:https://sudburydistrictdentalsociety.ca/oncall/dr-racicot-60/
END:VEVENT
BEGIN:VEVENT
DTSTART;TZID=UTC:20260704T090000
DTEND;TZID=UTC:20260704T090000
DTSTAMP:20260422T225658
CREATED:20260114T190557Z
LAST-MODIFIED:20260114T190557Z
UID:5510-1783155600-1783155600@sudburydistrictdentalsociety.ca
SUMMARY:Dr. Racicot
DESCRIPTION:
URL:https://sudburydistrictdentalsociety.ca/oncall/dr-racicot-61/
END:VEVENT
BEGIN:VEVENT
DTSTART;TZID=UTC:20260705T090000
DTEND;TZID=UTC:20260705T090000
DTSTAMP:20260422T225658
CREATED:20260114T190640Z
LAST-MODIFIED:20260114T190640Z
UID:5511-1783242000-1783242000@sudburydistrictdentalsociety.ca
SUMMARY:Dr. Racicot
DESCRIPTION:
URL:https://sudburydistrictdentalsociety.ca/oncall/dr-racicot-62/
END:VEVENT
BEGIN:VEVENT
DTSTART;TZID=UTC:20260706T080000
DTEND;TZID=UTC:20260706T080000
DTSTAMP:20260422T225658
CREATED:20260114T190641Z
LAST-MODIFIED:20260114T190641Z
UID:5512-1783324800-1783324800@sudburydistrictdentalsociety.ca
SUMMARY:Dr. Racicot
DESCRIPTION:
URL:https://sudburydistrictdentalsociety.ca/oncall/dr-racicot-63/
END:VEVENT
BEGIN:VEVENT
DTSTART;TZID=UTC:20260707T080000
DTEND;TZID=UTC:20260707T080000
DTSTAMP:20260422T225658
CREATED:20260114T190641Z
LAST-MODIFIED:20260114T190641Z
UID:5513-1783411200-1783411200@sudburydistrictdentalsociety.ca
SUMMARY:Dr. Racicot
DESCRIPTION:
URL:https://sudburydistrictdentalsociety.ca/oncall/dr-racicot-64/
END:VEVENT
BEGIN:VEVENT
DTSTART;TZID=UTC:20260708T080000
DTEND;TZID=UTC:20260708T080000
DTSTAMP:20260422T225658
CREATED:20260114T190642Z
LAST-MODIFIED:20260114T190642Z
UID:5514-1783497600-1783497600@sudburydistrictdentalsociety.ca
SUMMARY:Dr. Mate
DESCRIPTION:
URL:https://sudburydistrictdentalsociety.ca/oncall/dr-mate-43/
END:VEVENT
BEGIN:VEVENT
DTSTART;TZID=UTC:20260709T080000
DTEND;TZID=UTC:20260709T080000
DTSTAMP:20260422T225658
CREATED:20260114T190642Z
LAST-MODIFIED:20260114T190642Z
UID:5515-1783584000-1783584000@sudburydistrictdentalsociety.ca
SUMMARY:Dr. Racicot
DESCRIPTION:
URL:https://sudburydistrictdentalsociety.ca/oncall/dr-racicot-65/
END:VEVENT
BEGIN:VEVENT
DTSTART;TZID=UTC:20260710T090000
DTEND;TZID=UTC:20260710T090000
DTSTAMP:20260422T225658
CREATED:20260114T190655Z
LAST-MODIFIED:20260114T190655Z
UID:5516-1783674000-1783674000@sudburydistrictdentalsociety.ca
SUMMARY:Dr. Wilson
DESCRIPTION:
URL:https://sudburydistrictdentalsociety.ca/oncall/dr-wilson-62/
END:VEVENT
BEGIN:VEVENT
DTSTART;TZID=UTC:20260711T090000
DTEND;TZID=UTC:20260711T090000
DTSTAMP:20260422T225658
CREATED:20260114T190655Z
LAST-MODIFIED:20260114T190655Z
UID:5517-1783760400-1783760400@sudburydistrictdentalsociety.ca
SUMMARY:Dr. Reich
DESCRIPTION:
URL:https://sudburydistrictdentalsociety.ca/oncall/dr-reich-56/
END:VEVENT
BEGIN:VEVENT
DTSTART;TZID=UTC:20260712T090000
DTEND;TZID=UTC:20260712T090000
DTSTAMP:20260422T225658
CREATED:20260114T190656Z
LAST-MODIFIED:20260114T190656Z
UID:5518-1783846800-1783846800@sudburydistrictdentalsociety.ca
SUMMARY:Dr. Reich
DESCRIPTION:
URL:https://sudburydistrictdentalsociety.ca/oncall/dr-reich-57/
END:VEVENT
BEGIN:VEVENT
DTSTART;TZID=UTC:20260713T080000
DTEND;TZID=UTC:20260713T080000
DTSTAMP:20260422T225658
CREATED:20260114T190656Z
LAST-MODIFIED:20260114T190656Z
UID:5519-1783929600-1783929600@sudburydistrictdentalsociety.ca
SUMMARY:Dr. Reich
DESCRIPTION:
URL:https://sudburydistrictdentalsociety.ca/oncall/dr-reich-58/
END:VEVENT
BEGIN:VEVENT
DTSTART;TZID=UTC:20260714T080000
DTEND;TZID=UTC:20260714T080000
DTSTAMP:20260422T225658
CREATED:20260114T190657Z
LAST-MODIFIED:20260114T190657Z
UID:5520-1784016000-1784016000@sudburydistrictdentalsociety.ca
SUMMARY:Dr. Reich
DESCRIPTION:
URL:https://sudburydistrictdentalsociety.ca/oncall/dr-reich-59/
END:VEVENT
BEGIN:VEVENT
DTSTART;TZID=UTC:20260715T080000
DTEND;TZID=UTC:20260715T080000
DTSTAMP:20260422T225658
CREATED:20260114T190856Z
LAST-MODIFIED:20260114T190856Z
UID:5521-1784102400-1784102400@sudburydistrictdentalsociety.ca
SUMMARY:Dr. Reich
DESCRIPTION:
URL:https://sudburydistrictdentalsociety.ca/oncall/dr-reich-60/
END:VEVENT
BEGIN:VEVENT
DTSTART;TZID=UTC:20260716T080000
DTEND;TZID=UTC:20260716T080000
DTSTAMP:20260422T225658
CREATED:20260114T190856Z
LAST-MODIFIED:20260114T190856Z
UID:5522-1784188800-1784188800@sudburydistrictdentalsociety.ca
SUMMARY:Dr. Reich
DESCRIPTION:
URL:https://sudburydistrictdentalsociety.ca/oncall/dr-reich-61/
END:VEVENT
BEGIN:VEVENT
DTSTART;TZID=UTC:20260717T090000
DTEND;TZID=UTC:20260717T090000
DTSTAMP:20260422T225658
CREATED:20260114T190857Z
LAST-MODIFIED:20260114T190857Z
UID:5523-1784278800-1784278800@sudburydistrictdentalsociety.ca
SUMMARY:Dr. Talavia
DESCRIPTION:
URL:https://sudburydistrictdentalsociety.ca/oncall/dr-talavia-8/
END:VEVENT
BEGIN:VEVENT
DTSTART;TZID=UTC:20260718T090000
DTEND;TZID=UTC:20260718T090000
DTSTAMP:20260422T225658
CREATED:20260114T190857Z
LAST-MODIFIED:20260114T190857Z
UID:5524-1784365200-1784365200@sudburydistrictdentalsociety.ca
SUMMARY:Dr. Talavia
DESCRIPTION:
URL:https://sudburydistrictdentalsociety.ca/oncall/dr-talavia-9/
END:VEVENT
BEGIN:VEVENT
DTSTART;TZID=UTC:20260719T090000
DTEND;TZID=UTC:20260719T090000
DTSTAMP:20260422T225658
CREATED:20260114T190858Z
LAST-MODIFIED:20260114T190858Z
UID:5525-1784451600-1784451600@sudburydistrictdentalsociety.ca
SUMMARY:Dr. Talavia
DESCRIPTION:
URL:https://sudburydistrictdentalsociety.ca/oncall/dr-talavia-10/
END:VEVENT
BEGIN:VEVENT
DTSTART;TZID=UTC:20260720T080000
DTEND;TZID=UTC:20260720T080000
DTSTAMP:20260422T225658
CREATED:20260114T191057Z
LAST-MODIFIED:20260114T191057Z
UID:5526-1784534400-1784534400@sudburydistrictdentalsociety.ca
SUMMARY:Dr. Talavia
DESCRIPTION:
URL:https://sudburydistrictdentalsociety.ca/oncall/dr-talavia-11/
END:VEVENT
BEGIN:VEVENT
DTSTART;TZID=UTC:20260721T080000
DTEND;TZID=UTC:20260721T080000
DTSTAMP:20260422T225658
CREATED:20260114T191057Z
LAST-MODIFIED:20260114T191057Z
UID:5527-1784620800-1784620800@sudburydistrictdentalsociety.ca
SUMMARY:Dr. Talavia
DESCRIPTION:
URL:https://sudburydistrictdentalsociety.ca/oncall/dr-talavia-12/
END:VEVENT
BEGIN:VEVENT
DTSTART;TZID=UTC:20260722T080000
DTEND;TZID=UTC:20260722T080000
DTSTAMP:20260422T225658
CREATED:20260114T191058Z
LAST-MODIFIED:20260114T191058Z
UID:5528-1784707200-1784707200@sudburydistrictdentalsociety.ca
SUMMARY:Dr. Talavia
DESCRIPTION:
URL:https://sudburydistrictdentalsociety.ca/oncall/dr-talavia-13/
END:VEVENT
BEGIN:VEVENT
DTSTART;TZID=UTC:20260723T080000
DTEND;TZID=UTC:20260723T080000
DTSTAMP:20260422T225658
CREATED:20260114T191058Z
LAST-MODIFIED:20260114T191058Z
UID:5529-1784793600-1784793600@sudburydistrictdentalsociety.ca
SUMMARY:Dr. Talavia
DESCRIPTION:
URL:https://sudburydistrictdentalsociety.ca/oncall/dr-talavia-14/
END:VEVENT
BEGIN:VEVENT
DTSTART;TZID=UTC:20260724T090000
DTEND;TZID=UTC:20260724T090000
DTSTAMP:20260422T225658
CREATED:20260114T191059Z
LAST-MODIFIED:20260114T191059Z
UID:5530-1784883600-1784883600@sudburydistrictdentalsociety.ca
SUMMARY:Dr. Treleaven
DESCRIPTION:
URL:https://sudburydistrictdentalsociety.ca/oncall/dr-treleaven-61/
END:VEVENT
BEGIN:VEVENT
DTSTART;TZID=UTC:20260725T090000
DTEND;TZID=UTC:20260725T090000
DTSTAMP:20260422T225658
CREATED:20260114T191258Z
LAST-MODIFIED:20260114T191258Z
UID:5531-1784970000-1784970000@sudburydistrictdentalsociety.ca
SUMMARY:Dr. Treleaven
DESCRIPTION:
URL:https://sudburydistrictdentalsociety.ca/oncall/dr-treleaven-62/
END:VEVENT
BEGIN:VEVENT
DTSTART;TZID=UTC:20260726T090000
DTEND;TZID=UTC:20260726T090000
DTSTAMP:20260422T225658
CREATED:20260114T191258Z
LAST-MODIFIED:20260114T191258Z
UID:5532-1785056400-1785056400@sudburydistrictdentalsociety.ca
SUMMARY:Dr. Treleaven
DESCRIPTION:
URL:https://sudburydistrictdentalsociety.ca/oncall/dr-treleaven-63/
END:VEVENT
BEGIN:VEVENT
DTSTART;TZID=UTC:20260727T080000
DTEND;TZID=UTC:20260727T080000
DTSTAMP:20260422T225658
CREATED:20260114T191259Z
LAST-MODIFIED:20260114T191259Z
UID:5533-1785139200-1785139200@sudburydistrictdentalsociety.ca
SUMMARY:Dr. Treleaven
DESCRIPTION:
URL:https://sudburydistrictdentalsociety.ca/oncall/dr-treleaven-64/
END:VEVENT
BEGIN:VEVENT
DTSTART;TZID=UTC:20260728T080000
DTEND;TZID=UTC:20260728T080000
DTSTAMP:20260422T225658
CREATED:20260114T191300Z
LAST-MODIFIED:20260114T191300Z
UID:5534-1785225600-1785225600@sudburydistrictdentalsociety.ca
SUMMARY:Dr. Treleaven
DESCRIPTION:
URL:https://sudburydistrictdentalsociety.ca/oncall/dr-treleaven-65/
END:VEVENT
BEGIN:VEVENT
DTSTART;TZID=UTC:20260729T080000
DTEND;TZID=UTC:20260729T080000
DTSTAMP:20260422T225658
CREATED:20260114T191301Z
LAST-MODIFIED:20260114T191301Z
UID:5535-1785312000-1785312000@sudburydistrictdentalsociety.ca
SUMMARY:Dr. Treleaven
DESCRIPTION:
URL:https://sudburydistrictdentalsociety.ca/oncall/dr-treleaven-66/
END:VEVENT
END:VCALENDAR