BEGIN:VCALENDAR
VERSION:2.0
PRODID:-//Sudbury &amp; District Dental Society - ECPv6.15.20//NONSGML v1.0//EN
CALSCALE:GREGORIAN
METHOD:PUBLISH
X-ORIGINAL-URL:https://sudburydistrictdentalsociety.ca
X-WR-CALDESC:Events for Sudbury &amp; District Dental Society
REFRESH-INTERVAL;VALUE=DURATION:PT1H
X-Robots-Tag:noindex
X-PUBLISHED-TTL:PT1H
BEGIN:VTIMEZONE
TZID:UTC
BEGIN:STANDARD
TZOFFSETFROM:+0000
TZOFFSETTO:+0000
TZNAME:UTC
DTSTART:20230101T000000
END:STANDARD
END:VTIMEZONE
BEGIN:VEVENT
DTSTART;TZID=UTC:20241001T080000
DTEND;TZID=UTC:20241001T080000
DTSTAMP:20260423T105117
CREATED:20240121T222453Z
LAST-MODIFIED:20240121T222453Z
UID:4812-1727769600-1727769600@sudburydistrictdentalsociety.ca
SUMMARY:Dr. Boljkovac
DESCRIPTION:
URL:https://sudburydistrictdentalsociety.ca/oncall/dr-boljkovac-10/
END:VEVENT
BEGIN:VEVENT
DTSTART;TZID=UTC:20241002T080000
DTEND;TZID=UTC:20241002T080000
DTSTAMP:20260423T105117
CREATED:20240121T222454Z
LAST-MODIFIED:20240121T222454Z
UID:4813-1727856000-1727856000@sudburydistrictdentalsociety.ca
SUMMARY:Dr. Gareau
DESCRIPTION:
URL:https://sudburydistrictdentalsociety.ca/oncall/dr-gareau-47/
END:VEVENT
BEGIN:VEVENT
DTSTART;TZID=UTC:20241003T080000
DTEND;TZID=UTC:20241003T080000
DTSTAMP:20260423T105117
CREATED:20240121T222508Z
LAST-MODIFIED:20240121T222508Z
UID:4814-1727942400-1727942400@sudburydistrictdentalsociety.ca
SUMMARY:Dr. Boljkovac
DESCRIPTION:
URL:https://sudburydistrictdentalsociety.ca/oncall/dr-boljkovac-11/
END:VEVENT
BEGIN:VEVENT
DTSTART;TZID=UTC:20241004T090000
DTEND;TZID=UTC:20241004T090000
DTSTAMP:20260423T105117
CREATED:20240121T222508Z
LAST-MODIFIED:20240121T222508Z
UID:4815-1728032400-1728032400@sudburydistrictdentalsociety.ca
SUMMARY:Dr. Richards
DESCRIPTION:
URL:https://sudburydistrictdentalsociety.ca/oncall/dr-richards-44/
END:VEVENT
BEGIN:VEVENT
DTSTART;TZID=UTC:20241005T090000
DTEND;TZID=UTC:20241005T090000
DTSTAMP:20260423T105117
CREATED:20240121T222508Z
LAST-MODIFIED:20240121T222508Z
UID:4816-1728118800-1728118800@sudburydistrictdentalsociety.ca
SUMMARY:Dr. Kosnik
DESCRIPTION:
URL:https://sudburydistrictdentalsociety.ca/oncall/dr-kosnik-18/
END:VEVENT
BEGIN:VEVENT
DTSTART;TZID=UTC:20241006T090000
DTEND;TZID=UTC:20241006T090000
DTSTAMP:20260423T105117
CREATED:20240121T222508Z
LAST-MODIFIED:20240121T222508Z
UID:4817-1728205200-1728205200@sudburydistrictdentalsociety.ca
SUMMARY:Dr. Chintan
DESCRIPTION:
URL:https://sudburydistrictdentalsociety.ca/oncall/dr-chintan-15/
END:VEVENT
BEGIN:VEVENT
DTSTART;TZID=UTC:20241007T090000
DTEND;TZID=UTC:20241007T090000
DTSTAMP:20260423T105117
CREATED:20240121T222509Z
LAST-MODIFIED:20240121T222509Z
UID:4818-1728291600-1728291600@sudburydistrictdentalsociety.ca
SUMMARY:Dr. Wilson
DESCRIPTION:
URL:https://sudburydistrictdentalsociety.ca/oncall/dr-wilson-50/
END:VEVENT
BEGIN:VEVENT
DTSTART;TZID=UTC:20241008T080000
DTEND;TZID=UTC:20241008T080000
DTSTAMP:20260423T105117
CREATED:20240121T222523Z
LAST-MODIFIED:20240121T222523Z
UID:4819-1728374400-1728374400@sudburydistrictdentalsociety.ca
SUMMARY:Dr. Vyas
DESCRIPTION:
URL:https://sudburydistrictdentalsociety.ca/oncall/dr-vyas-13/
END:VEVENT
BEGIN:VEVENT
DTSTART;TZID=UTC:20241009T080000
DTEND;TZID=UTC:20241009T080000
DTSTAMP:20260423T105117
CREATED:20240121T222523Z
LAST-MODIFIED:20240121T222523Z
UID:4820-1728460800-1728460800@sudburydistrictdentalsociety.ca
SUMMARY:Dr. Gerhart
DESCRIPTION:
URL:https://sudburydistrictdentalsociety.ca/oncall/dr-gerhart-48/
END:VEVENT
BEGIN:VEVENT
DTSTART;TZID=UTC:20241010T080000
DTEND;TZID=UTC:20241010T080000
DTSTAMP:20260423T105117
CREATED:20240121T222523Z
LAST-MODIFIED:20240121T222523Z
UID:4821-1728547200-1728547200@sudburydistrictdentalsociety.ca
SUMMARY:Dr. Kathikeyan
DESCRIPTION:
URL:https://sudburydistrictdentalsociety.ca/oncall/dr-kathikeyan-2/
END:VEVENT
BEGIN:VEVENT
DTSTART;TZID=UTC:20241011T090000
DTEND;TZID=UTC:20241011T090000
DTSTAMP:20260423T105117
CREATED:20240121T222524Z
LAST-MODIFIED:20240121T222524Z
UID:4822-1728637200-1728637200@sudburydistrictdentalsociety.ca
SUMMARY:Dr. Richards
DESCRIPTION:
URL:https://sudburydistrictdentalsociety.ca/oncall/dr-richards-45/
END:VEVENT
BEGIN:VEVENT
DTSTART;TZID=UTC:20241012T090000
DTEND;TZID=UTC:20241012T090000
DTSTAMP:20260423T105117
CREATED:20240121T222524Z
LAST-MODIFIED:20240121T222524Z
UID:4823-1728723600-1728723600@sudburydistrictdentalsociety.ca
SUMMARY:Dr. Lapalme
DESCRIPTION:
URL:https://sudburydistrictdentalsociety.ca/oncall/dr-lapalme-45/
END:VEVENT
BEGIN:VEVENT
DTSTART;TZID=UTC:20241013T090000
DTEND;TZID=UTC:20241013T090000
DTSTAMP:20260423T105117
CREATED:20240121T222538Z
LAST-MODIFIED:20240121T222538Z
UID:4824-1728810000-1728810000@sudburydistrictdentalsociety.ca
SUMMARY:Dr. Lapalme
DESCRIPTION:
URL:https://sudburydistrictdentalsociety.ca/oncall/dr-lapalme-46/
END:VEVENT
BEGIN:VEVENT
DTSTART;VALUE=DATE:20241014
DTEND;VALUE=DATE:20241016
DTSTAMP:20260423T105117
CREATED:20240121T220727Z
LAST-MODIFIED:20240121T222953Z
UID:4534-1728867600-1728953999@sudburydistrictdentalsociety.ca
SUMMARY:THANKSGIVING
DESCRIPTION:
URL:https://sudburydistrictdentalsociety.ca/oncall/thanksgiving/
END:VEVENT
BEGIN:VEVENT
DTSTART;TZID=UTC:20241014T080000
DTEND;TZID=UTC:20241014T080000
DTSTAMP:20260423T105117
CREATED:20240121T222538Z
LAST-MODIFIED:20240121T222538Z
UID:4825-1728892800-1728892800@sudburydistrictdentalsociety.ca
SUMMARY:Dr. Lapalme
DESCRIPTION:
URL:https://sudburydistrictdentalsociety.ca/oncall/dr-lapalme-47/
END:VEVENT
BEGIN:VEVENT
DTSTART;TZID=UTC:20241015T080000
DTEND;TZID=UTC:20241015T080000
DTSTAMP:20260423T105117
CREATED:20240121T222538Z
LAST-MODIFIED:20240121T222538Z
UID:4826-1728979200-1728979200@sudburydistrictdentalsociety.ca
SUMMARY:Dr. Lapalme
DESCRIPTION:
URL:https://sudburydistrictdentalsociety.ca/oncall/dr-lapalme-48/
END:VEVENT
BEGIN:VEVENT
DTSTART;TZID=UTC:20241016T080000
DTEND;TZID=UTC:20241016T080000
DTSTAMP:20260423T105117
CREATED:20240121T222538Z
LAST-MODIFIED:20240121T222538Z
UID:4827-1729065600-1729065600@sudburydistrictdentalsociety.ca
SUMMARY:Dr. Lapalme
DESCRIPTION:
URL:https://sudburydistrictdentalsociety.ca/oncall/dr-lapalme-49/
END:VEVENT
BEGIN:VEVENT
DTSTART;TZID=UTC:20241017T080000
DTEND;TZID=UTC:20241017T080000
DTSTAMP:20260423T105117
CREATED:20240121T222539Z
LAST-MODIFIED:20240121T222539Z
UID:4828-1729152000-1729152000@sudburydistrictdentalsociety.ca
SUMMARY:Dr. Lapalme
DESCRIPTION:
URL:https://sudburydistrictdentalsociety.ca/oncall/dr-lapalme-50/
END:VEVENT
BEGIN:VEVENT
DTSTART;TZID=UTC:20241018T090000
DTEND;TZID=UTC:20241018T090000
DTSTAMP:20260423T105117
CREATED:20240121T222553Z
LAST-MODIFIED:20240121T222553Z
UID:4829-1729242000-1729242000@sudburydistrictdentalsociety.ca
SUMMARY:Dr. Lapalme
DESCRIPTION:
URL:https://sudburydistrictdentalsociety.ca/oncall/dr-lapalme-51/
END:VEVENT
BEGIN:VEVENT
DTSTART;TZID=UTC:20241019T090000
DTEND;TZID=UTC:20241019T090000
DTSTAMP:20260423T105117
CREATED:20240121T222553Z
LAST-MODIFIED:20240121T222553Z
UID:4830-1729328400-1729328400@sudburydistrictdentalsociety.ca
SUMMARY:Dr. Huffman
DESCRIPTION:
URL:https://sudburydistrictdentalsociety.ca/oncall/dr-huffman-13/
END:VEVENT
BEGIN:VEVENT
DTSTART;TZID=UTC:20241020T090000
DTEND;TZID=UTC:20241020T090000
DTSTAMP:20260423T105117
CREATED:20240121T222553Z
LAST-MODIFIED:20240121T222553Z
UID:4831-1729414800-1729414800@sudburydistrictdentalsociety.ca
SUMMARY:Dr. Huffman
DESCRIPTION:
URL:https://sudburydistrictdentalsociety.ca/oncall/dr-huffman-14/
END:VEVENT
BEGIN:VEVENT
DTSTART;TZID=UTC:20241021T080000
DTEND;TZID=UTC:20241021T080000
DTSTAMP:20260423T105117
CREATED:20240121T222553Z
LAST-MODIFIED:20240121T222553Z
UID:4832-1729497600-1729497600@sudburydistrictdentalsociety.ca
SUMMARY:Dr. Deol
DESCRIPTION:
URL:https://sudburydistrictdentalsociety.ca/oncall/dr-deol-35/
END:VEVENT
BEGIN:VEVENT
DTSTART;TZID=UTC:20241022T080000
DTEND;TZID=UTC:20241022T080000
DTSTAMP:20260423T105117
CREATED:20240121T222554Z
LAST-MODIFIED:20240121T222554Z
UID:4833-1729584000-1729584000@sudburydistrictdentalsociety.ca
SUMMARY:Dr. Virani
DESCRIPTION:
URL:https://sudburydistrictdentalsociety.ca/oncall/dr-virani-21/
END:VEVENT
BEGIN:VEVENT
DTSTART;TZID=UTC:20241023T080000
DTEND;TZID=UTC:20241023T080000
DTSTAMP:20260423T105117
CREATED:20240121T222608Z
LAST-MODIFIED:20240121T222608Z
UID:4834-1729670400-1729670400@sudburydistrictdentalsociety.ca
SUMMARY:Dr. Virani
DESCRIPTION:
URL:https://sudburydistrictdentalsociety.ca/oncall/dr-virani-22/
END:VEVENT
BEGIN:VEVENT
DTSTART;TZID=UTC:20241024T080000
DTEND;TZID=UTC:20241024T080000
DTSTAMP:20260423T105117
CREATED:20240121T222608Z
LAST-MODIFIED:20240121T222608Z
UID:4835-1729756800-1729756800@sudburydistrictdentalsociety.ca
SUMMARY:Dr. Casson
DESCRIPTION:
URL:https://sudburydistrictdentalsociety.ca/oncall/dr-casson-6/
END:VEVENT
BEGIN:VEVENT
DTSTART;TZID=UTC:20241025T090000
DTEND;TZID=UTC:20241025T090000
DTSTAMP:20260423T105117
CREATED:20240121T222608Z
LAST-MODIFIED:20240121T222608Z
UID:4836-1729846800-1729846800@sudburydistrictdentalsociety.ca
SUMMARY:Dr. Racicot
DESCRIPTION:
URL:https://sudburydistrictdentalsociety.ca/oncall/dr-racicot-50/
END:VEVENT
BEGIN:VEVENT
DTSTART;TZID=UTC:20241026T090000
DTEND;TZID=UTC:20241026T090000
DTSTAMP:20260423T105117
CREATED:20240121T222608Z
LAST-MODIFIED:20240121T222608Z
UID:4837-1729933200-1729933200@sudburydistrictdentalsociety.ca
SUMMARY:Dr. Karthikeyan
DESCRIPTION:
URL:https://sudburydistrictdentalsociety.ca/oncall/dr-karthikeyan-13/
END:VEVENT
BEGIN:VEVENT
DTSTART;TZID=UTC:20241027T090000
DTEND;TZID=UTC:20241027T090000
DTSTAMP:20260423T105117
CREATED:20240121T222609Z
LAST-MODIFIED:20240121T222609Z
UID:4838-1730019600-1730019600@sudburydistrictdentalsociety.ca
SUMMARY:Dr. Keenan
DESCRIPTION:
URL:https://sudburydistrictdentalsociety.ca/oncall/dr-keenan-51/
END:VEVENT
BEGIN:VEVENT
DTSTART;TZID=UTC:20241028T080000
DTEND;TZID=UTC:20241028T080000
DTSTAMP:20260423T105117
CREATED:20240121T222623Z
LAST-MODIFIED:20240121T222623Z
UID:4839-1730102400-1730102400@sudburydistrictdentalsociety.ca
SUMMARY:Dr. Bubnik
DESCRIPTION:
URL:https://sudburydistrictdentalsociety.ca/oncall/dr-bubnik-45/
END:VEVENT
BEGIN:VEVENT
DTSTART;TZID=UTC:20241029T080000
DTEND;TZID=UTC:20241029T080000
DTSTAMP:20260423T105117
CREATED:20240121T222623Z
LAST-MODIFIED:20240121T222623Z
UID:4840-1730188800-1730188800@sudburydistrictdentalsociety.ca
SUMMARY:Dr. Chintan
DESCRIPTION:
URL:https://sudburydistrictdentalsociety.ca/oncall/dr-chintan-16/
END:VEVENT
END:VCALENDAR