BEGIN:VCALENDAR
VERSION:2.0
PRODID:-//Sudbury &amp; District Dental Society - ECPv6.15.20//NONSGML v1.0//EN
CALSCALE:GREGORIAN
METHOD:PUBLISH
X-WR-CALNAME:Sudbury &amp; District Dental Society
X-ORIGINAL-URL:https://sudburydistrictdentalsociety.ca
X-WR-CALDESC:Events for Sudbury &amp; District Dental Society
REFRESH-INTERVAL;VALUE=DURATION:PT1H
X-Robots-Tag:noindex
X-PUBLISHED-TTL:PT1H
BEGIN:VTIMEZONE
TZID:UTC
BEGIN:STANDARD
TZOFFSETFROM:+0000
TZOFFSETTO:+0000
TZNAME:UTC
DTSTART:20240101T000000
END:STANDARD
END:VTIMEZONE
BEGIN:VEVENT
DTSTART;TZID=UTC:20250601T090000
DTEND;TZID=UTC:20250601T090000
DTSTAMP:20260422T223348
CREATED:20250101T000343Z
LAST-MODIFIED:20250101T000343Z
UID:5077-1748768400-1748768400@sudburydistrictdentalsociety.ca
SUMMARY:Dr. Medarametla
DESCRIPTION:
URL:https://sudburydistrictdentalsociety.ca/oncall/dr-medarametla-2/
END:VEVENT
BEGIN:VEVENT
DTSTART;TZID=UTC:20250602T080000
DTEND;TZID=UTC:20250602T080000
DTSTAMP:20260422T223348
CREATED:20250101T000343Z
LAST-MODIFIED:20250101T000343Z
UID:5078-1748851200-1748851200@sudburydistrictdentalsociety.ca
SUMMARY:Dr. Medarametla
DESCRIPTION:
URL:https://sudburydistrictdentalsociety.ca/oncall/dr-medarametla-3/
END:VEVENT
BEGIN:VEVENT
DTSTART;TZID=UTC:20250603T080000
DTEND;TZID=UTC:20250603T080000
DTSTAMP:20260422T223348
CREATED:20250101T000343Z
LAST-MODIFIED:20250101T000343Z
UID:5079-1748937600-1748937600@sudburydistrictdentalsociety.ca
SUMMARY:Dr. Medarametla
DESCRIPTION:
URL:https://sudburydistrictdentalsociety.ca/oncall/dr-medarametla-4/
END:VEVENT
BEGIN:VEVENT
DTSTART;TZID=UTC:20250604T080000
DTEND;TZID=UTC:20250604T080000
DTSTAMP:20260422T223348
CREATED:20250101T000344Z
LAST-MODIFIED:20250101T000344Z
UID:5080-1749024000-1749024000@sudburydistrictdentalsociety.ca
SUMMARY:Dr. Medarametla
DESCRIPTION:
URL:https://sudburydistrictdentalsociety.ca/oncall/dr-medarametla-5/
END:VEVENT
BEGIN:VEVENT
DTSTART;TZID=UTC:20250605T080000
DTEND;TZID=UTC:20250605T080000
DTSTAMP:20260422T223348
CREATED:20250101T000358Z
LAST-MODIFIED:20250101T000358Z
UID:5081-1749110400-1749110400@sudburydistrictdentalsociety.ca
SUMMARY:Dr. Amos
DESCRIPTION:
URL:https://sudburydistrictdentalsociety.ca/oncall/dr-amos-22/
END:VEVENT
BEGIN:VEVENT
DTSTART;TZID=UTC:20250606T090000
DTEND;TZID=UTC:20250606T090000
DTSTAMP:20260422T223348
CREATED:20250101T000358Z
LAST-MODIFIED:20250101T000358Z
UID:5082-1749200400-1749200400@sudburydistrictdentalsociety.ca
SUMMARY:Dr. Amos
DESCRIPTION:
URL:https://sudburydistrictdentalsociety.ca/oncall/dr-amos-23/
END:VEVENT
BEGIN:VEVENT
DTSTART;TZID=UTC:20250607T090000
DTEND;TZID=UTC:20250607T090000
DTSTAMP:20260422T223348
CREATED:20250101T000358Z
LAST-MODIFIED:20250101T000358Z
UID:5083-1749286800-1749286800@sudburydistrictdentalsociety.ca
SUMMARY:Dr. Medarametla
DESCRIPTION:
URL:https://sudburydistrictdentalsociety.ca/oncall/dr-medarametla-6/
END:VEVENT
BEGIN:VEVENT
DTSTART;TZID=UTC:20250608T090000
DTEND;TZID=UTC:20250608T090000
DTSTAMP:20260422T223348
CREATED:20250101T000358Z
LAST-MODIFIED:20250101T000358Z
UID:5084-1749373200-1749373200@sudburydistrictdentalsociety.ca
SUMMARY:Dr. Rogers
DESCRIPTION:
URL:https://sudburydistrictdentalsociety.ca/oncall/dr-rogers-49/
END:VEVENT
BEGIN:VEVENT
DTSTART;TZID=UTC:20250609T080000
DTEND;TZID=UTC:20250609T080000
DTSTAMP:20260422T223348
CREATED:20250101T000359Z
LAST-MODIFIED:20250101T000359Z
UID:5085-1749456000-1749456000@sudburydistrictdentalsociety.ca
SUMMARY:Dr. Medarametla
DESCRIPTION:
URL:https://sudburydistrictdentalsociety.ca/oncall/dr-medarametla-7/
END:VEVENT
BEGIN:VEVENT
DTSTART;TZID=UTC:20250610T080000
DTEND;TZID=UTC:20250610T080000
DTSTAMP:20260422T223348
CREATED:20250101T000413Z
LAST-MODIFIED:20250101T000413Z
UID:5086-1749542400-1749542400@sudburydistrictdentalsociety.ca
SUMMARY:Dr. Medarametla
DESCRIPTION:
URL:https://sudburydistrictdentalsociety.ca/oncall/dr-medarametla-8/
END:VEVENT
BEGIN:VEVENT
DTSTART;TZID=UTC:20250611T080000
DTEND;TZID=UTC:20250611T080000
DTSTAMP:20260422T223348
CREATED:20250101T000413Z
LAST-MODIFIED:20250101T000413Z
UID:5087-1749628800-1749628800@sudburydistrictdentalsociety.ca
SUMMARY:Dr. Majic
DESCRIPTION:
URL:https://sudburydistrictdentalsociety.ca/oncall/dr-majic-40/
END:VEVENT
BEGIN:VEVENT
DTSTART;TZID=UTC:20250612T080000
DTEND;TZID=UTC:20250612T080000
DTSTAMP:20260422T223348
CREATED:20250101T000413Z
LAST-MODIFIED:20250101T000413Z
UID:5088-1749715200-1749715200@sudburydistrictdentalsociety.ca
SUMMARY:Dr. Majic
DESCRIPTION:
URL:https://sudburydistrictdentalsociety.ca/oncall/dr-majic-41/
END:VEVENT
BEGIN:VEVENT
DTSTART;TZID=UTC:20250613T090000
DTEND;TZID=UTC:20250613T090000
DTSTAMP:20260422T223348
CREATED:20250101T000413Z
LAST-MODIFIED:20250101T000413Z
UID:5089-1749805200-1749805200@sudburydistrictdentalsociety.ca
SUMMARY:Dr. Majic
DESCRIPTION:
URL:https://sudburydistrictdentalsociety.ca/oncall/dr-majic-42/
END:VEVENT
BEGIN:VEVENT
DTSTART;TZID=UTC:20250614T090000
DTEND;TZID=UTC:20250614T090000
DTSTAMP:20260422T223348
CREATED:20250101T000414Z
LAST-MODIFIED:20250101T000414Z
UID:5090-1749891600-1749891600@sudburydistrictdentalsociety.ca
SUMMARY:Dr. Majic
DESCRIPTION:
URL:https://sudburydistrictdentalsociety.ca/oncall/dr-majic-43/
END:VEVENT
BEGIN:VEVENT
DTSTART;TZID=UTC:20250615T090000
DTEND;TZID=UTC:20250615T090000
DTSTAMP:20260422T223348
CREATED:20250101T000428Z
LAST-MODIFIED:20250101T000428Z
UID:5091-1749978000-1749978000@sudburydistrictdentalsociety.ca
SUMMARY:Dr. Amos
DESCRIPTION:
URL:https://sudburydistrictdentalsociety.ca/oncall/dr-amos-24/
END:VEVENT
BEGIN:VEVENT
DTSTART;TZID=UTC:20250616T080000
DTEND;TZID=UTC:20250616T080000
DTSTAMP:20260422T223348
CREATED:20250101T000428Z
LAST-MODIFIED:20250101T000428Z
UID:5092-1750060800-1750060800@sudburydistrictdentalsociety.ca
SUMMARY:Dr. Treleaven
DESCRIPTION:
URL:https://sudburydistrictdentalsociety.ca/oncall/dr-treleaven-50/
END:VEVENT
BEGIN:VEVENT
DTSTART;TZID=UTC:20250617T080000
DTEND;TZID=UTC:20250617T080000
DTSTAMP:20260422T223348
CREATED:20250101T000428Z
LAST-MODIFIED:20250101T000428Z
UID:5093-1750147200-1750147200@sudburydistrictdentalsociety.ca
SUMMARY:Dr. Treleaven
DESCRIPTION:
URL:https://sudburydistrictdentalsociety.ca/oncall/dr-treleaven-51/
END:VEVENT
BEGIN:VEVENT
DTSTART;TZID=UTC:20250618T080000
DTEND;TZID=UTC:20250618T080000
DTSTAMP:20260422T223348
CREATED:20250101T000428Z
LAST-MODIFIED:20250101T000428Z
UID:5094-1750233600-1750233600@sudburydistrictdentalsociety.ca
SUMMARY:Dr. Treleaven
DESCRIPTION:
URL:https://sudburydistrictdentalsociety.ca/oncall/dr-treleaven-52/
END:VEVENT
BEGIN:VEVENT
DTSTART;TZID=UTC:20250619T080000
DTEND;TZID=UTC:20250619T080000
DTSTAMP:20260422T223348
CREATED:20250101T000429Z
LAST-MODIFIED:20250101T000429Z
UID:5095-1750320000-1750320000@sudburydistrictdentalsociety.ca
SUMMARY:Dr. Treleaven
DESCRIPTION:
URL:https://sudburydistrictdentalsociety.ca/oncall/dr-treleaven-53/
END:VEVENT
BEGIN:VEVENT
DTSTART;TZID=UTC:20250620T090000
DTEND;TZID=UTC:20250620T090000
DTSTAMP:20260422T223348
CREATED:20250101T000443Z
LAST-MODIFIED:20250101T000443Z
UID:5096-1750410000-1750410000@sudburydistrictdentalsociety.ca
SUMMARY:Dr. Treleaven
DESCRIPTION:
URL:https://sudburydistrictdentalsociety.ca/oncall/dr-treleaven-54/
END:VEVENT
BEGIN:VEVENT
DTSTART;TZID=UTC:20250621T090000
DTEND;TZID=UTC:20250621T090000
DTSTAMP:20260422T223348
CREATED:20250101T000443Z
LAST-MODIFIED:20250101T000443Z
UID:5097-1750496400-1750496400@sudburydistrictdentalsociety.ca
SUMMARY:Dr. Treleaven
DESCRIPTION:
URL:https://sudburydistrictdentalsociety.ca/oncall/dr-treleaven-55/
END:VEVENT
BEGIN:VEVENT
DTSTART;TZID=UTC:20250622T090000
DTEND;TZID=UTC:20250622T090000
DTSTAMP:20260422T223348
CREATED:20250101T000443Z
LAST-MODIFIED:20250101T000443Z
UID:5098-1750582800-1750582800@sudburydistrictdentalsociety.ca
SUMMARY:Dr. Treleaven
DESCRIPTION:
URL:https://sudburydistrictdentalsociety.ca/oncall/dr-treleaven-56/
END:VEVENT
BEGIN:VEVENT
DTSTART;TZID=UTC:20250623T080000
DTEND;TZID=UTC:20250623T080000
DTSTAMP:20260422T223348
CREATED:20250101T000444Z
LAST-MODIFIED:20250101T000444Z
UID:5099-1750665600-1750665600@sudburydistrictdentalsociety.ca
SUMMARY:Dr. Bubnik
DESCRIPTION:
URL:https://sudburydistrictdentalsociety.ca/oncall/dr-bubnik-50/
END:VEVENT
BEGIN:VEVENT
DTSTART;TZID=UTC:20250624T080000
DTEND;TZID=UTC:20250624T080000
DTSTAMP:20260422T223348
CREATED:20250101T000444Z
LAST-MODIFIED:20250101T000444Z
UID:5100-1750752000-1750752000@sudburydistrictdentalsociety.ca
SUMMARY:Dr. Richards
DESCRIPTION:
URL:https://sudburydistrictdentalsociety.ca/oncall/dr-richards-51/
END:VEVENT
BEGIN:VEVENT
DTSTART;TZID=UTC:20250625T080000
DTEND;TZID=UTC:20250625T080000
DTSTAMP:20260422T223348
CREATED:20250101T000458Z
LAST-MODIFIED:20250101T000458Z
UID:5101-1750838400-1750838400@sudburydistrictdentalsociety.ca
SUMMARY:Dr. Trottier
DESCRIPTION:
URL:https://sudburydistrictdentalsociety.ca/oncall/dr-trottier-55/
END:VEVENT
BEGIN:VEVENT
DTSTART;TZID=UTC:20250626T080000
DTEND;TZID=UTC:20250626T080000
DTSTAMP:20260422T223348
CREATED:20250101T000458Z
LAST-MODIFIED:20250101T000458Z
UID:5102-1750924800-1750924800@sudburydistrictdentalsociety.ca
SUMMARY:Dr. Waszczylo
DESCRIPTION:
URL:https://sudburydistrictdentalsociety.ca/oncall/dr-waszczylo-42/
END:VEVENT
BEGIN:VEVENT
DTSTART;TZID=UTC:20250627T090000
DTEND;TZID=UTC:20250627T090000
DTSTAMP:20260422T223348
CREATED:20250101T000458Z
LAST-MODIFIED:20250121T202414Z
UID:5103-1751014800-1751014800@sudburydistrictdentalsociety.ca
SUMMARY:Dr. Richards
DESCRIPTION:
URL:https://sudburydistrictdentalsociety.ca/oncall/dr-clarke-49/
END:VEVENT
BEGIN:VEVENT
DTSTART;TZID=UTC:20250628T090000
DTEND;TZID=UTC:20250628T090000
DTSTAMP:20260422T223348
CREATED:20250101T000459Z
LAST-MODIFIED:20250121T202428Z
UID:5104-1751101200-1751101200@sudburydistrictdentalsociety.ca
SUMMARY:Dr. Richards
DESCRIPTION:
URL:https://sudburydistrictdentalsociety.ca/oncall/dr-clarke-50/
END:VEVENT
BEGIN:VEVENT
DTSTART;TZID=UTC:20250629T090000
DTEND;TZID=UTC:20250629T090000
DTSTAMP:20260422T223348
CREATED:20250101T000459Z
LAST-MODIFIED:20250121T202440Z
UID:5105-1751187600-1751187600@sudburydistrictdentalsociety.ca
SUMMARY:Dr. Richards
DESCRIPTION:
URL:https://sudburydistrictdentalsociety.ca/oncall/dr-clarke-51/
END:VEVENT
BEGIN:VEVENT
DTSTART;TZID=UTC:20250630T080000
DTEND;TZID=UTC:20250630T080000
DTSTAMP:20260422T223348
CREATED:20250101T000513Z
LAST-MODIFIED:20250101T000513Z
UID:5106-1751270400-1751270400@sudburydistrictdentalsociety.ca
SUMMARY:Dr. Talavia
DESCRIPTION:
URL:https://sudburydistrictdentalsociety.ca/oncall/dr-talavia/
END:VEVENT
END:VCALENDAR