BEGIN:VCALENDAR
VERSION:2.0
PRODID:-//Sudbury &amp; District Dental Society - ECPv6.15.20//NONSGML v1.0//EN
CALSCALE:GREGORIAN
METHOD:PUBLISH
X-ORIGINAL-URL:https://sudburydistrictdentalsociety.ca
X-WR-CALDESC:Events for Sudbury &amp; District Dental Society
REFRESH-INTERVAL;VALUE=DURATION:PT1H
X-Robots-Tag:noindex
X-PUBLISHED-TTL:PT1H
BEGIN:VTIMEZONE
TZID:UTC
BEGIN:STANDARD
TZOFFSETFROM:+0000
TZOFFSETTO:+0000
TZNAME:UTC
DTSTART:20250101T000000
END:STANDARD
END:VTIMEZONE
BEGIN:VEVENT
DTSTART;TZID=UTC:20260422T080000
DTEND;TZID=UTC:20260422T080000
DTSTAMP:20260422T075129
CREATED:20260114T181939Z
LAST-MODIFIED:20260114T181939Z
UID:5437-1776844800-1776844800@sudburydistrictdentalsociety.ca
SUMMARY:Dr. Gerhart
DESCRIPTION:
URL:https://sudburydistrictdentalsociety.ca/oncall/dr-gerhart-64/
END:VEVENT
BEGIN:VEVENT
DTSTART;TZID=UTC:20260423T080000
DTEND;TZID=UTC:20260423T080000
DTSTAMP:20260422T075129
CREATED:20260114T181939Z
LAST-MODIFIED:20260114T181939Z
UID:5438-1776931200-1776931200@sudburydistrictdentalsociety.ca
SUMMARY:Dr. Gerhart
DESCRIPTION:
URL:https://sudburydistrictdentalsociety.ca/oncall/dr-gerhart-65/
END:VEVENT
BEGIN:VEVENT
DTSTART;TZID=UTC:20260424T090000
DTEND;TZID=UTC:20260424T090000
DTSTAMP:20260422T075129
CREATED:20260114T181940Z
LAST-MODIFIED:20260114T181940Z
UID:5439-1777021200-1777021200@sudburydistrictdentalsociety.ca
SUMMARY:Dr. Lewis
DESCRIPTION:
URL:https://sudburydistrictdentalsociety.ca/oncall/dr-lewis-51/
END:VEVENT
BEGIN:VEVENT
DTSTART;TZID=UTC:20260425T090000
DTEND;TZID=UTC:20260425T090000
DTSTAMP:20260422T075129
CREATED:20260114T181940Z
LAST-MODIFIED:20260114T181940Z
UID:5440-1777107600-1777107600@sudburydistrictdentalsociety.ca
SUMMARY:Dr. Lewis
DESCRIPTION:
URL:https://sudburydistrictdentalsociety.ca/oncall/dr-lewis-52/
END:VEVENT
BEGIN:VEVENT
DTSTART;TZID=UTC:20260426T090000
DTEND;TZID=UTC:20260426T090000
DTSTAMP:20260422T075129
CREATED:20260114T182139Z
LAST-MODIFIED:20260114T182139Z
UID:5441-1777194000-1777194000@sudburydistrictdentalsociety.ca
SUMMARY:Dr. Lewis
DESCRIPTION:
URL:https://sudburydistrictdentalsociety.ca/oncall/dr-lewis-53/
END:VEVENT
BEGIN:VEVENT
DTSTART;TZID=UTC:20260427T080000
DTEND;TZID=UTC:20260427T080000
DTSTAMP:20260422T075129
CREATED:20260114T182140Z
LAST-MODIFIED:20260114T182140Z
UID:5442-1777276800-1777276800@sudburydistrictdentalsociety.ca
SUMMARY:Dr. Lewis
DESCRIPTION:
URL:https://sudburydistrictdentalsociety.ca/oncall/dr-lewis-54/
END:VEVENT
BEGIN:VEVENT
DTSTART;TZID=UTC:20260428T080000
DTEND;TZID=UTC:20260428T080000
DTSTAMP:20260422T075129
CREATED:20260114T182140Z
LAST-MODIFIED:20260114T182140Z
UID:5443-1777363200-1777363200@sudburydistrictdentalsociety.ca
SUMMARY:Dr. Lewis
DESCRIPTION:
URL:https://sudburydistrictdentalsociety.ca/oncall/dr-lewis-55/
END:VEVENT
BEGIN:VEVENT
DTSTART;TZID=UTC:20260429T080000
DTEND;TZID=UTC:20260429T080000
DTSTAMP:20260422T075129
CREATED:20260114T182141Z
LAST-MODIFIED:20260114T182141Z
UID:5444-1777449600-1777449600@sudburydistrictdentalsociety.ca
SUMMARY:Dr. Lewis
DESCRIPTION:
URL:https://sudburydistrictdentalsociety.ca/oncall/dr-lewis-56/
END:VEVENT
BEGIN:VEVENT
DTSTART;TZID=UTC:20260430T080000
DTEND;TZID=UTC:20260430T080000
DTSTAMP:20260422T075129
CREATED:20260114T182142Z
LAST-MODIFIED:20260114T182142Z
UID:5445-1777536000-1777536000@sudburydistrictdentalsociety.ca
SUMMARY:Dr. Lewis
DESCRIPTION:
URL:https://sudburydistrictdentalsociety.ca/oncall/dr-lewis-57/
END:VEVENT
END:VCALENDAR